PDS_VERSION_ID = PDS3
/* FILE DATA ELEMENTS */
RECORD_TYPE = UNDEFINED
/* POINTERS TO DATA OBJECTS */
^IMAGE = ("HO725_0000_GR4.TIF")
/* IDENTIFICATION DATA ELEMENTS */
DATA_SET_ID = "MEX-M-HRSC-4-REFDR-MAPPROJECT-EXT9-V4.0"
DATA_SET_NAME = "MARS EXPRESS HRSC MAP PROJECTED REFDR EXTENSION9 V4.0"
DETECTOR_ID = MEX_HRSC_GREEN
EVENT_TYPE = "MARS-TERMINATOR-CALIBRATION-Tc"
INSTRUMENT_HOST_ID = MEX
INSTRUMENT_HOST_NAME = "MARS EXPRESS"
INSTRUMENT_ID = HRSC
INSTRUMENT_NAME = "HIGH RESOLUTION STEREO CAMERA"
MISSION_NAME = "MARS EXPRESS"
MISSION_PHASE_NAME = ME_Phase_47
PROCESSING_LEVEL_ID = 4
PRODUCT_CREATION_TIME = 2023-11-15T19:58:29.000Z
PRODUCT_ID = "HO725_0000_GR4.TIF"
RELEASE_ID = 0005
REVISION_ID = 0000
/* QUALITY DATA ELEMENTS */
DATA_QUALITY_ID = 1
DATA_QUALITY_DESC = "Data calculated based on original SPICE kernels"
/* TIME DATA ELEMENTS */
SPACECRAFT_CLOCK_START_COUNT = "1/0638928622.23972"
SPACECRAFT_CLOCK_STOP_COUNT = "1/0638929098.21015"
START_TIME = 2023-08-01T00:12:26.450Z
STOP_TIME = 2023-08-01T00:16:21.453Z
/* ORBITAL DATA ELEMENTS */
ASCENDING_NODE_LONGITUDE = 114.75
MAXIMUM_RESOLUTION = 0.6806
FOOTPRINT_POINT_LATITUDE = (-35.0706,-35.0549,-33.9769,-30.2998, -24.2701,-22.0779,-18.3659,-14.754, -12.1272,-10.2532,-9.36452,-7.28213, -5.84982,-2.91486,-2.18478,0.111622, 0.00982711,0.620624,-0.215839,-0.753818 ,-1.22991,-1.33178,-1.20126,-0.847507, -0.538911,0.137065,0.795936,1.96792, 3.24252,4.85101,6.00875,7.11638,9.00271 ,11.3747,12.9926,15.204,16.8472,19.0852 ,21.0886,23.8921,26.4455,28.719,31.3217 ,35.0876,38.2887,40.5984,44.015,47.0174 ,45.8154,45.3844,41.744,41.1171,38.2835 ,35.9129,35.9173,32.3989,30.3052, 24.3762,23.2707,20.9792,18.0026,13.8007 ,12.3708,10.6641,8.50795,6.60431, 4.91791,2.97744,0.218006,-2.58897, -4.45375,-6.9569,-8.81574,-10.7337, -12.0689,-13.5721,-15.7612,-17.377, -18.7623,-20.0216,-21.7425,-23.7477, -25.1655,-27.4243,-29.0093,-30.4805, -31.4345,-32.4658,-33.5831,-35.152, -36.194,-37.2676,-37.8362,-38.3764, -38.9227,-39.1189,-39.2313,-39.1651, -38.9956,-35.0706)
FOOTPRINT_POINT_LONGITUDE = (338.413,338.417,337.94,336.251,335.638 ,334.207,333.542,332.016,331.629, 333.503,330.626,332.334,330.246,330.96, 328.378,330.881,327.413,324.686,320.584 ,317.027,311.514,307.236,303.168, 299.102,296.583,292.612,289.542,285.183 ,281.417,277.258,274.598,272.263, 268.635,264.564,262.024,258.765,256.549 ,253.677,251.188,247.894,245.038, 242.576,239.825,235.933,232.664,230.305 ,226.761,222.755,219.606,215.597, 213.756,209.114,209.705,206.878,203.535 ,201.386,199.139,195.969,195.068, 193.498,192.625,193.392,196.602,200.232 ,204.567,208.215,211.339,214.839, 219.675,224.494,227.667,231.914,235.081 ,238.402,240.696,243.32,247.225,250.185 ,252.771,255.185,258.577,262.701, 265.756,270.927,274.837,278.737,281.458 ,284.576,288.215,294.028,298.551, 304.133,307.736,311.938,317.887,321.378 ,325.386,331.995,335.54,338.413)
ORBIT_NUMBER = 24725
ORBITAL_ECCENTRICITY = 0.571
ORBITAL_INCLINATION = 87.07
ORBITAL_SEMIMAJOR_AXIS = 8808.02
PERIAPSIS_ALTITUDE = 396.6
PERIAPSIS_ARGUMENT_ANGLE = 44.83
PERIAPSIS_TIME = 2023-07-31T22:15:33.000Z
SPACECRAFT_ORIENTATION = (0.0,1.0,0.0)
^MEX_ORIENTATION_DESC = "MEX_ORIENTATION_DESC.TXT"
SPACECRAFT_POINTING_MODE = FIXED
^MEX_POINTING_DESC = "MEX_POINTING_DESC.TXT"
RIGHT_ASCENSION = -1e+32
DECLINATION = -1e+32
OFFSET_ANGLE = -1e+32
SPACECRAFT_SOLAR_DISTANCE = 2.46396e+08
TARGET_NAME = MARS
/* CAMERA DATA ELEMENTS */
DETECTOR_TEMPERATURE = 18.3705
FOCAL_PLANE_TEMPERATURE = 8.1755
INST_CMPRS_NAME = "DISCRETE COSINE TRANSFORMATION (DCT)"
INST_CMPRS_RATIO = 9.39748
INST_CMPRS_QUALITY = 0
INST_CMPRS_QUANTZ_TBL_ID = 0
INSTRUMENT_TEMPERATURE = 11.4379
LENS_TEMPERATURE = 8.9911
MACROPIXEL_SIZE = 2
MISSING_FRAMES = 1
PIXEL_SUBSAMPLING_FLAG = N
SIGNAL_CHAIN_ID = 2
/* RADIOMETRIC DATA ELEMENTS */
BANDWIDTH = 88.0
CENTER_FILTER_WAVELENGTH = 538.0
RADIANCE_OFFSET = 0.0
RADIANCE_SCALING_FACTOR = 0.0156957
REFLECTANCE_SCALING_FACTOR = 0.000820372
MEX:REFLECTANCE_OFFSET = 0.0
/* IMAGE OBJECT DEFINITIONS */
OBJECT = IMAGE
  INTERCHANGE_FORMAT = BINARY
  LINES = 5987
  LINE_SAMPLES = 7832
  SAMPLE_TYPE = UNSIGNED_INTEGER
  SAMPLE_BITS = 8
  BANDS = 1
  BAND_STORAGE_TYPE = BAND_SEQUENTIAL
  MAXIMUM = 255
  MEAN = 157.412
  MINIMUM = 43
  STANDARD_DEVIATION = 46.9814
END_OBJECT = IMAGE
/* MAP OBJECT DEFINITIONS */
OBJECT = IMAGE_MAP_PROJECTION
  ^DATA_SET_MAP_PROJECTION_CATALOG= "DSMAP.CAT"
  A_AXIS_RADIUS = 3396.0
  B_AXIS_RADIUS = 3396.0
  C_AXIS_RADIUS = 3396.0
  CENTER_LATITUDE = -7.86478
  CENTER_LONGITUDE = 263.332
  COORDINATE_SYSTEM_NAME = PLANETOGRAPHIC
  COORDINATE_SYSTEM_TYPE = "BODY-FIXED ROTATING"
  EASTERNMOST_LONGITUDE = 338.417
  FIRST_STANDARD_PARALLEL = "N/A"
  LINE_FIRST_PIXEL = 1
  LINE_LAST_PIXEL = 5987
  LINE_PROJECTION_OFFSET = 3441.75
  MAP_PROJECTION_ROTATION = 0.0
  MAP_PROJECTION_TYPE = ORTHOGRAPHIC
  MAP_RESOLUTION = 74.08922548333329
  MAP_SCALE = 0.8
  MAXIMUM_LATITUDE = 47.0174
  MINIMUM_LATITUDE = -39.2313
  POSITIVE_LONGITUDE_DIRECTION = EAST
  REFERENCE_LATITUDE = "N/A"
  REFERENCE_LONGITUDE = "N/A"
  SAMPLE_FIRST_PIXEL = 1
  SAMPLE_LAST_PIXEL = 7832
  SAMPLE_PROJECTION_OFFSET = 3926.25
  SECOND_STANDARD_PARALLEL = "N/A"
  WESTERNMOST_LONGITUDE = 192.625
END_OBJECT = IMAGE_MAP_PROJECTION
END
