PDS_VERSION_ID = PDS3
/* FILE DATA ELEMENTS */
RECORD_TYPE = UNDEFINED
/* POINTERS TO DATA OBJECTS */
^IMAGE = ("HO725_0000_BL4.TIF")
/* IDENTIFICATION DATA ELEMENTS */
DATA_SET_ID = "MEX-M-HRSC-4-REFDR-MAPPROJECT-EXT9-V4.0"
DATA_SET_NAME = "MARS EXPRESS HRSC MAP PROJECTED REFDR EXTENSION9 V4.0"
DETECTOR_ID = MEX_HRSC_BLUE
EVENT_TYPE = "MARS-TERMINATOR-CALIBRATION-Tc"
INSTRUMENT_HOST_ID = MEX
INSTRUMENT_HOST_NAME = "MARS EXPRESS"
INSTRUMENT_ID = HRSC
INSTRUMENT_NAME = "HIGH RESOLUTION STEREO CAMERA"
MISSION_NAME = "MARS EXPRESS"
MISSION_PHASE_NAME = ME_Phase_47
PROCESSING_LEVEL_ID = 4
PRODUCT_CREATION_TIME = 2023-11-15T19:58:29.000Z
PRODUCT_ID = "HO725_0000_BL4.TIF"
RELEASE_ID = 0005
REVISION_ID = 0000
/* QUALITY DATA ELEMENTS */
DATA_QUALITY_ID = 1
DATA_QUALITY_DESC = "Data calculated based on original SPICE kernels"
/* TIME DATA ELEMENTS */
SPACECRAFT_CLOCK_START_COUNT = "1/0638928622.23972"
SPACECRAFT_CLOCK_STOP_COUNT = "1/0638929098.21015"
START_TIME = 2023-08-01T00:13:12.454Z
STOP_TIME = 2023-08-01T00:17:06.459Z
/* ORBITAL DATA ELEMENTS */
ASCENDING_NODE_LONGITUDE = 114.75
MAXIMUM_RESOLUTION = 0.6831
FOOTPRINT_POINT_LATITUDE = (-34.8317,-34.8112,-33.7957,-30.0737, -25.2094,-21.7721,-20.1397,-17.8479, -13.2954,-11.2909,-8.64461,-6.11569, -3.02944,-2.39149,-1.53032,-2.19468, 0.687663,-0.0424365,-0.935464,-1.45565, -1.83703,-2.14722,-2.33234,-2.23166, -1.76233,-1.05056,-0.418909,0.17236, 1.16183,2.17112,3.63645,5.51168,6.67865 ,8.5688,11.6157,13.7341,16.1599,18.1111 ,21.4247,23.9817,27.8685,30.5229, 34.4462,37.1774,39.1991,42.1943,44.6199 ,46.687,45.4305,41.4982,42.608,39.6479, 37.4472,33.9831,30.5509,27.6753,24.5048 ,23.7805,20.9528,16.8085,12.452,10.9348 ,9.00495,7.61829,6.44714,4.42866, 2.92283,0.596861,-1.31592,-2.94231, -5.15278,-8.09829,-10.7383,-12.4468, -15.0223,-17.5141,-19.0777,-20.3086, -21.4997,-23.0077,-24.429,-25.5895, -27.0734,-28.6495,-29.6866,-30.8952, -32.0348,-33.373,-35.4569,-36.716, -37.6845,-38.5608,-39.08,-39.6903, -40.0228,-40.1083,-40.078,-39.9235, -37.492,-34.8317)
FOOTPRINT_POINT_LONGITUDE = (338.422,338.469,338.11,336.733,334.977 ,336.025,333.266,335.286,333.779, 331.081,330.325,331.343,331.044,328.162 ,330.591,328.162,329.683,326.247, 322.032,318.985,316.138,312.723,307.162 ,303.6,298.085,293.358,290.2,287.751, 284.245,281.284,277.414,273.129,270.737 ,267.187,262.136,258.936,255.624, 253.108,249.028,246.07,241.781,238.954, 234.859,232.037,229.944,226.812,224.221 ,221.874,215.47,213.984,210.981,211.179 ,205.378,204.798,200.044,197.424, 196.293,195.4,193.323,192.115,194.068, 197.402,201.418,204.169,206.426,210.196 ,212.929,217.051,220.366,223.155, 226.916,231.912,236.43,239.383,243.877, 248.361,251.266,253.591,255.903,258.908 ,261.841,264.32,267.624,271.329,273.9, 277.057,280.232,284.278,291.424,296.587 ,301.272,306.423,310.212,316.178, 321.909,325.512,330.397,334.364,338.054 ,338.422)
ORBIT_NUMBER = 24725
ORBITAL_ECCENTRICITY = 0.571
ORBITAL_INCLINATION = 87.07
ORBITAL_SEMIMAJOR_AXIS = 8808.02
PERIAPSIS_ALTITUDE = 396.6
PERIAPSIS_ARGUMENT_ANGLE = 44.83
PERIAPSIS_TIME = 2023-07-31T22:15:33.000Z
SPACECRAFT_ORIENTATION = (0.0,1.0,0.0)
^MEX_ORIENTATION_DESC = "MEX_ORIENTATION_DESC.TXT"
SPACECRAFT_POINTING_MODE = FIXED
^MEX_POINTING_DESC = "MEX_POINTING_DESC.TXT"
RIGHT_ASCENSION = -1e+32
DECLINATION = -1e+32
OFFSET_ANGLE = -1e+32
SPACECRAFT_SOLAR_DISTANCE = 2.46396e+08
TARGET_NAME = MARS
/* CAMERA DATA ELEMENTS */
DETECTOR_TEMPERATURE = 18.3705
FOCAL_PLANE_TEMPERATURE = 8.1755
INST_CMPRS_NAME = "DISCRETE COSINE TRANSFORMATION (DCT)"
INST_CMPRS_RATIO = 9.69923
INST_CMPRS_QUALITY = 0
INST_CMPRS_QUANTZ_TBL_ID = 0
INSTRUMENT_TEMPERATURE = 11.4379
LENS_TEMPERATURE = 8.9911
MACROPIXEL_SIZE = 2
MISSING_FRAMES = 0
PIXEL_SUBSAMPLING_FLAG = N
SIGNAL_CHAIN_ID = 2
/* RADIOMETRIC DATA ELEMENTS */
BANDWIDTH = 76.0
CENTER_FILTER_WAVELENGTH = 444.0
RADIANCE_OFFSET = 0.0
RADIANCE_SCALING_FACTOR = 0.00904451
REFLECTANCE_SCALING_FACTOR = 0.000564132
MEX:REFLECTANCE_OFFSET = 0.0
/* IMAGE OBJECT DEFINITIONS */
OBJECT = IMAGE
  INTERCHANGE_FORMAT = BINARY
  LINES = 5987
  LINE_SAMPLES = 7832
  SAMPLE_TYPE = UNSIGNED_INTEGER
  SAMPLE_BITS = 8
  BANDS = 1
  BAND_STORAGE_TYPE = BAND_SEQUENTIAL
  MAXIMUM = 255
  MEAN = 137.408
  MINIMUM = 37
  STANDARD_DEVIATION = 45.8279
END_OBJECT = IMAGE
/* MAP OBJECT DEFINITIONS */
OBJECT = IMAGE_MAP_PROJECTION
  ^DATA_SET_MAP_PROJECTION_CATALOG= "DSMAP.CAT"
  A_AXIS_RADIUS = 3396.0
  B_AXIS_RADIUS = 3396.0
  C_AXIS_RADIUS = 3396.0
  CENTER_LATITUDE = -7.86478
  CENTER_LONGITUDE = 263.332
  COORDINATE_SYSTEM_NAME = PLANETOGRAPHIC
  COORDINATE_SYSTEM_TYPE = "BODY-FIXED ROTATING"
  EASTERNMOST_LONGITUDE = 338.469
  FIRST_STANDARD_PARALLEL = "N/A"
  LINE_FIRST_PIXEL = 1
  LINE_LAST_PIXEL = 5987
  LINE_PROJECTION_OFFSET = 3441.75
  MAP_PROJECTION_ROTATION = 0.0
  MAP_PROJECTION_TYPE = ORTHOGRAPHIC
  MAP_RESOLUTION = 74.08922548333329
  MAP_SCALE = 0.8
  MAXIMUM_LATITUDE = 46.687
  MINIMUM_LATITUDE = -40.1083
  POSITIVE_LONGITUDE_DIRECTION = EAST
  REFERENCE_LATITUDE = "N/A"
  REFERENCE_LONGITUDE = "N/A"
  SAMPLE_FIRST_PIXEL = 1
  SAMPLE_LAST_PIXEL = 7832
  SAMPLE_PROJECTION_OFFSET = 3926.25
  SECOND_STANDARD_PARALLEL = "N/A"
  WESTERNMOST_LONGITUDE = 192.115
END_OBJECT = IMAGE_MAP_PROJECTION
END
