PDS_VERSION_ID = PDS3
/* FILE DATA ELEMENTS */
RECORD_TYPE = UNDEFINED
/* POINTERS TO DATA OBJECTS */
^IMAGE = ("HO700_0000_BL4.TIF")
/* IDENTIFICATION DATA ELEMENTS */
DATA_SET_ID = "MEX-M-HRSC-4-REFDR-MAPPROJECT-EXT9-V4.0"
DATA_SET_NAME = "MARS EXPRESS HRSC MAP PROJECTED REFDR EXTENSION9 V4.0"
DETECTOR_ID = MEX_HRSC_BLUE
EVENT_TYPE = "MARS-TERMINATOR-CALIBRATION-Tc"
INSTRUMENT_HOST_ID = MEX
INSTRUMENT_HOST_NAME = "MARS EXPRESS"
INSTRUMENT_ID = HRSC
INSTRUMENT_NAME = "HIGH RESOLUTION STEREO CAMERA"
MISSION_NAME = "MARS EXPRESS"
MISSION_PHASE_NAME = ME_Phase_47
PROCESSING_LEVEL_ID = 4
PRODUCT_CREATION_TIME = 2023-11-15T19:58:29.000Z
PRODUCT_ID = "HO700_0000_BL4.TIF"
RELEASE_ID = 0005
REVISION_ID = 0000
/* QUALITY DATA ELEMENTS */
DATA_QUALITY_ID = 1
DATA_QUALITY_DESC = "Data calculated based on original SPICE kernels"
/* TIME DATA ELEMENTS */
SPACECRAFT_CLOCK_START_COUNT = "1/0638280665.24874"
SPACECRAFT_CLOCK_STOP_COUNT = "1/0638281082.21704"
START_TIME = 2023-07-24T12:13:52.819Z
STOP_TIME = 2023-07-24T12:17:11.545Z
/* ORBITAL DATA ELEMENTS */
ASCENDING_NODE_LONGITUDE = 115.19
MAXIMUM_RESOLUTION = 0.836
FOOTPRINT_POINT_LATITUDE = (-30.4664,-31.8574,-30.2986,-27.7204, -24.0358,-19.7133,-18.5137,-16.6623, -14.6335,-13.0826,-17.1403,-20.2214, -22.463,-24.2533,-25.7847,-28.1415, -30.0266,-31.6291,-32.9504,-34.0669, -35.0165,-36.4997,-37.5377,-38.1592, -38.451,-38.4519,-38.186,-37.6659, -36.9133,-35.9142,-34.6855,-33.2048, -31.4618,-29.4231,-27.0417,-24.2263, -20.8719,-18.9212,-16.7332,-14.1959, -11.2358,-7.47054,-5.26313,-2.20651, 1.98772,8.32793,3.54248,2.32859, -2.12005,-4.49771,-5.63769,-5.93599, -4.95671,-5.77178,-9.40276,-12.9091, -15.4823,-17.5594,-17.8171,-21.144, -21.2599,-25.9589,-29.9426,-32.6907, -34.9781,-38.7634,-41.9083,-44.6592, -47.1698,-49.4405,-53.5813,-57.3154, -60.7244,-63.8697,-66.7881,-69.4837, -71.9322,-74.0554,-75.73,-76.7856, -76.9619,-76.1613,-74.3739,-71.6525, -69.946,-68.0027,-65.7806,-63.2158, -60.2153,-56.5044,-54.1856,-51.3776, -47.5054,-42.6354,-41.5762,-38.4965, -37.8666,-34.2874,-31.1074,-30.4664)
FOOTPRINT_POINT_LONGITUDE = (474.062,465.675,461.805,459.145, 457.714,458.157,458.669,459.536,454.461 ,450.83,445.571,442.137,439.387,437.0, 434.807,431.006,427.54,424.233,421.118, 418.127,415.228,409.654,404.301,399.203 ,394.28,389.51,384.881,380.385,376.007, 371.74,367.57,363.482,359.458,355.471, 351.484,347.438,343.265,341.089,338.82, 336.392,333.764,330.71,329.009,326.818, 323.959,318.278,314.776,312.319,312.187 ,309.567,306.562,302.875,301.546, 301.977,297.314,294.246,292.093,290.062 ,286.369,286.564,283.226,285.906, 289.308,291.622,293.562,296.825,299.6, 302.1,304.507,306.725,311.129,315.677, 320.483,325.7,331.577,338.435,346.672, 356.831,369.414,384.621,401.647,418.753 ,434.248,447.445,453.246,458.553, 463.577,468.425,473.183,478.204,481.007 ,484.114,488.037,490.955,487.82,486.774 ,482.006,480.29,476.244,474.062)
ORBIT_NUMBER = 24700
ORBITAL_ECCENTRICITY = 0.57
ORBITAL_INCLINATION = 87.07
ORBITAL_SEMIMAJOR_AXIS = 8795.46
PERIAPSIS_ALTITUDE = 399.01
PERIAPSIS_ARGUMENT_ANGLE = 49.14
PERIAPSIS_TIME = 2023-07-24T15:38:42.000Z
SPACECRAFT_ORIENTATION = (0.0,-1.0,0.0)
^MEX_ORIENTATION_DESC = "MEX_ORIENTATION_DESC.TXT"
SPACECRAFT_POINTING_MODE = FIXED
^MEX_POINTING_DESC = "MEX_POINTING_DESC.TXT"
RIGHT_ASCENSION = -1e+32
DECLINATION = -1e+32
OFFSET_ANGLE = -1e+32
SPACECRAFT_SOLAR_DISTANCE = 2.47012e+08
TARGET_NAME = MARS
/* CAMERA DATA ELEMENTS */
DETECTOR_TEMPERATURE = 18.5744
FOCAL_PLANE_TEMPERATURE = 9.3989
INST_CMPRS_NAME = "DISCRETE COSINE TRANSFORMATION (DCT)"
INST_CMPRS_RATIO = 6.40771
INST_CMPRS_QUALITY = 0
INST_CMPRS_QUANTZ_TBL_ID = 0
INSTRUMENT_TEMPERATURE = 12.0496
LENS_TEMPERATURE = 9.8067
MACROPIXEL_SIZE = 2
MISSING_FRAMES = 0
PIXEL_SUBSAMPLING_FLAG = N
SIGNAL_CHAIN_ID = 2
/* RADIOMETRIC DATA ELEMENTS */
BANDWIDTH = 76.0
CENTER_FILTER_WAVELENGTH = 444.0
RADIANCE_OFFSET = 0.0
RADIANCE_SCALING_FACTOR = 0.00299325
REFLECTANCE_SCALING_FACTOR = 0.000187661
MEX:REFLECTANCE_OFFSET = 0.0
/* IMAGE OBJECT DEFINITIONS */
OBJECT = IMAGE
  INTERCHANGE_FORMAT = BINARY
  LINES = 5622
  LINE_SAMPLES = 8131
  SAMPLE_TYPE = UNSIGNED_INTEGER
  SAMPLE_BITS = 8
  BANDS = 1
  BAND_STORAGE_TYPE = BAND_SEQUENTIAL
  MAXIMUM = 255
  MEAN = 91.4472
  MINIMUM = 1
  STANDARD_DEVIATION = 91.0061
END_OBJECT = IMAGE
/* MAP OBJECT DEFINITIONS */
OBJECT = IMAGE_MAP_PROJECTION
  ^DATA_SET_MAP_PROJECTION_CATALOG= "DSMAP.CAT"
  A_AXIS_RADIUS = 3396.0
  B_AXIS_RADIUS = 3396.0
  C_AXIS_RADIUS = 3396.0
  CENTER_LATITUDE = -54.4507
  CENTER_LONGITUDE = 10.2598
  COORDINATE_SYSTEM_NAME = PLANETOGRAPHIC
  COORDINATE_SYSTEM_TYPE = "BODY-FIXED ROTATING"
  EASTERNMOST_LONGITUDE = 130.955
  FIRST_STANDARD_PARALLEL = "N/A"
  LINE_FIRST_PIXEL = 1
  LINE_LAST_PIXEL = 5622
  LINE_PROJECTION_OFFSET = 2579.75
  MAP_PROJECTION_ROTATION = 0.0
  MAP_PROJECTION_TYPE = ORTHOGRAPHIC
  MAP_RESOLUTION = 74.08922548333329
  MAP_SCALE = 0.8
  MAXIMUM_LATITUDE = 8.32793
  MINIMUM_LATITUDE = -76.9619
  POSITIVE_LONGITUDE_DIRECTION = EAST
  REFERENCE_LATITUDE = "N/A"
  REFERENCE_LONGITUDE = "N/A"
  SAMPLE_FIRST_PIXEL = 1
  SAMPLE_LAST_PIXEL = 8131
  SAMPLE_PROJECTION_OFFSET = 3990.25
  SECOND_STANDARD_PARALLEL = "N/A"
  WESTERNMOST_LONGITUDE = -76.774
END_OBJECT = IMAGE_MAP_PROJECTION
END
