PDS_VERSION_ID = PDS3
/* FILE DATA ELEMENTS */
RECORD_TYPE = UNDEFINED
/* POINTERS TO DATA OBJECTS */
^IMAGE = ("HO688_0000_IR4.TIF")
/* IDENTIFICATION DATA ELEMENTS */
DATA_SET_ID = "MEX-M-HRSC-4-REFDR-MAPPROJECT-EXT9-V4.0"
DATA_SET_NAME = "MARS EXPRESS HRSC MAP PROJECTED REFDR EXTENSION9 V4.0"
DETECTOR_ID = MEX_HRSC_IR
EVENT_TYPE = "MARS-TERMINATOR-CALIBRATION-Tc"
INSTRUMENT_HOST_ID = MEX
INSTRUMENT_HOST_NAME = "MARS EXPRESS"
INSTRUMENT_ID = HRSC
INSTRUMENT_NAME = "HIGH RESOLUTION STEREO CAMERA"
MISSION_NAME = "MARS EXPRESS"
MISSION_PHASE_NAME = ME_Phase_47
PROCESSING_LEVEL_ID = 4
PRODUCT_CREATION_TIME = 2023-11-15T19:58:29.000Z
PRODUCT_ID = "HO688_0000_IR4.TIF"
RELEASE_ID = 0005
REVISION_ID = 0000
/* QUALITY DATA ELEMENTS */
DATA_QUALITY_ID = 1
DATA_QUALITY_DESC = "Data calculated based on original SPICE kernels"
/* TIME DATA ELEMENTS */
SPACECRAFT_CLOCK_START_COUNT = "1/0637980003.25679"
SPACECRAFT_CLOCK_STOP_COUNT = "1/0637980421.06244"
START_TIME = 2023-07-21T00:40:39.491Z
STOP_TIME = 2023-07-21T00:43:58.511Z
/* ORBITAL DATA ELEMENTS */
ASCENDING_NODE_LONGITUDE = 115.4
MAXIMUM_RESOLUTION = 0.8309
FOOTPRINT_POINT_LATITUDE = (-26.6905,-30.036,-30.5999,-29.5249, -27.438,-24.3035,-20.8094,-17.9903, -16.1396,-17.3279,-13.8223,-12.8568, -11.1207,-9.72607,-7.67535,-3.88834, -6.88598,-11.704,-14.6159,-16.6707, -20.0037,-22.4404,-24.4452,-26.0907, -27.4818,-28.6408,-30.4722,-31.7747, -32.6144,-33.0843,-33.2218,-33.0401, -32.5551,-31.7499,-30.6528,-29.2226, -27.4349,-25.252,-22.5485,-19.1719, -17.1668,-14.8381,-12.075,-8.67208, -3.93448,-0.51587,5.71154,8.07166, 3.5847,5.09704,2.51048,0.591317, 0.202181,-1.35394,-4.51827,-7.11695, -9.97208,-12.5673,-14.2013,-14.8801, -14.178,-12.8601,-11.9384,-12.034, -15.0964,-21.4836,-25.3239,-28.192, -32.6408,-36.2,-39.2551,-41.9546, -44.4043,-46.6496,-50.6469,-54.1348, -57.2504,-60.0415,-62.5324,-64.7244, -66.5972,-68.1082,-69.2004,-69.8225, -69.9038,-69.4159,-68.3311,-66.6476, -64.3615,-61.4397,-57.7763,-55.5953, -53.1168,-50.2225,-46.7699,-42.2817, -39.2784,-35.2235,-29.0499,-26.6905)
FOOTPRINT_POINT_LONGITUDE = (260.291,255.427,250.234,246.394, 243.457,241.431,240.81,241.273,242.07, 241.018,236.921,233.16,230.465,228.038, 223.67,223.222,219.459,215.768,213.205, 211.15,207.451,204.246,201.248,198.423, 195.707,193.093,188.043,183.171,178.451 ,173.838,169.319,164.892,160.55,156.287 ,152.094,147.96,143.867,139.795,135.693 ,131.493,129.327,127.073,124.685, 122.077,118.971,117.007,113.906,110.702 ,109.549,106.189,103.829,100.732, 95.8976,95.7521,96.0608,95.6122,94.3814 ,92.0416,89.0928,84.9898,81.4669, 79.0599,77.9407,77.8164,74.035,77.248, 79.8746,81.8895,85.1467,87.9156,90.4544 ,92.8534,95.1948,97.5062,102.11,106.805 ,111.807,117.233,123.217,129.895, 137.401,145.829,155.173,165.302,175.917 ,186.638,197.033,206.792,215.775, 224.022,231.708,235.429,239.124,242.911 ,246.858,251.347,254.051,257.405, 259.133,260.291)
ORBIT_NUMBER = 24688
ORBITAL_ECCENTRICITY = 0.57
ORBITAL_INCLINATION = 87.08
ORBITAL_SEMIMAJOR_AXIS = 8791.48
PERIAPSIS_ALTITUDE = 399.38
PERIAPSIS_ARGUMENT_ANGLE = 51.2
PERIAPSIS_TIME = 2023-07-21T03:49:50.000Z
SPACECRAFT_ORIENTATION = (0.0,-1.0,0.0)
^MEX_ORIENTATION_DESC = "MEX_ORIENTATION_DESC.TXT"
SPACECRAFT_POINTING_MODE = FIXED
^MEX_POINTING_DESC = "MEX_POINTING_DESC.TXT"
RIGHT_ASCENSION = -1e+32
DECLINATION = -1e+32
OFFSET_ANGLE = -1e+32
SPACECRAFT_SOLAR_DISTANCE = 2.47281e+08
TARGET_NAME = MARS
/* CAMERA DATA ELEMENTS */
DETECTOR_TEMPERATURE = 17.5549
FOCAL_PLANE_TEMPERATURE = 9.3989
INST_CMPRS_NAME = "DISCRETE COSINE TRANSFORMATION (DCT)"
INST_CMPRS_RATIO = 4.44514
INST_CMPRS_QUALITY = 0
INST_CMPRS_QUANTZ_TBL_ID = 0
INSTRUMENT_TEMPERATURE = 11.4379
LENS_TEMPERATURE = 9.6028
MACROPIXEL_SIZE = 2
MISSING_FRAMES = 0
PIXEL_SUBSAMPLING_FLAG = N
SIGNAL_CHAIN_ID = 3
/* RADIOMETRIC DATA ELEMENTS */
BANDWIDTH = 81.0
CENTER_FILTER_WAVELENGTH = 955.5
RADIANCE_OFFSET = 0.0
RADIANCE_SCALING_FACTOR = 0.00332726
REFLECTANCE_SCALING_FACTOR = 0.000438968
MEX:REFLECTANCE_OFFSET = 0.0
/* IMAGE OBJECT DEFINITIONS */
OBJECT = IMAGE
  INTERCHANGE_FORMAT = BINARY
  LINES = 4886
  LINE_SAMPLES = 8034
  SAMPLE_TYPE = UNSIGNED_INTEGER
  SAMPLE_BITS = 8
  BANDS = 1
  BAND_STORAGE_TYPE = BAND_SEQUENTIAL
  MAXIMUM = 255
  MEAN = 113.01
  MINIMUM = 1
  STANDARD_DEVIATION = 88.1236
END_OBJECT = IMAGE
/* MAP OBJECT DEFINITIONS */
OBJECT = IMAGE_MAP_PROJECTION
  ^DATA_SET_MAP_PROJECTION_CATALOG= "DSMAP.CAT"
  A_AXIS_RADIUS = 3396.0
  B_AXIS_RADIUS = 3396.0
  C_AXIS_RADIUS = 3396.0
  CENTER_LATITUDE = -53.4421
  CENTER_LONGITUDE = 156.884
  COORDINATE_SYSTEM_NAME = PLANETOGRAPHIC
  COORDINATE_SYSTEM_TYPE = "BODY-FIXED ROTATING"
  EASTERNMOST_LONGITUDE = 260.291
  FIRST_STANDARD_PARALLEL = "N/A"
  LINE_FIRST_PIXEL = 1
  LINE_LAST_PIXEL = 4886
  LINE_PROJECTION_OFFSET = 2705.75
  MAP_PROJECTION_ROTATION = 0.0
  MAP_PROJECTION_TYPE = ORTHOGRAPHIC
  MAP_RESOLUTION = 74.08922548333329
  MAP_SCALE = 0.8
  MAXIMUM_LATITUDE = 8.07166
  MINIMUM_LATITUDE = -69.9038
  POSITIVE_LONGITUDE_DIRECTION = EAST
  REFERENCE_LATITUDE = "N/A"
  REFERENCE_LONGITUDE = "N/A"
  SAMPLE_FIRST_PIXEL = 1
  SAMPLE_LAST_PIXEL = 8034
  SAMPLE_PROJECTION_OFFSET = 4092.75
  SECOND_STANDARD_PARALLEL = "N/A"
  WESTERNMOST_LONGITUDE = 74.035
END_OBJECT = IMAGE_MAP_PROJECTION
END
