PDS_VERSION_ID = PDS3
/* FILE DATA ELEMENTS */
RECORD_TYPE = UNDEFINED
/* POINTERS TO DATA OBJECTS */
^IMAGE = ("HO688_0000_BL4.TIF")
/* IDENTIFICATION DATA ELEMENTS */
DATA_SET_ID = "MEX-M-HRSC-4-REFDR-MAPPROJECT-EXT9-V4.0"
DATA_SET_NAME = "MARS EXPRESS HRSC MAP PROJECTED REFDR EXTENSION9 V4.0"
DETECTOR_ID = MEX_HRSC_BLUE
EVENT_TYPE = "MARS-TERMINATOR-CALIBRATION-Tc"
INSTRUMENT_HOST_ID = MEX
INSTRUMENT_HOST_NAME = "MARS EXPRESS"
INSTRUMENT_ID = HRSC
INSTRUMENT_NAME = "HIGH RESOLUTION STEREO CAMERA"
MISSION_NAME = "MARS EXPRESS"
MISSION_PHASE_NAME = ME_Phase_47
PROCESSING_LEVEL_ID = 4
PRODUCT_CREATION_TIME = 2023-11-15T19:58:29.000Z
PRODUCT_ID = "HO688_0000_BL4.TIF"
RELEASE_ID = 0005
REVISION_ID = 0000
/* QUALITY DATA ELEMENTS */
DATA_QUALITY_ID = 1
DATA_QUALITY_DESC = "Data calculated based on original SPICE kernels"
/* TIME DATA ELEMENTS */
SPACECRAFT_CLOCK_START_COUNT = "1/0637980003.25679"
SPACECRAFT_CLOCK_STOP_COUNT = "1/0637980421.06244"
START_TIME = 2023-07-21T00:42:49.635Z
STOP_TIME = 2023-07-21T00:46:10.405Z
/* ORBITAL DATA ELEMENTS */
ASCENDING_NODE_LONGITUDE = 115.4
MAXIMUM_RESOLUTION = 0.8261
FOOTPRINT_POINT_LATITUDE = (-26.7041,-28.3609,-28.2061,-26.4211, -23.2336,-18.9137,-17.3564,-16.6794, -15.359,-12.7959,-11.2749,-9.89534, -9.49006,-7.69523,-11.8609,-15.1032, -17.4709,-19.3731,-22.37,-24.7302, -26.6659,-28.2654,-29.6267,-30.7858, -31.7641,-33.3101,-34.3753,-35.0451, -35.3711,-35.3722,-35.0495,-34.4486, -33.5244,-32.297,-30.7205,-28.82, -26.4859,-23.5906,-21.9163,-19.9993, -17.8566,-15.3296,-12.3028,-8.52232, -6.01878,-2.86664,1.99611,5.69917, 2.7007,1.72587,0.542055,1.21379, -2.12494,-6.7629,-9.11115,-11.4963, -11.8986,-10.7314,-10.0696,-10.234, -14.1665,-14.6754,-21.0799,-25.7804, -28.9267,-31.4928,-33.6554,-37.4364, -40.6388,-43.442,-45.9812,-48.3417, -50.5063,-54.3897,-57.8537,-60.9821, -63.8059,-66.3396,-68.5631,-70.4364, -71.8717,-72.7955,-73.1038,-72.7397, -71.6786,-69.9434,-67.5699,-64.5555, -62.7928,-60.8289,-58.6537,-56.1892, -53.4011,-50.1443,-46.0794,-43.5522, -40.5031,-36.0492,-30.9688,-26.7041)
FOOTPRINT_POINT_LONGITUDE = (256.737,253.121,248.451,245.106, 242.907,242.687,243.235,242.95,237.098, 233.782,230.824,228.29,225.631,221.463, 217.813,215.087,212.865,210.906,207.425 ,204.266,201.308,198.504,195.796, 193.165,190.602,185.604,180.751,176.006 ,171.352,166.789,162.319,157.93,153.624 ,149.392,145.219,141.1,136.998,132.856, 130.76,128.611,126.413,124.103,121.632, 118.895,117.293,115.434,112.881,109.523 ,107.668,104.941,101.848,97.3297, 91.9061,91.9955,90.8361,87.1605,84.3045 ,80.9637,80.0249,79.9375,75.4882,70.32, 72.2747,75.38,77.492,79.2578,80.7726, 83.557,86.0611,88.3878,90.6458,92.9271, 95.169,99.6472,104.375,109.545,115.3, 121.811,129.369,138.136,148.286,159.722 ,172.079,184.696,196.809,207.854, 217.663,226.357,230.341,234.172,237.829 ,241.454,245.023,248.679,252.706, 254.975,257.518,260.978,261.535, 256.737)
ORBIT_NUMBER = 24688
ORBITAL_ECCENTRICITY = 0.57
ORBITAL_INCLINATION = 87.08
ORBITAL_SEMIMAJOR_AXIS = 8791.48
PERIAPSIS_ALTITUDE = 399.38
PERIAPSIS_ARGUMENT_ANGLE = 51.2
PERIAPSIS_TIME = 2023-07-21T03:49:50.000Z
SPACECRAFT_ORIENTATION = (0.0,-1.0,0.0)
^MEX_ORIENTATION_DESC = "MEX_ORIENTATION_DESC.TXT"
SPACECRAFT_POINTING_MODE = FIXED
^MEX_POINTING_DESC = "MEX_POINTING_DESC.TXT"
RIGHT_ASCENSION = -1e+32
DECLINATION = -1e+32
OFFSET_ANGLE = -1e+32
SPACECRAFT_SOLAR_DISTANCE = 2.47281e+08
TARGET_NAME = MARS
/* CAMERA DATA ELEMENTS */
DETECTOR_TEMPERATURE = 18.3705
FOCAL_PLANE_TEMPERATURE = 9.3989
INST_CMPRS_NAME = "DISCRETE COSINE TRANSFORMATION (DCT)"
INST_CMPRS_RATIO = 5.69428
INST_CMPRS_QUALITY = 0
INST_CMPRS_QUANTZ_TBL_ID = 0
INSTRUMENT_TEMPERATURE = 11.4379
LENS_TEMPERATURE = 9.6028
MACROPIXEL_SIZE = 2
MISSING_FRAMES = 0
PIXEL_SUBSAMPLING_FLAG = N
SIGNAL_CHAIN_ID = 2
/* RADIOMETRIC DATA ELEMENTS */
BANDWIDTH = 76.0
CENTER_FILTER_WAVELENGTH = 444.0
RADIANCE_OFFSET = 0.0
RADIANCE_SCALING_FACTOR = 0.00389161
REFLECTANCE_SCALING_FACTOR = 0.000244514
MEX:REFLECTANCE_OFFSET = 0.0
/* IMAGE OBJECT DEFINITIONS */
OBJECT = IMAGE
  INTERCHANGE_FORMAT = BINARY
  LINES = 4886
  LINE_SAMPLES = 8034
  SAMPLE_TYPE = UNSIGNED_INTEGER
  SAMPLE_BITS = 8
  BANDS = 1
  BAND_STORAGE_TYPE = BAND_SEQUENTIAL
  MAXIMUM = 255
  MEAN = 86.8094
  MINIMUM = 1
  STANDARD_DEVIATION = 72.3316
END_OBJECT = IMAGE
/* MAP OBJECT DEFINITIONS */
OBJECT = IMAGE_MAP_PROJECTION
  ^DATA_SET_MAP_PROJECTION_CATALOG= "DSMAP.CAT"
  A_AXIS_RADIUS = 3396.0
  B_AXIS_RADIUS = 3396.0
  C_AXIS_RADIUS = 3396.0
  CENTER_LATITUDE = -53.4421
  CENTER_LONGITUDE = 156.884
  COORDINATE_SYSTEM_NAME = PLANETOGRAPHIC
  COORDINATE_SYSTEM_TYPE = "BODY-FIXED ROTATING"
  EASTERNMOST_LONGITUDE = 261.535
  FIRST_STANDARD_PARALLEL = "N/A"
  LINE_FIRST_PIXEL = 1
  LINE_LAST_PIXEL = 4886
  LINE_PROJECTION_OFFSET = 2705.75
  MAP_PROJECTION_ROTATION = 0.0
  MAP_PROJECTION_TYPE = ORTHOGRAPHIC
  MAP_RESOLUTION = 74.08922548333329
  MAP_SCALE = 0.8
  MAXIMUM_LATITUDE = 5.69917
  MINIMUM_LATITUDE = -73.10380000000001
  POSITIVE_LONGITUDE_DIRECTION = EAST
  REFERENCE_LATITUDE = "N/A"
  REFERENCE_LONGITUDE = "N/A"
  SAMPLE_FIRST_PIXEL = 1
  SAMPLE_LAST_PIXEL = 8034
  SAMPLE_PROJECTION_OFFSET = 4092.75
  SECOND_STANDARD_PARALLEL = "N/A"
  WESTERNMOST_LONGITUDE = 70.31999999999999
END_OBJECT = IMAGE_MAP_PROJECTION
END
