PDS_VERSION_ID = PDS3
/* FILE DATA ELEMENTS */
RECORD_TYPE = UNDEFINED
/* POINTERS TO DATA OBJECTS */
^IMAGE = ("HO656_0000_RE4.TIF")
/* IDENTIFICATION DATA ELEMENTS */
DATA_SET_ID = "MEX-M-HRSC-4-REFDR-MAPPROJECT-EXT9-V4.0"
DATA_SET_NAME = "MARS EXPRESS HRSC MAP PROJECTED REFDR EXTENSION9 V4.0"
DETECTOR_ID = MEX_HRSC_RED
EVENT_TYPE = "MARS-TERMINATOR-CALIBRATION-Tc"
INSTRUMENT_HOST_ID = MEX
INSTRUMENT_HOST_NAME = "MARS EXPRESS"
INSTRUMENT_ID = HRSC
INSTRUMENT_NAME = "HIGH RESOLUTION STEREO CAMERA"
MISSION_NAME = "MARS EXPRESS"
MISSION_PHASE_NAME = ME_Phase_47
PROCESSING_LEVEL_ID = 4
PRODUCT_CREATION_TIME = 2023-11-15T19:58:29.000Z
PRODUCT_ID = "HO656_0000_RE4.TIF"
RELEASE_ID = 0005
REVISION_ID = 0000
/* QUALITY DATA ELEMENTS */
DATA_QUALITY_ID = 1
DATA_QUALITY_DESC = "Data calculated based on original SPICE kernels"
/* TIME DATA ELEMENTS */
SPACECRAFT_CLOCK_START_COUNT = "1/0637193753.24912"
SPACECRAFT_CLOCK_STOP_COUNT = "1/0637194205.24048"
START_TIME = 2023-07-11T22:20:07.471Z
STOP_TIME = 2023-07-11T22:23:59.354Z
/* ORBITAL DATA ELEMENTS */
ASCENDING_NODE_LONGITUDE = 115.97
MAXIMUM_RESOLUTION = 0.6957
FOOTPRINT_POINT_LATITUDE = (-23.8014,-25.0092,-25.6329,-26.894, -28.3293,-29.5649,-30.4737,-31.1856, -32.2639,-32.9985,-33.8862,-34.5956, -34.8582,-34.9501,-34.9459,-34.6496, -34.3908,-33.9902,-33.5734,-33.0328, -32.37,-31.13,-29.2204,-27.2645, -25.9307,-23.9938,-22.1618,-20.2105, -18.7903,-16.1926,-14.3765,-11.5285, -9.4402,-6.79731,-4.99126,-2.52925, -0.700773,0.681225,1.73695,1.78777, 0.939916,-3.201,-7.23536,-9.1726, -11.9319,-14.2491,-18.4836,-21.9074, -23.4248,-27.0326,-26.002,-27.3853, -29.6408,-30.7915,-30.8157,-32.1696, -32.0586,-35.9451,-35.2634,-38.066, -39.7264,-42.5075,-46.4292,-48.2541, -50.7301,-54.3635,-56.729,-58.1853, -60.0372,-62.151,-63.6821,-65.1052, -66.9612,-68.4362,-70.0456,-70.7895, -71.6204,-71.8804,-71.6835,-71.2365, -70.1526,-68.0122,-65.0282,-62.4834, -62.9962,-59.8731,-59.4799,-58.2961, -55.0128,-51.8416,-51.468,-49.9101, -47.0346,-44.0755,-39.5004,-36.3835, -32.8788,-30.6458,-26.3103,-23.8014)
FOOTPRINT_POINT_LONGITUDE = (188.742,185.756,184.141,180.688, 176.405,172.32,168.994,166.139,161.224, 157.27,151.288,144.222,139.657,136.541, 131.338,124.713,121.534,117.827,114.735 ,111.367,107.851,102.367,95.5343,89.727 ,86.2128,81.5766,77.5685,73.6135, 70.8918,66.1881,63.0622,58.3627,55.0335 ,50.9104,48.1305,44.359,41.5554,39.4258 ,36.2903,35.9292,35.4142,32.596,31.7999 ,29.9877,29.954,28.6568,24.7639,25.2469 ,21.4318,22.9429,19.5825,22.6988, 18.7003,21.4121,17.3983,20.6663,17.4034 ,18.6836,14.9528,17.8991,21.973,28.4977 ,37.2385,41.3639,46.8915,55.5228, 61.6544,65.5946,70.8779,77.5552,82.9574 ,88.4747,96.9963,105.257,116.825, 124.271,137.209,148.796,162.406,171.138 ,183.539,198.57,211.419,214.65,208.457, 211.299,205.092,209.578,202.444,204.208 ,200.152,203.304,198.223,197.336,197.01 ,193.344,193.308,190.458,189.567, 188.742)
ORBIT_NUMBER = 24656
ORBITAL_ECCENTRICITY = 0.569
ORBITAL_INCLINATION = 87.08
ORBITAL_SEMIMAJOR_AXIS = 8780.61
PERIAPSIS_ALTITUDE = 402.67
PERIAPSIS_ARGUMENT_ANGLE = 56.67
PERIAPSIS_TIME = 2023-07-11T20:19:25.000Z
SPACECRAFT_ORIENTATION = (0.0,-1.0,0.0)
^MEX_ORIENTATION_DESC = "MEX_ORIENTATION_DESC.TXT"
SPACECRAFT_POINTING_MODE = FIXED
^MEX_POINTING_DESC = "MEX_POINTING_DESC.TXT"
RIGHT_ASCENSION = -1e+32
DECLINATION = -1e+32
OFFSET_ANGLE = -1e+32
SPACECRAFT_SOLAR_DISTANCE = 2.47917e+08
TARGET_NAME = MARS
/* CAMERA DATA ELEMENTS */
DETECTOR_TEMPERATURE = 18.9822
FOCAL_PLANE_TEMPERATURE = 8.5833
INST_CMPRS_NAME = "DISCRETE COSINE TRANSFORMATION (DCT)"
INST_CMPRS_RATIO = 8.39303
INST_CMPRS_QUALITY = 0
INST_CMPRS_QUANTZ_TBL_ID = 0
INSTRUMENT_TEMPERATURE = 11.4379
LENS_TEMPERATURE = 8.7872
MACROPIXEL_SIZE = 2
MISSING_FRAMES = 0
PIXEL_SUBSAMPLING_FLAG = N
SIGNAL_CHAIN_ID = 3
/* RADIOMETRIC DATA ELEMENTS */
BANDWIDTH = 48.0
CENTER_FILTER_WAVELENGTH = 748.0
RADIANCE_OFFSET = 0.0
RADIANCE_SCALING_FACTOR = 0.00644523
REFLECTANCE_SCALING_FACTOR = 0.000903984
MEX:REFLECTANCE_OFFSET = 0.0
/* IMAGE OBJECT DEFINITIONS */
OBJECT = IMAGE
  INTERCHANGE_FORMAT = BINARY
  LINES = 5050
  LINE_SAMPLES = 7891
  SAMPLE_TYPE = UNSIGNED_INTEGER
  SAMPLE_BITS = 8
  BANDS = 1
  BAND_STORAGE_TYPE = BAND_SEQUENTIAL
  MAXIMUM = 255
  MEAN = 62.6908
  MINIMUM = 1
  STANDARD_DEVIATION = 50.8781
END_OBJECT = IMAGE
/* MAP OBJECT DEFINITIONS */
OBJECT = IMAGE_MAP_PROJECTION
  ^DATA_SET_MAP_PROJECTION_CATALOG= "DSMAP.CAT"
  A_AXIS_RADIUS = 3396.0
  B_AXIS_RADIUS = 3396.0
  C_AXIS_RADIUS = 3396.0
  CENTER_LATITUDE = -43.5213
  CENTER_LONGITUDE = 99.2565
  COORDINATE_SYSTEM_NAME = PLANETOGRAPHIC
  COORDINATE_SYSTEM_TYPE = "BODY-FIXED ROTATING"
  EASTERNMOST_LONGITUDE = 214.65
  FIRST_STANDARD_PARALLEL = "N/A"
  LINE_FIRST_PIXEL = 1
  LINE_LAST_PIXEL = 5050
  LINE_PROJECTION_OFFSET = 1777.25
  MAP_PROJECTION_ROTATION = 0.0
  MAP_PROJECTION_TYPE = ORTHOGRAPHIC
  MAP_RESOLUTION = 74.08922548333329
  MAP_SCALE = 0.8
  MAXIMUM_LATITUDE = 1.78777
  MINIMUM_LATITUDE = -71.88039999999999
  POSITIVE_LONGITUDE_DIRECTION = EAST
  REFERENCE_LATITUDE = "N/A"
  REFERENCE_LONGITUDE = "N/A"
  SAMPLE_FIRST_PIXEL = 1
  SAMPLE_LAST_PIXEL = 7891
  SAMPLE_PROJECTION_OFFSET = 3932.75
  SECOND_STANDARD_PARALLEL = "N/A"
  WESTERNMOST_LONGITUDE = 14.9528
END_OBJECT = IMAGE_MAP_PROJECTION
END
