PDS_VERSION_ID = PDS3
/* FILE DATA ELEMENTS */
RECORD_TYPE = UNDEFINED
/* POINTERS TO DATA OBJECTS */
^IMAGE = ("HO647_0000_RE4.TIF")
/* IDENTIFICATION DATA ELEMENTS */
DATA_SET_ID = "MEX-M-HRSC-4-REFDR-MAPPROJECT-EXT9-V4.0"
DATA_SET_NAME = "MARS EXPRESS HRSC MAP PROJECTED REFDR EXTENSION9 V4.0"
DETECTOR_ID = MEX_HRSC_RED
EVENT_TYPE = "MARS-TERMINATOR-CALIBRATION-Tc"
INSTRUMENT_HOST_ID = MEX
INSTRUMENT_HOST_NAME = "MARS EXPRESS"
INSTRUMENT_ID = HRSC
INSTRUMENT_NAME = "HIGH RESOLUTION STEREO CAMERA"
MISSION_NAME = "MARS EXPRESS"
MISSION_PHASE_NAME = ME_Phase_47
PROCESSING_LEVEL_ID = 4
PRODUCT_CREATION_TIME = 2023-11-15T19:58:29.000Z
PRODUCT_ID = "HO647_0000_RE4.TIF"
RELEASE_ID = 0005
REVISION_ID = 0000
/* QUALITY DATA ELEMENTS */
DATA_QUALITY_ID = 1
DATA_QUALITY_DESC = "Data calculated based on original SPICE kernels"
/* TIME DATA ELEMENTS */
SPACECRAFT_CLOCK_START_COUNT = "1/0636967409.24923"
SPACECRAFT_CLOCK_STOP_COUNT = "1/0636967856.25624"
START_TIME = 2023-07-09T07:27:41.451Z
STOP_TIME = 2023-07-09T07:31:30.394Z
/* ORBITAL DATA ELEMENTS */
ASCENDING_NODE_LONGITUDE = 116.12
MAXIMUM_RESOLUTION = 0.6949
FOOTPRINT_POINT_LATITUDE = (-11.1535,-10.9464,-11.273,-6.30009, -4.85628,1.93204,5.12116,8.60063, 11.3435,12.9797,9.72558,13.5566,10.1919 ,12.6666,10.6796,13.4728,11.1921, 15.1403,11.7346,15.2904,14.1001,16.8909 ,16.7465,19.9622,18.8571,21.8888, 19.8047,22.4151,23.4062,27.3472,22.7764 ,20.3055,17.8469,16.1722,14.7092,13.968 ,13.5083,13.5378,13.8725,14.653,16.6781 ,18.5526,20.4585,23.5697,27.2155, 30.6408,33.7578,38.2513,35.1762,38.5159 ,35.3768,37.3974,33.7803,36.7482, 33.3985,33.9444,30.8708,31.8543,28.2502 ,26.9423,26.1142,21.9775,18.7263, 15.9214,14.8295,9.72095,6.23677,5.83032 ,5.44038,3.0158,0.506887,-2.36998, -4.71826,-6.55069,-8.73754,-12.249, -14.7175,-16.3861,-17.9247,-19.0277, -20.8046,-21.7588,-23.023,-23.8721, -24.7382,-25.2107,-25.2398,-25.1335, -24.7544,-24.3082,-23.4811,-22.8013, -21.7421,-20.6835,-19.7061,-17.8185, -15.2629,-11.9966,-11.4028,-11.1535)
FOOTPRINT_POINT_LONGITUDE = (381.585,381.951,381.022,379.003, 375.999,374.057,369.755,366.232,368.079 ,364.208,360.006,364.659,359.973, 363.048,359.964,363.435,359.984,364.578 ,360.039,363.297,360.035,362.748, 359.062,360.389,356.563,358.218,355.67, 357.58,351.623,352.258,346.886,343.295, 338.767,334.782,329.942,326.325,321.198 ,317.556,313.989,309.923,303.69,299.776 ,296.584,292.362,288.466,285.394, 283.036,280.267,280.421,278.409,279.872 ,276.511,276.129,274.116,274.514, 270.786,269.656,264.724,264.881,261.698 ,256.349,254.678,251.345,248.375, 244.587,242.683,240.925,241.213,241.505 ,244.945,248.598,252.984,256.692, 259.721,263.501,270.178,275.441,279.379 ,283.39,286.546,292.327,295.962,301.667 ,306.61,313.674,321.496,326.799,330.371 ,335.964,340.057,345.58,349.161,353.834 ,357.809,361.067,366.569,372.943, 379.926,381.098,381.585)
ORBIT_NUMBER = 24647
ORBITAL_ECCENTRICITY = 0.569
ORBITAL_INCLINATION = 87.08
ORBITAL_SEMIMAJOR_AXIS = 8778.83
PERIAPSIS_ALTITUDE = 403.23
PERIAPSIS_ARGUMENT_ANGLE = 58.23
PERIAPSIS_TIME = 2023-07-09T05:27:51.000Z
SPACECRAFT_ORIENTATION = (0.0,-1.0,0.0)
^MEX_ORIENTATION_DESC = "MEX_ORIENTATION_DESC.TXT"
SPACECRAFT_POINTING_MODE = FIXED
^MEX_POINTING_DESC = "MEX_POINTING_DESC.TXT"
RIGHT_ASCENSION = -1e+32
DECLINATION = -1e+32
OFFSET_ANGLE = -1e+32
SPACECRAFT_SOLAR_DISTANCE = 2.48074e+08
TARGET_NAME = MARS
/* CAMERA DATA ELEMENTS */
DETECTOR_TEMPERATURE = 18.5744
FOCAL_PLANE_TEMPERATURE = 7.9716
INST_CMPRS_NAME = "DISCRETE COSINE TRANSFORMATION (DCT)"
INST_CMPRS_RATIO = 13.3375
INST_CMPRS_QUALITY = 0
INST_CMPRS_QUANTZ_TBL_ID = 0
INSTRUMENT_TEMPERATURE = 10.8262
LENS_TEMPERATURE = 8.7872
MACROPIXEL_SIZE = 2
MISSING_FRAMES = 0
PIXEL_SUBSAMPLING_FLAG = N
SIGNAL_CHAIN_ID = 3
/* RADIOMETRIC DATA ELEMENTS */
BANDWIDTH = 48.0
CENTER_FILTER_WAVELENGTH = 748.0
RADIANCE_OFFSET = 0.0
RADIANCE_SCALING_FACTOR = 0.0110522
REFLECTANCE_SCALING_FACTOR = 0.0015521
MEX:REFLECTANCE_OFFSET = 0.0
/* IMAGE OBJECT DEFINITIONS */
OBJECT = IMAGE
  INTERCHANGE_FORMAT = BINARY
  LINES = 4389
  LINE_SAMPLES = 7920
  SAMPLE_TYPE = UNSIGNED_INTEGER
  SAMPLE_BITS = 8
  BANDS = 1
  BAND_STORAGE_TYPE = BAND_SEQUENTIAL
  MAXIMUM = 254
  MEAN = 150.169
  MINIMUM = 47
  STANDARD_DEVIATION = 49.1764
END_OBJECT = IMAGE
/* MAP OBJECT DEFINITIONS */
OBJECT = IMAGE_MAP_PROJECTION
  ^DATA_SET_MAP_PROJECTION_CATALOG= "DSMAP.CAT"
  A_AXIS_RADIUS = 3396.0
  B_AXIS_RADIUS = 3396.0
  C_AXIS_RADIUS = 3396.0
  CENTER_LATITUDE = -6.0155
  CENTER_LONGITUDE = 310.746
  COORDINATE_SYSTEM_NAME = PLANETOGRAPHIC
  COORDINATE_SYSTEM_TYPE = "BODY-FIXED ROTATING"
  EASTERNMOST_LONGITUDE = 21.951
  FIRST_STANDARD_PARALLEL = "N/A"
  LINE_FIRST_PIXEL = 1
  LINE_LAST_PIXEL = 4389
  LINE_PROJECTION_OFFSET = 3086.75
  MAP_PROJECTION_ROTATION = 0.0
  MAP_PROJECTION_TYPE = ORTHOGRAPHIC
  MAP_RESOLUTION = 74.08922548333329
  MAP_SCALE = 0.8
  MAXIMUM_LATITUDE = 38.5159
  MINIMUM_LATITUDE = -25.2398
  POSITIVE_LONGITUDE_DIRECTION = EAST
  REFERENCE_LATITUDE = "N/A"
  REFERENCE_LONGITUDE = "N/A"
  SAMPLE_FIRST_PIXEL = 1
  SAMPLE_LAST_PIXEL = 7920
  SAMPLE_PROJECTION_OFFSET = 3966.25
  SECOND_STANDARD_PARALLEL = "N/A"
  WESTERNMOST_LONGITUDE = -119.075
END_OBJECT = IMAGE_MAP_PROJECTION
END
