PDS_VERSION_ID = PDS3
/* FILE DATA ELEMENTS */
RECORD_TYPE = UNDEFINED
/* POINTERS TO DATA OBJECTS */
^IMAGE = ("HO627_0000_IR4.TIF")
/* IDENTIFICATION DATA ELEMENTS */
DATA_SET_ID = "MEX-M-HRSC-4-REFDR-MAPPROJECT-EXT9-V4.0"
DATA_SET_NAME = "MARS EXPRESS HRSC MAP PROJECTED REFDR EXTENSION9 V4.0"
DETECTOR_ID = MEX_HRSC_IR
EVENT_TYPE = "MARS-TERMINATOR-CALIBRATION-Tc"
INSTRUMENT_HOST_ID = MEX
INSTRUMENT_HOST_NAME = "MARS EXPRESS"
INSTRUMENT_ID = HRSC
INSTRUMENT_NAME = "HIGH RESOLUTION STEREO CAMERA"
MISSION_NAME = "MARS EXPRESS"
MISSION_PHASE_NAME = ME_Phase_47
PROCESSING_LEVEL_ID = 4
PRODUCT_CREATION_TIME = 2023-11-15T19:58:29.000Z
PRODUCT_ID = "HO627_0000_IR4.TIF"
RELEASE_ID = 0005
REVISION_ID = 0000
/* QUALITY DATA ELEMENTS */
DATA_QUALITY_ID = 1
DATA_QUALITY_DESC = "Data calculated based on original SPICE kernels"
/* TIME DATA ELEMENTS */
SPACECRAFT_CLOCK_START_COUNT = "1/0636464509.24923"
SPACECRAFT_CLOCK_STOP_COUNT = "1/0636464959.21235"
START_TIME = 2023-07-03T11:42:25.508Z
STOP_TIME = 2023-07-03T11:46:19.538Z
/* ORBITAL DATA ELEMENTS */
ASCENDING_NODE_LONGITUDE = 116.47
MAXIMUM_RESOLUTION = 0.6807
FOOTPRINT_POINT_LATITUDE = (-16.8029,-16.7563,-17.0937,-18.2057, -19.4987,-21.1203,-22.2807,-23.9521, -25.7757,-26.7195,-28.2156,-29.4361, -30.3424,-31.0751,-32.0684,-32.5974, -32.9709,-33.3025,-33.3339,-33.1374, -32.701,-32.3102,-31.6051,-30.6132, -29.1674,-27.9446,-27.0685,-25.7844, -24.2399,-23.1763,-21.8121,-19.7418, -17.8539,-15.4122,-14.0364,-11.978, -8.62373,-6.08617,-4.00582,-2.88627, -2.74014,-2.45098,-2.55159,-2.78472, -5.38499,-8.98947,-14.1158,-15.4961, -18.0586,-20.7408,-25.2264,-26.3212, -30.8521,-34.4044,-37.44,-39.3982, -41.188,-43.5072,-46.4563,-48.8138, -50.9911,-52.8485,-54.2835,-56.0258, -57.4986,-58.6083,-60.0225,-60.9917, -62.5337,-63.5565,-64.435,-65.3824, -65.8029,-66.17,-66.2822,-66.1508, -65.7534,-64.6105,-62.8174,-61.2568, -60.045,-58.3958,-56.5449,-55.1622, -53.0594,-51.1579,-50.5365,-48.3089, -48.5623,-46.5944,-43.3272,-41.2946, -38.2832,-35.1246,-32.0614,-28.6118, -25.7346,-21.8854,-19.6292,-16.8029)
FOOTPRINT_POINT_LONGITUDE = (269.071,269.128,266.151,263.965, 261.327,257.846,255.214,251.169,246.312 ,243.562,238.754,234.266,230.445,226.9, 220.988,216.829,212.88,206.749,200.766, 195.786,190.479,187.189,182.586,177.537 ,171.683,167.536,164.868,161.296, 157.405,154.927,151.94,147.734,144.17, 139.852,137.533,134.188,128.975,125.169 ,122.107,120.473,120.26,117.297,117.158 ,117.24,115.875,112.664,111.439,108.364 ,109.363,106.165,105.625,102.357, 102.198,98.5329,96.5852,99.2508,103.278 ,108.353,115.072,120.706,126.081, 131.009,135.103,140.365,145.24,149.298, 154.957,159.327,167.083,173.453,180.082 ,189.63,195.347,203.468,212.815,220.324 ,229.12,242.264,255.078,263.349,268.823 ,275.363,281.78,286.037,287.98,290.532, 286.358,288.591,284.718,286.96,283.993, 280.589,280.932,277.093,277.502,275.041 ,272.428,271.282,270.668,269.071)
ORBIT_NUMBER = 24627
ORBITAL_ECCENTRICITY = 0.569
ORBITAL_INCLINATION = 87.07
ORBITAL_SEMIMAJOR_AXIS = 8778.15
PERIAPSIS_ALTITUDE = 403.98
PERIAPSIS_ARGUMENT_ANGLE = 61.66
PERIAPSIS_TIME = 2023-07-03T09:46:17.000Z
SPACECRAFT_ORIENTATION = (0.0,-1.0,0.0)
^MEX_ORIENTATION_DESC = "MEX_ORIENTATION_DESC.TXT"
SPACECRAFT_POINTING_MODE = FIXED
^MEX_POINTING_DESC = "MEX_POINTING_DESC.TXT"
RIGHT_ASCENSION = -1e+32
DECLINATION = -1e+32
OFFSET_ANGLE = -1e+32
SPACECRAFT_SOLAR_DISTANCE = 2.48387e+08
TARGET_NAME = MARS
/* CAMERA DATA ELEMENTS */
DETECTOR_TEMPERATURE = 17.7588
FOCAL_PLANE_TEMPERATURE = 8.1755
INST_CMPRS_NAME = "DISCRETE COSINE TRANSFORMATION (DCT)"
INST_CMPRS_RATIO = 4.83545
INST_CMPRS_QUALITY = 0
INST_CMPRS_QUANTZ_TBL_ID = 0
INSTRUMENT_TEMPERATURE = 11.234
LENS_TEMPERATURE = 8.7872
MACROPIXEL_SIZE = 2
MISSING_FRAMES = 0
PIXEL_SUBSAMPLING_FLAG = N
SIGNAL_CHAIN_ID = 3
/* RADIOMETRIC DATA ELEMENTS */
BANDWIDTH = 81.0
CENTER_FILTER_WAVELENGTH = 955.5
RADIANCE_OFFSET = 0.0
RADIANCE_SCALING_FACTOR = 0.00471769
REFLECTANCE_SCALING_FACTOR = 0.000627913
MEX:REFLECTANCE_OFFSET = 0.0
/* IMAGE OBJECT DEFINITIONS */
OBJECT = IMAGE
  INTERCHANGE_FORMAT = BINARY
  LINES = 4439
  LINE_SAMPLES = 7937
  SAMPLE_TYPE = UNSIGNED_INTEGER
  SAMPLE_BITS = 8
  BANDS = 1
  BAND_STORAGE_TYPE = BAND_SEQUENTIAL
  MAXIMUM = 255
  MEAN = 62.8408
  MINIMUM = 1
  STANDARD_DEVIATION = 53.9293
END_OBJECT = IMAGE
/* MAP OBJECT DEFINITIONS */
OBJECT = IMAGE_MAP_PROJECTION
  ^DATA_SET_MAP_PROJECTION_CATALOG= "DSMAP.CAT"
  A_AXIS_RADIUS = 3396.0
  B_AXIS_RADIUS = 3396.0
  C_AXIS_RADIUS = 3396.0
  CENTER_LATITUDE = -49.4307
  CENTER_LONGITUDE = 183.435
  COORDINATE_SYSTEM_NAME = PLANETOGRAPHIC
  COORDINATE_SYSTEM_TYPE = "BODY-FIXED ROTATING"
  EASTERNMOST_LONGITUDE = 290.532
  FIRST_STANDARD_PARALLEL = "N/A"
  LINE_FIRST_PIXEL = 1
  LINE_LAST_PIXEL = 4439
  LINE_PROJECTION_OFFSET = 1399.75
  MAP_PROJECTION_ROTATION = 0.0
  MAP_PROJECTION_TYPE = ORTHOGRAPHIC
  MAP_RESOLUTION = 74.08922548333329
  MAP_SCALE = 0.8
  MAXIMUM_LATITUDE = -2.45098
  MINIMUM_LATITUDE = -66.2822
  POSITIVE_LONGITUDE_DIRECTION = EAST
  REFERENCE_LATITUDE = "N/A"
  REFERENCE_LONGITUDE = "N/A"
  SAMPLE_FIRST_PIXEL = 1
  SAMPLE_LAST_PIXEL = 7937
  SAMPLE_PROJECTION_OFFSET = 3900.25
  SECOND_STANDARD_PARALLEL = "N/A"
  WESTERNMOST_LONGITUDE = 96.5852
END_OBJECT = IMAGE_MAP_PROJECTION
END
