PDS_VERSION_ID = PDS3
/* FILE DATA ELEMENTS */
RECORD_TYPE = UNDEFINED
/* POINTERS TO DATA OBJECTS */
^IMAGE = ("HO627_0000_BL4.TIF")
/* IDENTIFICATION DATA ELEMENTS */
DATA_SET_ID = "MEX-M-HRSC-4-REFDR-MAPPROJECT-EXT9-V4.0"
DATA_SET_NAME = "MARS EXPRESS HRSC MAP PROJECTED REFDR EXTENSION9 V4.0"
DETECTOR_ID = MEX_HRSC_BLUE
EVENT_TYPE = "MARS-TERMINATOR-CALIBRATION-Tc"
INSTRUMENT_HOST_ID = MEX
INSTRUMENT_HOST_NAME = "MARS EXPRESS"
INSTRUMENT_ID = HRSC
INSTRUMENT_NAME = "HIGH RESOLUTION STEREO CAMERA"
MISSION_NAME = "MARS EXPRESS"
MISSION_PHASE_NAME = ME_Phase_47
PROCESSING_LEVEL_ID = 4
PRODUCT_CREATION_TIME = 2023-11-15T19:58:29.000Z
PRODUCT_ID = "HO627_0000_BL4.TIF"
RELEASE_ID = 0005
REVISION_ID = 0000
/* QUALITY DATA ELEMENTS */
DATA_QUALITY_ID = 1
DATA_QUALITY_DESC = "Data calculated based on original SPICE kernels"
/* TIME DATA ELEMENTS */
SPACECRAFT_CLOCK_START_COUNT = "1/0636464509.24923"
SPACECRAFT_CLOCK_STOP_COUNT = "1/0636464959.21235"
START_TIME = 2023-07-03T11:44:37.465Z
STOP_TIME = 2023-07-03T11:48:29.488Z
/* ORBITAL DATA ELEMENTS */
ASCENDING_NODE_LONGITUDE = 116.47
MAXIMUM_RESOLUTION = 0.6861 <m/pixel>
FOOTPRINT_POINT_LATITUDE = (-17.8596,-19.0048,-20.129,-21.9407, -23.4578,-24.5673,-26.2124,-27.6428, -29.4286,-31.1579,-32.2106,-32.8628, -33.7452,-34.595,-35.0051,-35.4991, -35.7713,-35.7193,-35.535,-35.3063, -34.9169,-34.5053,-34.0141,-33.2513, -31.9481,-31.0874,-29.4203,-27.5826, -26.1523,-24.8499,-22.7826,-21.016, -19.0641,-16.5208,-14.9746,-13.1152, -10.417,-7.77112,-5.47774,-5.04126, -5.04633,-4.43853,-4.27641,-5.76881, -9.23384,-13.2664,-16.7979,-19.6317, -23.2403,-26.4765,-31.082,-32.7946, -35.8581,-34.665,-39.2728,-42.659, -45.0412,-47.801,-49.9087,-51.5641, -54.428,-57.265,-59.4424,-61.0794, -63.6769,-65.3322,-66.5475,-67.6489, -68.8022,-70.4361,-71.3735,-71.6848, -71.6311,-71.1352,-70.4886,-69.4657, -68.0,-65.858,-64.358,-62.2828,-60.783, -58.8003,-53.1118,-54.2531,-50.3956, -49.8655,-48.0157,-48.0146,-43.9943, -43.1864,-41.8187,-40.804,-37.2173, -34.9701,-32.7594,-30.743,-25.6364, -22.3497,-20.4574,-17.8596)
FOOTPRINT_POINT_LONGITUDE = (269.17,267.014,264.837,261.167,257.91, 255.402,251.444,247.706,242.526,236.731 ,232.634,229.775,225.324,219.97,216.666 ,211.127,204.5,198.529,194.672,191.664, 187.912,184.815,181.731,177.733,172.167 ,169.036,163.751,158.735,155.24,152.291 ,147.968,144.546,140.992,136.638, 134.112,131.169,127.044,123.118,119.775 ,119.143,118.885,115.934,115.423, 115.515,112.064,111.282,107.819,107.605 ,105.211,101.671,101.617,97.7638, 98.9395,95.3919,96.1158,91.7709,96.9401 ,102.994,107.683,111.348,118.027,125.1, 131.01,135.82,144.622,151.113,156.559, 162.254,169.325,182.874,195.902,205.338 ,220.04,231.382,239.817,249.147,259.042 ,269.885,276.08,283.46,288.179,294.024, 294.463,289.996,291.045,286.642,289.437 ,285.641,286.238,282.064,284.855, 280.901,281.212,279.161,277.264,275.54, 273.068,270.755,269.967,269.17)
ORBIT_NUMBER = 24627
ORBITAL_ECCENTRICITY = 0.569
ORBITAL_INCLINATION = 87.07
ORBITAL_SEMIMAJOR_AXIS = 8778.15
PERIAPSIS_ALTITUDE = 403.98
PERIAPSIS_ARGUMENT_ANGLE = 61.66
PERIAPSIS_TIME = 2023-07-03T09:46:17.000Z
SPACECRAFT_ORIENTATION = (0.0,-1.0,0.0)
^MEX_ORIENTATION_DESC = "MEX_ORIENTATION_DESC.TXT"
SPACECRAFT_POINTING_MODE = FIXED
^MEX_POINTING_DESC = "MEX_POINTING_DESC.TXT"
RIGHT_ASCENSION = -1e+32
DECLINATION = -1e+32
OFFSET_ANGLE = -1e+32
SPACECRAFT_SOLAR_DISTANCE = 2.48387e+08
TARGET_NAME = MARS
/* CAMERA DATA ELEMENTS */
DETECTOR_TEMPERATURE = 18.1666 <degC>
FOCAL_PLANE_TEMPERATURE = 8.1755 <degC>
INST_CMPRS_NAME = "DISCRETE COSINE TRANSFORMATION (DCT)"
INST_CMPRS_RATIO = 7.27182
INST_CMPRS_QUALITY = 0
INST_CMPRS_QUANTZ_TBL_ID = 0
INSTRUMENT_TEMPERATURE = 11.234 <degC>
LENS_TEMPERATURE = 8.7872 <degC>
MACROPIXEL_SIZE = 2
MISSING_FRAMES = 0
PIXEL_SUBSAMPLING_FLAG = N
SIGNAL_CHAIN_ID = 2
/* RADIOMETRIC DATA ELEMENTS */
BANDWIDTH = 76.0 <nm>
CENTER_FILTER_WAVELENGTH = 444.0 <nm>
RADIANCE_OFFSET = 0.0 <W*m**-2*sr**-1>
RADIANCE_SCALING_FACTOR = 0.00544919 <W*m**-2*sr**-1>
REFLECTANCE_SCALING_FACTOR = 0.000345406
MEX:REFLECTANCE_OFFSET = 0.0
/* IMAGE OBJECT DEFINITIONS */
OBJECT = IMAGE
  INTERCHANGE_FORMAT = BINARY
  LINES = 4439
  LINE_SAMPLES = 7937
  SAMPLE_TYPE = UNSIGNED_INTEGER
  SAMPLE_BITS = 8
  BANDS = 1
  BAND_STORAGE_TYPE = BAND_SEQUENTIAL
  MAXIMUM = 255
  MEAN = 42.5789
  MINIMUM = 1
  STANDARD_DEVIATION = 34.7511
END_OBJECT = IMAGE
/* MAP OBJECT DEFINITIONS */
OBJECT = IMAGE_MAP_PROJECTION
  ^DATA_SET_MAP_PROJECTION_CATALOG= "DSMAP.CAT"
  A_AXIS_RADIUS = 3396.0 <km>
  B_AXIS_RADIUS = 3396.0 <km>
  C_AXIS_RADIUS = 3396.0 <km>
  CENTER_LATITUDE = -49.4307
  CENTER_LONGITUDE = 183.435
  COORDINATE_SYSTEM_NAME = PLANETOGRAPHIC
  COORDINATE_SYSTEM_TYPE = "BODY-FIXED ROTATING"
  EASTERNMOST_LONGITUDE = 294.463
  FIRST_STANDARD_PARALLEL = "N/A"
  LINE_FIRST_PIXEL = 1
  LINE_LAST_PIXEL = 4439
  LINE_PROJECTION_OFFSET = 1399.75
  MAP_PROJECTION_ROTATION = 0.0
  MAP_PROJECTION_TYPE = ORTHOGRAPHIC
  MAP_RESOLUTION = 74.08922548333329 <pixel/degree>
  MAP_SCALE = 0.8 <km/pixel>
  MAXIMUM_LATITUDE = -4.27641
  MINIMUM_LATITUDE = -71.6848
  POSITIVE_LONGITUDE_DIRECTION = EAST
  REFERENCE_LATITUDE = "N/A"
  REFERENCE_LONGITUDE = "N/A"
  SAMPLE_FIRST_PIXEL = 1
  SAMPLE_LAST_PIXEL = 7937
  SAMPLE_PROJECTION_OFFSET = 3900.25
  SECOND_STANDARD_PARALLEL = "N/A"
  WESTERNMOST_LONGITUDE = 91.7709
END_OBJECT = IMAGE_MAP_PROJECTION
END
