PDS_VERSION_ID = PDS3
/* FILE DATA ELEMENTS */
RECORD_TYPE = UNDEFINED
/* POINTERS TO DATA OBJECTS */
^IMAGE = ("HO605_0000_GR4.TIF")
/* IDENTIFICATION DATA ELEMENTS */
DATA_SET_ID = "MEX-M-HRSC-4-REFDR-MAPPROJECT-EXT9-V4.0"
DATA_SET_NAME = "MARS EXPRESS HRSC MAP PROJECTED REFDR EXTENSION9 V4.0"
DETECTOR_ID = MEX_HRSC_GREEN
EVENT_TYPE = "MARS-TERMINATOR-CALIBRATION-Tc"
INSTRUMENT_HOST_ID = MEX
INSTRUMENT_HOST_NAME = "MARS EXPRESS"
INSTRUMENT_ID = HRSC
INSTRUMENT_NAME = "HIGH RESOLUTION STEREO CAMERA"
MISSION_NAME = "MARS EXPRESS"
MISSION_PHASE_NAME = ME_Phase_47
PROCESSING_LEVEL_ID = 4
PRODUCT_CREATION_TIME = 2023-11-15T19:58:29.000Z
PRODUCT_ID = "HO605_0000_GR4.TIF"
RELEASE_ID = 0005
REVISION_ID = 0000
/* QUALITY DATA ELEMENTS */
DATA_QUALITY_ID = 1
DATA_QUALITY_DESC = "Data calculated based on original SPICE kernels"
/* TIME DATA ELEMENTS */
SPACECRAFT_CLOCK_START_COUNT = "1/0635911130.23993"
SPACECRAFT_CLOCK_STOP_COUNT = "1/0635911580.19302"
START_TIME = 2023-06-27T02:00:51.380Z
STOP_TIME = 2023-06-27T02:04:45.372Z
/* ORBITAL DATA ELEMENTS */
ASCENDING_NODE_LONGITUDE = 116.85
MAXIMUM_RESOLUTION = 0.6711
FOOTPRINT_POINT_LATITUDE = (-8.13384,-7.88909,-4.72198,-0.552524, 1.88059,6.35224,8.47602,12.08,13.8848, 14.2739,16.8597,14.7081,17.8894,17.1604 ,19.8536,19.4325,21.769,19.7059,23.312, 20.9957,24.0492,21.3435,17.8683,14.2913 ,11.3313,9.70855,7.33262,5.86969, 4.64549,3.53293,2.9866,2.6209,2.4816, 2.66976,3.43553,4.34019,5.59448,7.91288 ,9.87813,12.6866,15.2716,19.6869, 21.8994,21.6652,23.5456,20.0352,20.2075 ,17.9387,14.5661,15.1344,12.6001, 14.1463,11.728,11.3207,8.55385,8.16986, 5.45861,2.4824,-1.40707,-2.5243, -5.70239,-6.9936,-7.32376,-9.75612, -12.5941,-15.5219,-18.3535,-20.3496, -22.1234,-23.3937,-25.0605,-26.4517, -27.5656,-29.1083,-30.1544,-31.1734, -31.8243,-32.2856,-32.4874,-32.5723, -32.5632,-32.3944,-31.8056,-31.1716, -30.4293,-29.3397,-28.4365,-27.4993, -26.3016,-25.2561,-23.2685,-21.3107, -19.9406,-17.9766,-15.2485,-13.014, -11.2388,-9.70604,-8.96397,-8.13384)
FOOTPRINT_POINT_LONGITUDE = (351.141,351.231,347.055,343.077, 340.885,339.687,335.072,335.157,333.008 ,329.231,330.729,328.475,329.61,325.093 ,326.466,323.148,325.006,322.086, 321.663,319.578,319.849,316.758,313.264 ,309.123,305.1,302.48,298.002,294.617, 291.117,286.883,284.023,279.95,277.138, 272.538,267.236,263.653,259.941,254.614 ,251.371,247.331,244.128,239.565, 237.539,233.979,231.724,231.44,227.368, 224.614,223.513,220.601,222.049,219.286 ,220.664,217.385,217.339,214.405,213.91 ,211.375,207.382,204.626,202.669, 202.456,202.371,205.863,210.145,214.871 ,219.851,223.688,227.397,230.27,234.398 ,238.248,241.696,247.249,251.828, 257.446,262.311,267.385,271.106,274.54, 277.853,282.636,289.686,294.492,298.864 ,304.044,307.685,311.042,314.886, 317.931,323.131,327.692,330.629,334.57, 339.6,343.429,346.322,348.733,349.874, 351.141)
ORBIT_NUMBER = 24605
ORBITAL_ECCENTRICITY = 0.568
ORBITAL_INCLINATION = 87.07
ORBITAL_SEMIMAJOR_AXIS = 8772.65
PERIAPSIS_ALTITUDE = 406.06
PERIAPSIS_ARGUMENT_ANGLE = 65.43
PERIAPSIS_TIME = 2023-06-27T00:06:49.000Z
SPACECRAFT_ORIENTATION = (0.0,-1.0,0.0)
^MEX_ORIENTATION_DESC = "MEX_ORIENTATION_DESC.TXT"
SPACECRAFT_POINTING_MODE = FIXED
^MEX_POINTING_DESC = "MEX_POINTING_DESC.TXT"
RIGHT_ASCENSION = -1e+32
DECLINATION = -1e+32
OFFSET_ANGLE = -1e+32
SPACECRAFT_SOLAR_DISTANCE = 2.48674e+08
TARGET_NAME = MARS
/* CAMERA DATA ELEMENTS */
DETECTOR_TEMPERATURE = 17.9627
FOCAL_PLANE_TEMPERATURE = 8.1755
INST_CMPRS_NAME = "DISCRETE COSINE TRANSFORMATION (DCT)"
INST_CMPRS_RATIO = 9.12747
INST_CMPRS_QUALITY = 0
INST_CMPRS_QUANTZ_TBL_ID = 0
INSTRUMENT_TEMPERATURE = 11.0301
LENS_TEMPERATURE = 8.7872
MACROPIXEL_SIZE = 2
MISSING_FRAMES = 1
PIXEL_SUBSAMPLING_FLAG = N
SIGNAL_CHAIN_ID = 2
/* RADIOMETRIC DATA ELEMENTS */
BANDWIDTH = 88.0
CENTER_FILTER_WAVELENGTH = 538.0
RADIANCE_OFFSET = 0.0
RADIANCE_SCALING_FACTOR = 0.0172779
REFLECTANCE_SCALING_FACTOR = 0.000919875
MEX:REFLECTANCE_OFFSET = 0.0
/* IMAGE OBJECT DEFINITIONS */
OBJECT = IMAGE
  INTERCHANGE_FORMAT = BINARY
  LINES = 3707
  LINE_SAMPLES = 8121
  SAMPLE_TYPE = UNSIGNED_INTEGER
  SAMPLE_BITS = 8
  BANDS = 1
  BAND_STORAGE_TYPE = BAND_SEQUENTIAL
  MAXIMUM = 255
  MEAN = 133.353
  MINIMUM = 18
  STANDARD_DEVIATION = 54.2129
END_OBJECT = IMAGE
/* MAP OBJECT DEFINITIONS */
OBJECT = IMAGE_MAP_PROJECTION
  ^DATA_SET_MAP_PROJECTION_CATALOG= "DSMAP.CAT"
  A_AXIS_RADIUS = 3396.0
  B_AXIS_RADIUS = 3396.0
  C_AXIS_RADIUS = 3396.0
  CENTER_LATITUDE = -17.8155
  CENTER_LONGITUDE = 277.381
  COORDINATE_SYSTEM_NAME = PLANETOGRAPHIC
  COORDINATE_SYSTEM_TYPE = "BODY-FIXED ROTATING"
  EASTERNMOST_LONGITUDE = 351.231
  FIRST_STANDARD_PARALLEL = "N/A"
  LINE_FIRST_PIXEL = 1
  LINE_LAST_PIXEL = 3707
  LINE_PROJECTION_OFFSET = 2584.75
  MAP_PROJECTION_ROTATION = 0.0
  MAP_PROJECTION_TYPE = ORTHOGRAPHIC
  MAP_RESOLUTION = 74.08922548333329
  MAP_SCALE = 0.8
  MAXIMUM_LATITUDE = 24.0492
  MINIMUM_LATITUDE = -32.5723
  POSITIVE_LONGITUDE_DIRECTION = EAST
  REFERENCE_LATITUDE = "N/A"
  REFERENCE_LONGITUDE = "N/A"
  SAMPLE_FIRST_PIXEL = 1
  SAMPLE_LAST_PIXEL = 8121
  SAMPLE_PROJECTION_OFFSET = 4081.75
  SECOND_STANDARD_PARALLEL = "N/A"
  WESTERNMOST_LONGITUDE = 202.371
END_OBJECT = IMAGE_MAP_PROJECTION
END
