PDS_VERSION_ID = PDS3
/* FILE DATA ELEMENTS */
RECORD_TYPE = UNDEFINED
/* POINTERS TO DATA OBJECTS */
^IMAGE = ("HO598_0000_BL4.TIF")
/* IDENTIFICATION DATA ELEMENTS */
DATA_SET_ID = "MEX-M-HRSC-4-REFDR-MAPPROJECT-EXT9-V4.0"
DATA_SET_NAME = "MARS EXPRESS HRSC MAP PROJECTED REFDR EXTENSION9 V4.0"
DETECTOR_ID = MEX_HRSC_BLUE
EVENT_TYPE = "MARS-TERMINATOR-CALIBRATION-Tc"
INSTRUMENT_HOST_ID = MEX
INSTRUMENT_HOST_NAME = "MARS EXPRESS"
INSTRUMENT_ID = HRSC
INSTRUMENT_NAME = "HIGH RESOLUTION STEREO CAMERA"
MISSION_NAME = "MARS EXPRESS"
MISSION_PHASE_NAME = ME_Phase_47
PROCESSING_LEVEL_ID = 4
PRODUCT_CREATION_TIME = 2023-11-15T19:24:46.000Z
PRODUCT_ID = "HO598_0000_BL4.TIF"
RELEASE_ID = 0004
REVISION_ID = 0000
/* QUALITY DATA ELEMENTS */
DATA_QUALITY_ID = 1
DATA_QUALITY_DESC = "Data calculated based on original SPICE kernels"
/* TIME DATA ELEMENTS */
SPACECRAFT_CLOCK_START_COUNT = "1/0635735321.24917"
SPACECRAFT_CLOCK_STOP_COUNT = "1/0635735767.25454"
START_TIME = 2023-06-25T01:11:27.418Z
STOP_TIME = 2023-06-25T01:15:16.416Z
/* ORBITAL DATA ELEMENTS */
ASCENDING_NODE_LONGITUDE = 116.98
MAXIMUM_RESOLUTION = 0.6871
FOOTPRINT_POINT_LATITUDE = (-6.57405,-6.2861,-6.98979,-2.66386, 1.94515,4.60222,4.65289,7.69231,7.89518 ,11.825,10.7153,14.9258,15.4328,16.0702 ,18.4868,16.5895,21.5111,19.1146, 22.9989,20.3115,23.2227,20.7246,24.6854 ,23.0882,26.1113,22.8799,26.2419, 23.0464,19.6692,15.8231,12.9989,10.0244 ,8.75802,7.90129,7.90329,9.03811, 11.4155,13.5848,15.625,18.7908,21.9654, 25.0558,28.0904,24.6357,26.6318,22.9684 ,25.9803,23.2362,25.5589,22.8702,23.932 ,20.5527,21.121,18.4781,19.7735,16.1319 ,15.817,12.7139,12.0961,7.66526,7.65561 ,3.85561,3.19052,-0.626035,-2.8881, -2.99099,-3.29197,-5.20747,-8.31805, -11.0701,-14.7153,-16.8577,-19.9852, -22.319,-23.9403,-25.3204,-27.494, -28.7019,-29.878,-30.5271,-31.1853, -31.5544,-31.736,-31.768,-31.6262, -31.1363,-30.6323,-29.4479,-27.9821, -26.5512,-24.6929,-22.0536,-19.9747, -17.9757,-16.2999,-13.1286,-10.266, -7.82233,-7.03972,-6.57405)
FOOTPRINT_POINT_LONGITUDE = (343.971,344.327,343.143,339.271,336.84 ,334.346,331.296,332.39,328.624,327.764 ,324.293,324.526,323.193,318.734,320.58 ,317.918,316.097,313.754,313.338, 311.186,312.396,310.417,310.425,306.465 ,308.222,305.901,305.815,303.479,300.45 ,296.096,291.913,285.511,281.132, 275.294,271.031,264.05,257.104,253.933, 251.192,247.596,244.743,242.438,240.572 ,238.686,235.867,235.334,233.3,234.781, 232.487,233.967,230.414,229.553,225.838 ,227.556,223.509,221.533,218.051, 217.473,213.065,211.714,208.51,207.997, 205.003,203.215,200.561,200.149,200.269 ,202.612,206.579,210.302,215.652, 219.089,224.656,229.389,233.082,236.584 ,243.08,247.511,252.84,256.568,261.628, 265.995,269.864,274.882,278.971,285.071 ,289.029,295.697,301.808,306.65,311.977 ,318.35,322.71,326.509,329.459,334.61, 338.865,342.276,343.333,343.971)
ORBIT_NUMBER = 24598
ORBITAL_ECCENTRICITY = 0.568
ORBITAL_INCLINATION = 87.07
ORBITAL_SEMIMAJOR_AXIS = 8771.52
PERIAPSIS_ALTITUDE = 406.43
PERIAPSIS_ARGUMENT_ANGLE = 66.63
PERIAPSIS_TIME = 2023-06-24T23:13:20.000Z
SPACECRAFT_ORIENTATION = (0.0,-1.0,0.0)
^MEX_ORIENTATION_DESC = "MEX_ORIENTATION_DESC.TXT"
SPACECRAFT_POINTING_MODE = FIXED
^MEX_POINTING_DESC = "MEX_POINTING_DESC.TXT"
RIGHT_ASCENSION = -1e+32
DECLINATION = -1e+32
OFFSET_ANGLE = -1e+32
SPACECRAFT_SOLAR_DISTANCE = 2.48753e+08
TARGET_NAME = MARS
/* CAMERA DATA ELEMENTS */
DETECTOR_TEMPERATURE = 17.9627
FOCAL_PLANE_TEMPERATURE = 8.3794
INST_CMPRS_NAME = "DISCRETE COSINE TRANSFORMATION (DCT)"
INST_CMPRS_RATIO = 9.87907
INST_CMPRS_QUALITY = 0
INST_CMPRS_QUANTZ_TBL_ID = 0
INSTRUMENT_TEMPERATURE = 11.0301
LENS_TEMPERATURE = 8.5833
MACROPIXEL_SIZE = 2
MISSING_FRAMES = 0
PIXEL_SUBSAMPLING_FLAG = N
SIGNAL_CHAIN_ID = 2
/* RADIOMETRIC DATA ELEMENTS */
BANDWIDTH = 76.0
CENTER_FILTER_WAVELENGTH = 444.0
RADIANCE_OFFSET = 0.0
RADIANCE_SCALING_FACTOR = 0.0113961
REFLECTANCE_SCALING_FACTOR = 0.0007245
MEX:REFLECTANCE_OFFSET = 0.0
/* IMAGE OBJECT DEFINITIONS */
OBJECT = IMAGE
  INTERCHANGE_FORMAT = BINARY
  LINES = 4041
  LINE_SAMPLES = 8059
  SAMPLE_TYPE = UNSIGNED_INTEGER
  SAMPLE_BITS = 8
  BANDS = 1
  BAND_STORAGE_TYPE = BAND_SEQUENTIAL
  MAXIMUM = 255
  MEAN = 108.682
  MINIMUM = 22
  STANDARD_DEVIATION = 48.662
END_OBJECT = IMAGE
/* MAP OBJECT DEFINITIONS */
OBJECT = IMAGE_MAP_PROJECTION
  ^DATA_SET_MAP_PROJECTION_CATALOG= "DSMAP.CAT"
  A_AXIS_RADIUS = 3396.0
  B_AXIS_RADIUS = 3396.0
  C_AXIS_RADIUS = 3396.0
  CENTER_LATITUDE = -15.0593
  CENTER_LONGITUDE = 272.486
  COORDINATE_SYSTEM_NAME = PLANETOGRAPHIC
  COORDINATE_SYSTEM_TYPE = "BODY-FIXED ROTATING"
  EASTERNMOST_LONGITUDE = 344.327
  FIRST_STANDARD_PARALLEL = "N/A"
  LINE_FIRST_PIXEL = 1
  LINE_LAST_PIXEL = 4041
  LINE_PROJECTION_OFFSET = 2851.75
  MAP_PROJECTION_ROTATION = 0.0
  MAP_PROJECTION_TYPE = ORTHOGRAPHIC
  MAP_RESOLUTION = 74.08922548333329
  MAP_SCALE = 0.8
  MAXIMUM_LATITUDE = 28.0904
  MINIMUM_LATITUDE = -31.768
  POSITIVE_LONGITUDE_DIRECTION = EAST
  REFERENCE_LATITUDE = "N/A"
  REFERENCE_LONGITUDE = "N/A"
  SAMPLE_FIRST_PIXEL = 1
  SAMPLE_LAST_PIXEL = 8059
  SAMPLE_PROJECTION_OFFSET = 4051.75
  SECOND_STANDARD_PARALLEL = "N/A"
  WESTERNMOST_LONGITUDE = 200.149
END_OBJECT = IMAGE_MAP_PROJECTION
END
