PDS_VERSION_ID = PDS3
/* FILE DATA ELEMENTS */
RECORD_TYPE = UNDEFINED
/* POINTERS TO DATA OBJECTS */
^IMAGE = ("HO583_0000_ND4.TIF")
/* IDENTIFICATION DATA ELEMENTS */
DATA_SET_ID = "MEX-M-HRSC-4-REFDR-MAPPROJECT-EXT9-V4.0"
DATA_SET_NAME = "MARS EXPRESS HRSC MAP PROJECTED REFDR EXTENSION9 V4.0"
DETECTOR_ID = MEX_HRSC_NADIR
EVENT_TYPE = "MARS-TERMINATOR-CALIBRATION-Tc"
INSTRUMENT_HOST_ID = MEX
INSTRUMENT_HOST_NAME = "MARS EXPRESS"
INSTRUMENT_ID = HRSC
INSTRUMENT_NAME = "HIGH RESOLUTION STEREO CAMERA"
MISSION_NAME = "MARS EXPRESS"
MISSION_PHASE_NAME = ME_Phase_47
PROCESSING_LEVEL_ID = 4
PRODUCT_CREATION_TIME = 2023-11-15T19:24:46.000Z
PRODUCT_ID = "HO583_0000_ND4.TIF"
RELEASE_ID = 0004
REVISION_ID = 0000
/* QUALITY DATA ELEMENTS */
DATA_QUALITY_ID = 1
DATA_QUALITY_DESC = "Data calculated based on original SPICE kernels"
/* TIME DATA ELEMENTS */
SPACECRAFT_CLOCK_START_COUNT = "1/0635358105.24901"
SPACECRAFT_CLOCK_STOP_COUNT = "1/0635358548.21816"
START_TIME = 2023-06-20T16:24:07.397Z
STOP_TIME = 2023-06-20T16:27:56.399Z
/* ORBITAL DATA ELEMENTS */
ASCENDING_NODE_LONGITUDE = 117.23
MAXIMUM_RESOLUTION = 0.3422
FOOTPRINT_POINT_LATITUDE = (-3.00235,-3.49009,-0.478153,2.31824, 4.87781,5.66291,8.22316,10.7699,11.0099 ,14.5705,13.374,16.2384,16.1018,19.9219 ,19.3608,22.2789,20.1112,23.2435, 22.4611,25.4576,23.4113,25.852,24.9431, 27.9011,25.8258,28.6897,26.8399,23.8474 ,20.3045,16.9111,14.1035,12.808,12.0851 ,11.7483,12.3355,13.9233,16.875,20.4262 ,23.3063,28.3584,25.835,27.2798,24.5043 ,24.55,22.0327,23.2454,20.3722,20.7221, 17.2821,17.9246,14.9485,15.9,12.9604, 9.92076,9.86137,6.09753,5.1927,2.68129, -0.9679,-4.04592,-4.39908,-4.58551, -7.5659,-10.3405,-11.9923,-13.7892, -16.6283,-19.3102,-21.4263,-23.2397, -24.4638,-25.927,-27.23,-28.6034, -29.2893,-30.0569,-30.9406,-31.243, -31.4584,-31.574,-31.4169,-31.1127, -30.4452,-29.6523,-28.5967,-27.7583, -25.7366,-24.1631,-22.7475,-20.4314, -18.8471,-17.5229,-15.6154,-13.9619, -12.0325,-10.4973,-7.85948,-4.87524, -4.58078,-3.00235)
FOOTPRINT_POINT_LONGITUDE = (433.496,432.735,431.497,428.565, 426.675,423.498,420.956,419.852,416.602 ,415.691,412.763,413.563,410.162, 408.181,404.813,404.547,402.999,402.559 ,398.295,396.464,394.59,395.609,392.449 ,391.769,389.916,390.177,387.964, 385.994,383.034,378.998,374.082,370.568 ,367.257,362.783,357.515,352.538, 347.402,343.315,340.91,337.698,337.429, 334.778,332.864,327.317,327.369,324.368 ,323.98,319.859,318.526,315.541,315.448 ,312.596,309.265,307.486,304.8,303.24, 300.435,297.848,296.78,293.575,293.846, 293.987,297.49,300.957,303.141,305.637, 309.936,314.376,318.331,322.127,324.966 ,328.779,332.631,337.496,340.393, 344.248,350.307,353.39,356.748,362.515, 367.373,371.385,376.818,381.399,386.162 ,389.332,395.699,399.853,403.176, 408.031,411.02,413.366,416.521,419.089, 421.921,424.067,427.565,431.281,431.637 ,433.496)
ORBIT_NUMBER = 24583
ORBITAL_ECCENTRICITY = 0.568
ORBITAL_INCLINATION = 87.07
ORBITAL_SEMIMAJOR_AXIS = 8765.58
PERIAPSIS_ALTITUDE = 407.19
PERIAPSIS_ARGUMENT_ANGLE = 69.17
PERIAPSIS_TIME = 2023-06-20T14:27:14.000Z
SPACECRAFT_ORIENTATION = (0.0,-1.0,0.0)
^MEX_ORIENTATION_DESC = "MEX_ORIENTATION_DESC.TXT"
SPACECRAFT_POINTING_MODE = FIXED
^MEX_POINTING_DESC = "MEX_POINTING_DESC.TXT"
RIGHT_ASCENSION = -1e+32
DECLINATION = -1e+32
OFFSET_ANGLE = -1e+32
SPACECRAFT_SOLAR_DISTANCE = 2.48901e+08
TARGET_NAME = MARS
/* CAMERA DATA ELEMENTS */
DETECTOR_TEMPERATURE = 18.3705
FOCAL_PLANE_TEMPERATURE = 8.3794
INST_CMPRS_NAME = "DISCRETE COSINE TRANSFORMATION (DCT)"
INST_CMPRS_RATIO = 9.25986
INST_CMPRS_QUALITY = 0
INST_CMPRS_QUANTZ_TBL_ID = 0
INSTRUMENT_TEMPERATURE = 11.0301
LENS_TEMPERATURE = 8.7872
MACROPIXEL_SIZE = 1
MISSING_FRAMES = 0
PIXEL_SUBSAMPLING_FLAG = N
SIGNAL_CHAIN_ID = 0
/* RADIOMETRIC DATA ELEMENTS */
BANDWIDTH = 177.0
CENTER_FILTER_WAVELENGTH = 677.5
RADIANCE_OFFSET = 0.0
RADIANCE_SCALING_FACTOR = 0.0445423
REFLECTANCE_SCALING_FACTOR = 0.00146589
MEX:REFLECTANCE_OFFSET = 0.0
/* IMAGE OBJECT DEFINITIONS */
OBJECT = IMAGE
  INTERCHANGE_FORMAT = BINARY
  LINES = 8154
  LINE_SAMPLES = 15993
  SAMPLE_TYPE = UNSIGNED_INTEGER
  SAMPLE_BITS = 8
  BANDS = 1
  BAND_STORAGE_TYPE = BAND_SEQUENTIAL
  MAXIMUM = 255
  MEAN = 127.253
  MINIMUM = 14
  STANDARD_DEVIATION = 47.4462
END_OBJECT = IMAGE
/* MAP OBJECT DEFINITIONS */
OBJECT = IMAGE_MAP_PROJECTION
  ^DATA_SET_MAP_PROJECTION_CATALOG= "DSMAP.CAT"
  A_AXIS_RADIUS = 3396.0
  B_AXIS_RADIUS = 3396.0
  C_AXIS_RADIUS = 3396.0
  CENTER_LATITUDE = -14.9064
  CENTER_LONGITUDE = 3.92072
  COORDINATE_SYSTEM_NAME = PLANETOGRAPHIC
  COORDINATE_SYSTEM_TYPE = "BODY-FIXED ROTATING"
  EASTERNMOST_LONGITUDE = 73.496
  FIRST_STANDARD_PARALLEL = "N/A"
  LINE_FIRST_PIXEL = 1
  LINE_LAST_PIXEL = 8154
  LINE_PROJECTION_OFFSET = 5712.0
  MAP_PROJECTION_ROTATION = 0.0
  MAP_PROJECTION_TYPE = ORTHOGRAPHIC
  MAP_RESOLUTION = 148.178450966667
  MAP_SCALE = 0.4
  MAXIMUM_LATITUDE = 28.6897
  MINIMUM_LATITUDE = -31.574
  POSITIVE_LONGITUDE_DIRECTION = EAST
  REFERENCE_LATITUDE = "N/A"
  REFERENCE_LONGITUDE = "N/A"
  SAMPLE_FIRST_PIXEL = 1
  SAMPLE_LAST_PIXEL = 15993
  SAMPLE_PROJECTION_OFFSET = 8046.0
  SECOND_STANDARD_PARALLEL = "N/A"
  WESTERNMOST_LONGITUDE = -66.425
END_OBJECT = IMAGE_MAP_PROJECTION
END
