PDS_VERSION_ID = PDS3
/* FILE DATA ELEMENTS */
RECORD_TYPE = UNDEFINED
/* POINTERS TO DATA OBJECTS */
^IMAGE = ("HO582_0000_RE4.TIF")
/* IDENTIFICATION DATA ELEMENTS */
DATA_SET_ID = "MEX-M-HRSC-4-REFDR-MAPPROJECT-EXT9-V4.0"
DATA_SET_NAME = "MARS EXPRESS HRSC MAP PROJECTED REFDR EXTENSION9 V4.0"
DETECTOR_ID = MEX_HRSC_RED
EVENT_TYPE = "MARS-TERMINATOR-CALIBRATION-Tc"
INSTRUMENT_HOST_ID = MEX
INSTRUMENT_HOST_NAME = "MARS EXPRESS"
INSTRUMENT_ID = HRSC
INSTRUMENT_NAME = "HIGH RESOLUTION STEREO CAMERA"
MISSION_NAME = "MARS EXPRESS"
MISSION_PHASE_NAME = ME_Phase_47
PROCESSING_LEVEL_ID = 4
PRODUCT_CREATION_TIME = 2023-11-15T19:24:46.000Z
PRODUCT_ID = "HO582_0000_RE4.TIF"
RELEASE_ID = 0004
REVISION_ID = 0000
/* QUALITY DATA ELEMENTS */
DATA_QUALITY_ID = 1
DATA_QUALITY_DESC = "Data calculated based on original SPICE kernels"
/* TIME DATA ELEMENTS */
SPACECRAFT_CLOCK_START_COUNT = "1/0635333146.23968"
SPACECRAFT_CLOCK_STOP_COUNT = "1/0635333589.19800"
START_TIME = 2023-06-20T09:29:56.374Z
STOP_TIME = 2023-06-20T09:33:43.352Z
/* ORBITAL DATA ELEMENTS */
ASCENDING_NODE_LONGITUDE = 117.26
MAXIMUM_RESOLUTION = 0.6995
FOOTPRINT_POINT_LATITUDE = (-7.33436,-7.51873,-3.92247,-1.04402, -0.0339866,2.85229,3.96278,7.42684, 8.92154,10.6975,13.4645,16.1149,14.272, 17.1334,19.0249,16.9067,19.8347,17.1106 ,21.0684,18.2055,21.5705,18.8822, 17.1804,13.2199,9.33444,5.10559,3.17745 ,1.30088,0.306382,-0.748932,-1.29032, -1.62574,-1.04408,-0.243083,1.07051, 2.25977,3.78075,5.83279,8.00279,11.7537 ,15.0651,17.5545,21.1781,18.088,20.6979 ,17.6708,20.418,17.6488,19.8867,17.3004 ,18.7754,15.2197,17.6351,14.8369, 15.9617,12.1259,10.0504,9.29944,4.48297 ,4.08378,1.80523,-1.12314,-4.22215, -8.2178,-8.63823,-9.04603,-12.2097, -14.0871,-17.046,-20.5608,-22.7206, -25.5854,-27.3637,-29.7156,-32.0004, -33.5113,-34.8836,-36.1102,-37.1839, -37.6195,-37.8512,-37.7745,-37.4631, -36.7421,-35.6881,-34.027,-32.7442, -31.2283,-28.872,-27.5157,-25.7351, -24.0864,-21.8042,-18.6858,-16.3114, -14.2332,-11.9191,-9.11467,-8.13193, -7.33436)
FOOTPRINT_POINT_LONGITUDE = (178.508,177.804,172.855,172.987, 169.568,169.024,164.341,163.579,158.992 ,156.588,155.12,152.734,150.435,150.613 ,148.691,145.939,147.092,145.157, 145.352,143.4,144.023,142.229,139.284, 135.911,131.867,126.201,122.862,118.901 ,116.159,112.005,108.925,102.201, 96.5392,93.018,89.1223,86.3532,83.5207, 80.2116,77.2645,73.1566,70.2238,68.3055 ,65.6012,65.5965,63.8864,64.8992, 63.0794,64.2644,61.8115,63.2276,60.0449 ,60.143,58.1077,59.5402,56.0886,54.5343 ,51.3695,47.2815,44.9328,41.0507, 38.2469,37.6889,32.7627,30.1617,30.3804 ,30.6101,34.2538,36.525,40.3097,45.2189 ,48.5366,53.409,56.7845,61.8389,67.6415 ,72.2256,77.2429,82.9394,90.1138, 94.8445,99.7442,107.391,112.064,118.258 ,124.314,131.276,135.586,139.966, 145.776,148.727,152.284,155.31,159.172, 163.963,167.32,170.092,173.033,176.424, 177.575,178.508)
ORBIT_NUMBER = 24582
ORBITAL_ECCENTRICITY = 0.568
ORBITAL_INCLINATION = 87.08
ORBITAL_SEMIMAJOR_AXIS = 8765.06
PERIAPSIS_ALTITUDE = 406.95
PERIAPSIS_ARGUMENT_ANGLE = 69.35
PERIAPSIS_TIME = 2023-06-20T07:28:14.000Z
SPACECRAFT_ORIENTATION = (0.0,-1.0,0.0)
^MEX_ORIENTATION_DESC = "MEX_ORIENTATION_DESC.TXT"
SPACECRAFT_POINTING_MODE = FIXED
^MEX_POINTING_DESC = "MEX_POINTING_DESC.TXT"
RIGHT_ASCENSION = -1e+32
DECLINATION = -1e+32
OFFSET_ANGLE = -1e+32
SPACECRAFT_SOLAR_DISTANCE = 2.4891e+08
TARGET_NAME = MARS
/* CAMERA DATA ELEMENTS */
DETECTOR_TEMPERATURE = 18.5744
FOCAL_PLANE_TEMPERATURE = 8.3794
INST_CMPRS_NAME = "DISCRETE COSINE TRANSFORMATION (DCT)"
INST_CMPRS_RATIO = 11.171
INST_CMPRS_QUALITY = 0
INST_CMPRS_QUANTZ_TBL_ID = 0
INSTRUMENT_TEMPERATURE = 11.234
LENS_TEMPERATURE = 8.7872
MACROPIXEL_SIZE = 2
MISSING_FRAMES = 0
PIXEL_SUBSAMPLING_FLAG = N
SIGNAL_CHAIN_ID = 3
/* RADIOMETRIC DATA ELEMENTS */
BANDWIDTH = 48.0
CENTER_FILTER_WAVELENGTH = 748.0
RADIANCE_OFFSET = 0.0
RADIANCE_SCALING_FACTOR = 0.0102062
REFLECTANCE_SCALING_FACTOR = 0.001443
MEX:REFLECTANCE_OFFSET = 0.0
/* IMAGE OBJECT DEFINITIONS */
OBJECT = IMAGE
  INTERCHANGE_FORMAT = BINARY
  LINES = 3971
  LINE_SAMPLES = 8100
  SAMPLE_TYPE = UNSIGNED_INTEGER
  SAMPLE_BITS = 8
  BANDS = 1
  BAND_STORAGE_TYPE = BAND_SEQUENTIAL
  MAXIMUM = 255
  MEAN = 125.478
  MINIMUM = 25
  STANDARD_DEVIATION = 45.0225
END_OBJECT = IMAGE
/* MAP OBJECT DEFINITIONS */
OBJECT = IMAGE_MAP_PROJECTION
  ^DATA_SET_MAP_PROJECTION_CATALOG= "DSMAP.CAT"
  A_AXIS_RADIUS = 3396.0
  B_AXIS_RADIUS = 3396.0
  C_AXIS_RADIUS = 3396.0
  CENTER_LATITUDE = -19.9267
  CENTER_LONGITUDE = 105.313
  COORDINATE_SYSTEM_NAME = PLANETOGRAPHIC
  COORDINATE_SYSTEM_TYPE = "BODY-FIXED ROTATING"
  EASTERNMOST_LONGITUDE = 178.508
  FIRST_STANDARD_PARALLEL = "N/A"
  LINE_FIRST_PIXEL = 1
  LINE_LAST_PIXEL = 3971
  LINE_PROJECTION_OFFSET = 2779.75
  MAP_PROJECTION_ROTATION = 0.0
  MAP_PROJECTION_TYPE = ORTHOGRAPHIC
  MAP_RESOLUTION = 74.08922548333329
  MAP_SCALE = 0.8
  MAXIMUM_LATITUDE = 21.5705
  MINIMUM_LATITUDE = -37.8512
  POSITIVE_LONGITUDE_DIRECTION = EAST
  REFERENCE_LATITUDE = "N/A"
  REFERENCE_LONGITUDE = "N/A"
  SAMPLE_FIRST_PIXEL = 1
  SAMPLE_LAST_PIXEL = 8100
  SAMPLE_PROJECTION_OFFSET = 4067.75
  SECOND_STANDARD_PARALLEL = "N/A"
  WESTERNMOST_LONGITUDE = 30.1617
END_OBJECT = IMAGE_MAP_PROJECTION
END
