PDS_VERSION_ID = PDS3
/* FILE DATA ELEMENTS */
RECORD_TYPE = UNDEFINED
/* POINTERS TO DATA OBJECTS */
^IMAGE = ("HO551_0000_BL4.TIF")
/* IDENTIFICATION DATA ELEMENTS */
DATA_SET_ID = "MEX-M-HRSC-4-REFDR-MAPPROJECT-EXT9-V4.0"
DATA_SET_NAME = "MARS EXPRESS HRSC MAP PROJECTED REFDR EXTENSION9 V4.0"
DETECTOR_ID = MEX_HRSC_BLUE
EVENT_TYPE = "MARS-TERMINATOR-CALIBRATION-Tc"
INSTRUMENT_HOST_ID = MEX
INSTRUMENT_HOST_NAME = "MARS EXPRESS"
INSTRUMENT_ID = HRSC
INSTRUMENT_NAME = "HIGH RESOLUTION STEREO CAMERA"
MISSION_NAME = "MARS EXPRESS"
MISSION_PHASE_NAME = ME_Phase_47
PROCESSING_LEVEL_ID = 4
PRODUCT_CREATION_TIME = 2023-11-15T19:24:46.000Z
PRODUCT_ID = "HO551_0000_BL4.TIF"
RELEASE_ID = 0004
REVISION_ID = 0000
/* QUALITY DATA ELEMENTS */
DATA_QUALITY_ID = 1
DATA_QUALITY_DESC = "Data calculated based on original SPICE kernels"
/* TIME DATA ELEMENTS */
SPACECRAFT_CLOCK_START_COUNT = "1/0634553691.25692"
SPACECRAFT_CLOCK_STOP_COUNT = "1/0634554134.14823"
START_TIME = 2023-06-11T08:57:37.499Z
STOP_TIME = 2023-06-11T09:01:25.420Z
/* ORBITAL DATA ELEMENTS */
ASCENDING_NODE_LONGITUDE = 117.79
MAXIMUM_RESOLUTION = 0.6928
FOOTPRINT_POINT_LATITUDE = (-21.0622,-23.4852,-23.7556,-23.2462, -21.9974,-20.2511,-18.0759,-15.4516, -10.3288,-6.67631,-3.96801,-2.54482, -2.6213,-0.549852,0.751041,-1.53077, -5.28727,-7.81648,-9.83298,-11.5275, -14.3103,-16.5739,-18.4734,-20.1188, -21.58,-24.0469,-26.0557,-27.6903, -29.0098,-30.0644,-30.8777,-31.4615, -31.8142,-31.962,-31.8661,-31.5274, -30.9146,-30.0017,-28.7304,-27.0121, -25.9372,-24.6877,-23.2083,-21.4497, -19.3136,-16.5573,-14.8162,-12.6627, -9.72165,-2.56211,-6.45376,-8.39529, -13.2959,-19.8025,-22.0187,-23.658, -24.4801,-23.1493,-21.8493,-23.0557, -26.0916,-29.6265,-31.5733,-37.345, -40.4565,-42.7389,-44.5665,-46.1755, -48.9226,-51.1669,-53.0775,-54.7194, -56.1483,-57.3953,-58.4865,-60.2592, -61.5564,-62.4289,-62.9104,-63.0296, -62.8019,-62.2566,-61.4119,-60.2707, -58.842,-57.1325,-55.1107,-52.7335, -49.9302,-48.3334,-46.575,-44.6167, -42.4032,-39.8429,-36.6117,-34.6201, -32.168,-28.5561,-22.1522,-21.0622)
FOOTPRINT_POINT_LONGITUDE = (476.871,471.158,468.473,464.369, 461.201,458.67,456.664,455.164,454.066, 454.468,455.421,456.186,455.938,452.559 ,449.527,445.504,442.068,439.584,437.49 ,435.636,432.37,429.468,426.81,424.312, 421.917,417.367,413.018,408.803,404.669 ,400.571,396.482,392.383,388.255, 384.086,379.854,375.546,371.134,366.597 ,361.889,356.943,354.342,351.633, 348.769,345.715,342.393,338.6,336.42, 333.91,330.756,324.058,321.564,319.518, 320.483,318.97,316.856,314.045,310.239, 303.998,302.009,303.682,299.084,297.348 ,294.328,300.503,304.527,307.69,310.363 ,312.881,317.63,322.002,326.218,330.303 ,334.33,338.305,342.317,350.261,358.274 ,366.335,374.387,382.351,390.154,397.72 ,405.013,412.001,418.683,425.146, 431.426,437.586,443.717,446.815,449.974 ,453.241,456.67,460.355,464.744,467.3, 470.327,474.623,479.384,476.871)
ORBIT_NUMBER = 24551
ORBITAL_ECCENTRICITY = 0.568
ORBITAL_INCLINATION = 87.07
ORBITAL_SEMIMAJOR_AXIS = 8760.22
PERIAPSIS_ALTITUDE = 407.72
PERIAPSIS_ARGUMENT_ANGLE = 74.67
PERIAPSIS_TIME = 2023-06-11T06:57:12.000Z
SPACECRAFT_ORIENTATION = (0.0,-1.0,0.0)
^MEX_ORIENTATION_DESC = "MEX_ORIENTATION_DESC.TXT"
SPACECRAFT_POINTING_MODE = FIXED
^MEX_POINTING_DESC = "MEX_POINTING_DESC.TXT"
RIGHT_ASCENSION = -1e+32
DECLINATION = -1e+32
OFFSET_ANGLE = -1e+32
SPACECRAFT_SOLAR_DISTANCE = 2.49124e+08
TARGET_NAME = MARS
/* CAMERA DATA ELEMENTS */
DETECTOR_TEMPERATURE = 18.5744
FOCAL_PLANE_TEMPERATURE = 7.9716
INST_CMPRS_NAME = "DISCRETE COSINE TRANSFORMATION (DCT)"
INST_CMPRS_RATIO = 7.97216
INST_CMPRS_QUALITY = 0
INST_CMPRS_QUANTZ_TBL_ID = 0
INSTRUMENT_TEMPERATURE = 11.0301
LENS_TEMPERATURE = 8.5833
MACROPIXEL_SIZE = 2
MISSING_FRAMES = 0
PIXEL_SUBSAMPLING_FLAG = N
SIGNAL_CHAIN_ID = 2
/* RADIOMETRIC DATA ELEMENTS */
BANDWIDTH = 76.0
CENTER_FILTER_WAVELENGTH = 444.0
RADIANCE_OFFSET = 0.0
RADIANCE_SCALING_FACTOR = 0.00726161
REFLECTANCE_SCALING_FACTOR = 0.000463036
MEX:REFLECTANCE_OFFSET = 0.0
/* IMAGE OBJECT DEFINITIONS */
OBJECT = IMAGE
  INTERCHANGE_FORMAT = BINARY
  LINES = 3611
  LINE_SAMPLES = 7967
  SAMPLE_TYPE = UNSIGNED_INTEGER
  SAMPLE_BITS = 8
  BANDS = 1
  BAND_STORAGE_TYPE = BAND_SEQUENTIAL
  MAXIMUM = 255
  MEAN = 58.3807
  MINIMUM = 1
  STANDARD_DEVIATION = 37.3596
END_OBJECT = IMAGE
/* MAP OBJECT DEFINITIONS */
OBJECT = IMAGE_MAP_PROJECTION
  ^DATA_SET_MAP_PROJECTION_CATALOG= "DSMAP.CAT"
  A_AXIS_RADIUS = 3396.0
  B_AXIS_RADIUS = 3396.0
  C_AXIS_RADIUS = 3396.0
  CENTER_LATITUDE = -46.6348
  CENTER_LONGITUDE = 30.4122
  COORDINATE_SYSTEM_NAME = PLANETOGRAPHIC
  COORDINATE_SYSTEM_TYPE = "BODY-FIXED ROTATING"
  EASTERNMOST_LONGITUDE = 119.384
  FIRST_STANDARD_PARALLEL = "N/A"
  LINE_FIRST_PIXEL = 1
  LINE_LAST_PIXEL = 3611
  LINE_PROJECTION_OFFSET = 1801.75
  MAP_PROJECTION_ROTATION = 0.0
  MAP_PROJECTION_TYPE = ORTHOGRAPHIC
  MAP_RESOLUTION = 74.08922548333329
  MAP_SCALE = 0.8
  MAXIMUM_LATITUDE = 0.751041
  MINIMUM_LATITUDE = -63.0296
  POSITIVE_LONGITUDE_DIRECTION = EAST
  REFERENCE_LATITUDE = "N/A"
  REFERENCE_LONGITUDE = "N/A"
  SAMPLE_FIRST_PIXEL = 1
  SAMPLE_LAST_PIXEL = 7967
  SAMPLE_PROJECTION_OFFSET = 4052.25
  SECOND_STANDARD_PARALLEL = "N/A"
  WESTERNMOST_LONGITUDE = -65.672
END_OBJECT = IMAGE_MAP_PROJECTION
END
