PDS_VERSION_ID = PDS3
/* FILE DATA ELEMENTS */
RECORD_TYPE = UNDEFINED
/* POINTERS TO DATA OBJECTS */
^IMAGE = ("HO510_0000_ND4.TIF")
/* IDENTIFICATION DATA ELEMENTS */
DATA_SET_ID = "MEX-M-HRSC-4-REFDR-MAPPROJECT-EXT9-V4.0"
DATA_SET_NAME = "MARS EXPRESS HRSC MAP PROJECTED REFDR EXTENSION9 V4.0"
DETECTOR_ID = MEX_HRSC_NADIR
EVENT_TYPE = "MARS-TERMINATOR-CALIBRATION-Tc"
INSTRUMENT_HOST_ID = MEX
INSTRUMENT_HOST_NAME = "MARS EXPRESS"
INSTRUMENT_ID = HRSC
INSTRUMENT_NAME = "HIGH RESOLUTION STEREO CAMERA"
MISSION_NAME = "MARS EXPRESS"
MISSION_PHASE_NAME = ME_Phase_47
PROCESSING_LEVEL_ID = 4
PRODUCT_CREATION_TIME = 2023-11-15T19:24:46.000Z
PRODUCT_ID = "HO510_0000_ND4.TIF"
RELEASE_ID = 0004
REVISION_ID = 0000
/* QUALITY DATA ELEMENTS */
DATA_QUALITY_ID = 1
DATA_QUALITY_DESC = "Data calculated based on original SPICE kernels"
/* TIME DATA ELEMENTS */
SPACECRAFT_CLOCK_START_COUNT = "1/0633523153.24865"
SPACECRAFT_CLOCK_STOP_COUNT = "1/0633523587.21723"
START_TIME = 2023-05-30T10:41:35.384Z
STOP_TIME = 2023-05-30T10:45:15.362Z
/* ORBITAL DATA ELEMENTS */
ASCENDING_NODE_LONGITUDE = 118.51
MAXIMUM_RESOLUTION = 0.3573
FOOTPRINT_POINT_LATITUDE = (-18.9871,-15.549,-11.3589,-8.79727, -3.7071,0.511585,3.53968,1.37842, 2.87305,5.51004,7.47422,5.6311,8.23115, 9.69719,7.46199,8.05226,10.9273,10.31, 11.1482,13.9103,10.8408,10.9146,13.5535 ,11.1473,14.0834,10.1642,6.05536, 3.47768,1.5758,0.110668,-1.90147, -3.01853,-3.36753,-2.80861,-2.10515, -1.07504,0.387531,2.63808,6.3931,7.4868 ,9.51516,6.04334,9.24981,5.87234, 2.92448,6.46874,1.82468,1.6298,0.402949 ,3.2699,0.763773,-0.371504,-4.87567, -1.6724,-6.09169,-4.86807,-8.63383, -8.10352,-10.9159,-10.1681,-13.72, -14.0266,-16.5646,-19.8748,-20.4984, -20.9632,-25.0717,-27.8991,-30.076, -33.4447,-36.0663,-38.1596,-39.9375, -41.4906,-42.7969,-43.9156,-44.8956, -46.4439,-47.5428,-48.2548,-48.6274, -48.6941,-48.4785,-47.9889,-47.2479, -46.2549,-45.0125,-43.5168,-41.7507, -39.6871,-37.2723,-34.4261,-32.8097, -31.0277,-29.0425,-26.8189,-24.207, -21.1335,-19.3322,-18.9871)
FOOTPRINT_POINT_LONGITUDE = (308.947,307.829,307.119,306.999, 307.432,308.487,309.677,308.745,304.501 ,303.273,299.928,297.405,294.662, 291.743,289.561,286.682,285.872,282.872 ,280.275,278.069,276.252,273.719, 272.775,270.042,267.843,266.407,264.022 ,261.842,259.749,257.703,253.669, 249.633,245.525,241.243,238.992,236.639 ,234.139,231.368,228.05,223.872,221.838 ,221.636,219.095,218.913,217.099, 214.277,214.532,211.538,208.725,205.692 ,205.074,201.831,199.779,195.951,195.84 ,192.723,191.871,188.709,186.835, 182.558,179.777,178.945,179.787,180.27, 180.247,180.361,184.016,186.82,189.192, 193.32,197.029,200.432,203.709,206.933, 210.036,213.068,216.082,221.98,227.764, 233.438,239.005,244.457,249.781,254.96, 260.0,264.897,269.658,274.294,278.825, 283.279,287.702,292.156,294.414,296.718 ,299.092,301.553,304.205,307.076,308.65 ,308.947)
ORBIT_NUMBER = 24510
ORBITAL_ECCENTRICITY = 0.568
ORBITAL_INCLINATION = 87.07
ORBITAL_SEMIMAJOR_AXIS = 8757.48
PERIAPSIS_ALTITUDE = 408.89
PERIAPSIS_ARGUMENT_ANGLE = 81.69
PERIAPSIS_TIME = 2023-05-30T08:35:45.000Z
SPACECRAFT_ORIENTATION = (0.0,-1.0,0.0)
^MEX_ORIENTATION_DESC = "MEX_ORIENTATION_DESC.TXT"
SPACECRAFT_POINTING_MODE = FIXED
^MEX_POINTING_DESC = "MEX_POINTING_DESC.TXT"
RIGHT_ASCENSION = -1e+32
DECLINATION = -1e+32
OFFSET_ANGLE = -1e+32
SPACECRAFT_SOLAR_DISTANCE = 2.49221e+08
TARGET_NAME = MARS
/* CAMERA DATA ELEMENTS */
DETECTOR_TEMPERATURE = 18.3705
FOCAL_PLANE_TEMPERATURE = 8.3794
INST_CMPRS_NAME = "DISCRETE COSINE TRANSFORMATION (DCT)"
INST_CMPRS_RATIO = 9.0719
INST_CMPRS_QUALITY = 0
INST_CMPRS_QUANTZ_TBL_ID = 0
INSTRUMENT_TEMPERATURE = 11.0301
LENS_TEMPERATURE = 8.7872
MACROPIXEL_SIZE = 1
MISSING_FRAMES = 0
PIXEL_SUBSAMPLING_FLAG = N
SIGNAL_CHAIN_ID = 0
/* RADIOMETRIC DATA ELEMENTS */
BANDWIDTH = 177.0
CENTER_FILTER_WAVELENGTH = 677.5
RADIANCE_OFFSET = 0.0
RADIANCE_SCALING_FACTOR = 0.0482791
REFLECTANCE_SCALING_FACTOR = 0.00159299
MEX:REFLECTANCE_OFFSET = 0.0
/* IMAGE OBJECT DEFINITIONS */
OBJECT = IMAGE
  INTERCHANGE_FORMAT = BINARY
  LINES = 8846
  LINE_SAMPLES = 14749
  SAMPLE_TYPE = UNSIGNED_INTEGER
  SAMPLE_BITS = 8
  BANDS = 1
  BAND_STORAGE_TYPE = BAND_SEQUENTIAL
  MAXIMUM = 255
  MEAN = 118.346
  MINIMUM = 1
  STANDARD_DEVIATION = 60.316
END_OBJECT = IMAGE
/* MAP OBJECT DEFINITIONS */
OBJECT = IMAGE_MAP_PROJECTION
  ^DATA_SET_MAP_PROJECTION_CATALOG= "DSMAP.CAT"
  A_AXIS_RADIUS = 3396.0
  B_AXIS_RADIUS = 3396.0
  C_AXIS_RADIUS = 3396.0
  CENTER_LATITUDE = -30.9396
  CENTER_LONGITUDE = 251.423
  COORDINATE_SYSTEM_NAME = PLANETOGRAPHIC
  COORDINATE_SYSTEM_TYPE = "BODY-FIXED ROTATING"
  EASTERNMOST_LONGITUDE = 309.677
  FIRST_STANDARD_PARALLEL = "N/A"
  LINE_FIRST_PIXEL = 1
  LINE_LAST_PIXEL = 8846
  LINE_PROJECTION_OFFSET = 6166.0
  MAP_PROJECTION_ROTATION = 0.0
  MAP_PROJECTION_TYPE = ORTHOGRAPHIC
  MAP_RESOLUTION = 148.178450966667
  MAP_SCALE = 0.4
  MAXIMUM_LATITUDE = 14.0834
  MINIMUM_LATITUDE = -48.6941
  POSITIVE_LONGITUDE_DIRECTION = EAST
  REFERENCE_LATITUDE = "N/A"
  REFERENCE_LONGITUDE = "N/A"
  SAMPLE_FIRST_PIXEL = 1
  SAMPLE_LAST_PIXEL = 14749
  SAMPLE_PROJECTION_OFFSET = 7975.0
  SECOND_STANDARD_PARALLEL = "N/A"
  WESTERNMOST_LONGITUDE = 178.945
END_OBJECT = IMAGE_MAP_PROJECTION
END
