PDS_VERSION_ID                    = PDS3
/* FILE DATA ELEMENTS */
RECORD_TYPE                       = UNDEFINED
/* POINTERS TO DATA OBJECTS */
^IMAGE = ("HO510_0000_BL4.TIF")
/* IDENTIFICATION DATA ELEMENTS */
DATA_SET_ID                       = "MEX-M-HRSC-4-REFDR-MAPPROJECT-EXT9-V4.0"
DATA_SET_NAME                     = "MARS EXPRESS HRSC MAP PROJECTED REFDR 
                                     EXTENSION9 V4.0"
DETECTOR_ID                       = MEX_HRSC_BLUE
EVENT_TYPE                        = "MARS-TERMINATOR-CALIBRATION-Tc"
INSTRUMENT_HOST_ID                = MEX
INSTRUMENT_HOST_NAME              = "MARS EXPRESS"
INSTRUMENT_ID                     = HRSC
INSTRUMENT_NAME                   = "HIGH RESOLUTION STEREO CAMERA"
MISSION_NAME                      = "MARS EXPRESS"
MISSION_PHASE_NAME                = ME_Phase_47
PROCESSING_LEVEL_ID               = 4
PRODUCT_CREATION_TIME             = 2023-11-15T19:24:46.000Z
PRODUCT_ID                        = "HO510_0000_BL4.TIF"
RELEASE_ID                        = 0004
REVISION_ID                       = 0000
/* QUALITY DATA ELEMENTS */
DATA_QUALITY_ID                   = 1
DATA_QUALITY_DESC                 = "Data calculated based on original 
                                     SPICE kernels"
/* TIME DATA ELEMENTS */
SPACECRAFT_CLOCK_START_COUNT      = "1/0633523153.24865"
SPACECRAFT_CLOCK_STOP_COUNT       = "1/0633523587.21723"
START_TIME                        = 2023-05-30T10:41:57.390Z
STOP_TIME                         = 2023-05-30T10:45:37.361Z
/* ORBITAL DATA ELEMENTS */
ASCENDING_NODE_LONGITUDE          = 118.51
MAXIMUM_RESOLUTION                = 0.7146 <m/pixel>
FOOTPRINT_POINT_LATITUDE          = (-19.0268,-15.6861,-11.6298,-9.16314,
                                     -4.33345,-0.57011,1.48938,2.25427,
                                     1.65576,4.40601,5.03396,5.46511,8.42555
                                     ,8.91915,8.02795,8.85572,13.5898,
                                     12.1202,13.0917,9.91061,12.824,10.7645,
                                     11.4968,15.2287,13.3785,9.51458,7.10779
                                     ,3.9067,1.65365,-0.0731964,-1.43913,
                                     -3.35861,-4.45013,-4.81494,-4.42638,
                                     -3.81404,-2.9083,-1.67729,0.0879789,
                                     2.70788,4.8396,8.511,6.49998,8.77587,
                                     4.22096,5.42416,4.69236,0.911178,
                                     -0.0287281,2.18928,-0.0738969,-2.88453,
                                     -5.13916,-5.11003,-7.06616,-7.4343,
                                     -9.37297,-9.07814,-11.5412,-14.1303,
                                     -14.2569,-18.5763,-21.2037,-21.725,
                                     -21.9441,-25.8312,-28.5527,-30.6714,
                                     -32.4494,-33.9793,-36.5756,-38.6565,
                                     -40.4199,-41.9727,-43.276,-44.3894,
                                     -45.3754,-46.9225,-48.0178,-48.7261,
                                     -49.0924,-49.1506,-48.9264,-48.4248,
                                     -47.6693,-46.6596,-45.4003,-43.8822,
                                     -42.096,-40.005,-37.5534,-34.6839,
                                     -33.0487,-31.2437,-29.2332,-26.9748,
                                     -24.3316,-21.2067,-19.3618,-19.0268)
FOOTPRINT_POINT_LONGITUDE         = (309.445,308.323,307.592,307.449,
                                     307.792,308.638,309.334,309.592,306.81,
                                     303.254,299.411,295.863,295.006,291.77,
                                     288.39,285.603,285.299,283.46,279.449,
                                     277.577,275.398,273.848,271.433,270.582
                                     ,269.142,267.67,266.41,264.127,261.982,
                                     259.908,257.874,253.857,249.836,245.744
                                     ,241.512,239.292,236.982,234.559,
                                     231.948,229.023,227.263,224.941,222.911
                                     ,220.775,219.543,216.259,211.947,
                                     211.887,208.975,206.301,203.693,201.08,
                                     197.819,195.493,193.967,191.451,189.505
                                     ,186.09,183.59,180.262,179.327,180.535,
                                     180.578,180.49,180.485,183.987,186.715,
                                     189.043,191.16,193.127,196.821,200.222,
                                     203.493,206.732,209.845,212.885,215.928
                                     ,221.866,227.693,233.417,239.034,
                                     244.537,249.914,255.141,260.224,265.16,
                                     269.955,274.622,279.176,283.653,288.104
                                     ,292.565,294.831,297.146,299.53,302.007
                                     ,304.669,307.563,309.16,309.445)
ORBIT_NUMBER                      = 24510
ORBITAL_ECCENTRICITY              = 0.568
ORBITAL_INCLINATION               = 87.07
ORBITAL_SEMIMAJOR_AXIS            = 8757.48
PERIAPSIS_ALTITUDE                = 408.89
PERIAPSIS_ARGUMENT_ANGLE          = 81.69
PERIAPSIS_TIME                    = 2023-05-30T08:35:45.000Z
SPACECRAFT_ORIENTATION            = (0.0,-1.0,0.0)
^MEX_ORIENTATION_DESC             = "MEX_ORIENTATION_DESC.TXT"
SPACECRAFT_POINTING_MODE          = FIXED
^MEX_POINTING_DESC                = "MEX_POINTING_DESC.TXT"
RIGHT_ASCENSION                   = -1e+32
DECLINATION                       = -1e+32
OFFSET_ANGLE                      = -1e+32
SPACECRAFT_SOLAR_DISTANCE         = 2.49221e+08
TARGET_NAME                       = MARS
/* CAMERA DATA ELEMENTS */
DETECTOR_TEMPERATURE              = 18.3705 <degC>
FOCAL_PLANE_TEMPERATURE           = 8.3794 <degC>
INST_CMPRS_NAME                   = "DISCRETE COSINE TRANSFORMATION (DCT)"
INST_CMPRS_RATIO                  = 9.53024
INST_CMPRS_QUALITY                = 0
INST_CMPRS_QUANTZ_TBL_ID          = 0
INSTRUMENT_TEMPERATURE            = 11.0301 <degC>
LENS_TEMPERATURE                  = 8.7872 <degC>
MACROPIXEL_SIZE                   = 2
MISSING_FRAMES                    = 0
PIXEL_SUBSAMPLING_FLAG            = N
SIGNAL_CHAIN_ID                   = 2
/* RADIOMETRIC DATA ELEMENTS */
BANDWIDTH                         = 76.0 <nm>
CENTER_FILTER_WAVELENGTH          = 444.0 <nm>
RADIANCE_OFFSET                   = 0.0 <W*m**-2*sr**-1>
RADIANCE_SCALING_FACTOR           = 0.00934814 <W*m**-2*sr**-1>
REFLECTANCE_SCALING_FACTOR        = 0.000596557
MEX:REFLECTANCE_OFFSET            = 0.0
/* IMAGE OBJECT DEFINITIONS */
OBJECT                            = IMAGE
  INTERCHANGE_FORMAT              = BINARY
  LINES                           = 4423
  LINE_SAMPLES                    = 7375
  SAMPLE_TYPE                     = UNSIGNED_INTEGER
  SAMPLE_BITS                     = 8
  BANDS                           = 1
  BAND_STORAGE_TYPE               = BAND_SEQUENTIAL
  MAXIMUM                         = 255
  MEAN                            = 102.142
  MINIMUM                         = 10
  STANDARD_DEVIATION              = 53.7524
END_OBJECT                        = IMAGE
/* MAP OBJECT DEFINITIONS */
OBJECT                            = IMAGE_MAP_PROJECTION
  ^DATA_SET_MAP_PROJECTION_CATALOG= "DSMAP.CAT"
  A_AXIS_RADIUS                   = 3396.0 <km>
  B_AXIS_RADIUS                   = 3396.0 <km>
  C_AXIS_RADIUS                   = 3396.0 <km>
  CENTER_LATITUDE                 = -30.9396
  CENTER_LONGITUDE                = 251.423
  COORDINATE_SYSTEM_NAME          = PLANETOGRAPHIC
  COORDINATE_SYSTEM_TYPE          = "BODY-FIXED ROTATING"
  EASTERNMOST_LONGITUDE           = 309.592
  FIRST_STANDARD_PARALLEL         = "N/A"
  LINE_FIRST_PIXEL                = 1
  LINE_LAST_PIXEL                 = 4423
  LINE_PROJECTION_OFFSET          = 3082.75
  MAP_PROJECTION_ROTATION         = 0.0
  MAP_PROJECTION_TYPE             = ORTHOGRAPHIC
  MAP_RESOLUTION                  = 74.08922548333329 <pixel/degree>
  MAP_SCALE                       = 0.8 <km/pixel>
  MAXIMUM_LATITUDE                = 15.2287
  MINIMUM_LATITUDE                = -49.1506
  POSITIVE_LONGITUDE_DIRECTION    = EAST
  REFERENCE_LATITUDE              = "N/A"
  REFERENCE_LONGITUDE             = "N/A"
  SAMPLE_FIRST_PIXEL              = 1
  SAMPLE_LAST_PIXEL               = 7375
  SAMPLE_PROJECTION_OFFSET        = 3987.25
  SECOND_STANDARD_PARALLEL        = "N/A"
  WESTERNMOST_LONGITUDE           = 179.327
END_OBJECT                        = IMAGE_MAP_PROJECTION
END