PDS_VERSION_ID = PDS3
/* FILE DATA ELEMENTS */
RECORD_TYPE = UNDEFINED
/* POINTERS TO DATA OBJECTS */
^IMAGE = ("HO508_0000_ND4.TIF")
/* IDENTIFICATION DATA ELEMENTS */
DATA_SET_ID = "MEX-M-HRSC-4-REFDR-MAPPROJECT-EXT9-V4.0"
DATA_SET_NAME = "MARS EXPRESS HRSC MAP PROJECTED REFDR EXTENSION9 V4.0"
DETECTOR_ID = MEX_HRSC_NADIR
EVENT_TYPE = "MARS-TERMINATOR-CALIBRATION-Tc"
INSTRUMENT_HOST_ID = MEX
INSTRUMENT_HOST_NAME = "MARS EXPRESS"
INSTRUMENT_ID = HRSC
INSTRUMENT_NAME = "HIGH RESOLUTION STEREO CAMERA"
MISSION_NAME = "MARS EXPRESS"
MISSION_PHASE_NAME = ME_Phase_47
PROCESSING_LEVEL_ID = 4
PRODUCT_CREATION_TIME = 2023-11-15T19:24:46.000Z
PRODUCT_ID = "HO508_0000_ND4.TIF"
RELEASE_ID = 0004
REVISION_ID = 0000
/* QUALITY DATA ELEMENTS */
DATA_QUALITY_ID = 1
DATA_QUALITY_DESC = "Data calculated based on original SPICE kernels"
/* TIME DATA ELEMENTS */
SPACECRAFT_CLOCK_START_COUNT = "1/0633472509.24912"
SPACECRAFT_CLOCK_STOP_COUNT = "1/0633472949.23567"
START_TIME = 2023-05-29T20:37:31.379Z
STOP_TIME = 2023-05-29T20:41:17.336Z
/* ORBITAL DATA ELEMENTS */
ASCENDING_NODE_LONGITUDE = 118.55
MAXIMUM_RESOLUTION = 0.3473
FOOTPRINT_POINT_LATITUDE = (-17.6852,-14.3121,-10.1861,-7.64586, -4.49467,0.272855,2.56266,1.67507, 3.11702,3.37114,4.61801,7.52892,8.59636 ,6.84784,8.95923,10.0474,9.60287, 11.8938,10.358,14.2926,15.3236,11.5202, 14.0771,11.9404,12.4397,9.19293,5.1914, 2.56879,0.570048,-1.06256,-2.37947, -4.36659,-5.5779,-6.15871,-6.09192, -5.40468,-4.70953,-3.7478,-2.45334, -0.608216,2.14848,4.2584,7.87045,7.6185 ,4.79772,3.50425,3.77492,5.64991, 2.19261,-1.27435,-0.386931,-3.27913, -2.80368,-5.34972,-5.13093,-7.90698, -10.237,-12.2457,-14.527,-14.592, -16.9689,-22.2241,-22.7319,-22.947, -26.4518,-28.9818,-31.0066,-32.6852, -34.1278,-36.5684,-38.4959,-40.1379, -41.5674,-42.7884,-43.8303,-44.7287, -46.1363,-47.1056,-47.7041,-47.9758, -47.9583,-47.6729,-47.13,-46.3397, -45.3134,-44.0503,-42.5339,-40.7591, -38.6915,-36.277,-34.9233,-33.4401, -31.8198,-30.0231,-28.0245,-25.7594, -23.1291,-19.9725,-18.0397,-17.6852)
FOOTPRINT_POINT_LONGITUDE = (155.481,154.458,153.871,153.838, 154.133,155.311,156.223,155.918,153.809 ,151.443,149.609,148.584,144.858, 142.341,139.464,136.449,133.19,132.26, 128.967,128.421,125.809,123.704,121.473 ,119.864,117.409,115.907,113.394, 111.145,109.012,106.945,104.921,100.934 ,96.9614,92.9378,88.7991,84.4928, 82.2289,79.8669,77.3738,74.6592,71.5611 ,69.7027,67.2117,64.4987,62.6682,60.192 ,56.9452,54.4043,54.315,50.5284,46.1446 ,43.25,40.5878,39.4548,36.4997,35.1234, 33.0242,30.242,26.7036,25.6968,26.5552, 26.8359,26.7585,26.6928,30.1579,32.9266 ,35.3451,37.521,39.5378,43.3151,46.7493 ,50.0613,53.3144,56.4774,59.5635, 62.6073,68.5535,74.3436,79.9972,85.5151 ,90.9036,96.1467,101.233,106.173, 110.975,115.649,120.222,124.704,129.132 ,133.554,135.775,138.029,140.318, 142.672,145.105,147.66,150.402,153.433, 155.165,155.481)
ORBIT_NUMBER = 24508
ORBITAL_ECCENTRICITY = 0.568
ORBITAL_INCLINATION = 87.07
ORBITAL_SEMIMAJOR_AXIS = 8755.99
PERIAPSIS_ALTITUDE = 408.75
PERIAPSIS_ARGUMENT_ANGLE = 82.02
PERIAPSIS_TIME = 2023-05-29T18:37:36.000Z
SPACECRAFT_ORIENTATION = (0.0,-1.0,0.0)
^MEX_ORIENTATION_DESC = "MEX_ORIENTATION_DESC.TXT"
SPACECRAFT_POINTING_MODE = FIXED
^MEX_POINTING_DESC = "MEX_POINTING_DESC.TXT"
RIGHT_ASCENSION = -1e+32
DECLINATION = -1e+32
OFFSET_ANGLE = -1e+32
SPACECRAFT_SOLAR_DISTANCE = 2.4922e+08
TARGET_NAME = MARS
/* CAMERA DATA ELEMENTS */
DETECTOR_TEMPERATURE = 18.3705
FOCAL_PLANE_TEMPERATURE = 8.5833
INST_CMPRS_NAME = "DISCRETE COSINE TRANSFORMATION (DCT)"
INST_CMPRS_RATIO = 8.63211
INST_CMPRS_QUALITY = 0
INST_CMPRS_QUANTZ_TBL_ID = 0
INSTRUMENT_TEMPERATURE = 11.0301
LENS_TEMPERATURE = 8.5833
MACROPIXEL_SIZE = 1
MISSING_FRAMES = 0
PIXEL_SUBSAMPLING_FLAG = N
SIGNAL_CHAIN_ID = 0
/* RADIOMETRIC DATA ELEMENTS */
BANDWIDTH = 177.0
CENTER_FILTER_WAVELENGTH = 677.5
RADIANCE_OFFSET = 0.0
RADIANCE_SCALING_FACTOR = 0.038221
REFLECTANCE_SCALING_FACTOR = 0.00126111
MEX:REFLECTANCE_OFFSET = 0.0
/* IMAGE OBJECT DEFINITIONS */
OBJECT = IMAGE
  INTERCHANGE_FORMAT = BINARY
  LINES = 8741
  LINE_SAMPLES = 14833
  SAMPLE_TYPE = UNSIGNED_INTEGER
  SAMPLE_BITS = 8
  BANDS = 1
  BAND_STORAGE_TYPE = BAND_SEQUENTIAL
  MAXIMUM = 254
  MEAN = 123.066
  MINIMUM = 1
  STANDARD_DEVIATION = 46.5778
END_OBJECT = IMAGE
/* MAP OBJECT DEFINITIONS */
OBJECT = IMAGE_MAP_PROJECTION
  ^DATA_SET_MAP_PROJECTION_CATALOG= "DSMAP.CAT"
  A_AXIS_RADIUS = 3396.0
  B_AXIS_RADIUS = 3396.0
  C_AXIS_RADIUS = 3396.0
  CENTER_LATITUDE = -30.7738
  CENTER_LONGITUDE = 97.6131
  COORDINATE_SYSTEM_NAME = PLANETOGRAPHIC
  COORDINATE_SYSTEM_TYPE = "BODY-FIXED ROTATING"
  EASTERNMOST_LONGITUDE = 156.223
  FIRST_STANDARD_PARALLEL = "N/A"
  LINE_FIRST_PIXEL = 1
  LINE_LAST_PIXEL = 8741
  LINE_PROJECTION_OFFSET = 6102.0
  MAP_PROJECTION_ROTATION = 0.0
  MAP_PROJECTION_TYPE = ORTHOGRAPHIC
  MAP_RESOLUTION = 148.178450966667
  MAP_SCALE = 0.4
  MAXIMUM_LATITUDE = 15.3236
  MINIMUM_LATITUDE = -47.9758
  POSITIVE_LONGITUDE_DIRECTION = EAST
  REFERENCE_LATITUDE = "N/A"
  REFERENCE_LONGITUDE = "N/A"
  SAMPLE_FIRST_PIXEL = 1
  SAMPLE_LAST_PIXEL = 14833
  SAMPLE_PROJECTION_OFFSET = 7982.0
  SECOND_STANDARD_PARALLEL = "N/A"
  WESTERNMOST_LONGITUDE = 25.6968
END_OBJECT = IMAGE_MAP_PROJECTION
END
