PDS_VERSION_ID = PDS3
/* FILE DATA ELEMENTS */
RECORD_TYPE = UNDEFINED
/* POINTERS TO DATA OBJECTS */
^IMAGE = ("HO464_0000_ND4.TIF")
/* IDENTIFICATION DATA ELEMENTS */
DATA_SET_ID = "MEX-M-HRSC-4-REFDR-MAPPROJECT-EXT9-V4.0"
DATA_SET_NAME = "MARS EXPRESS HRSC MAP PROJECTED REFDR EXTENSION9 V4.0"
DETECTOR_ID = MEX_HRSC_NADIR
EVENT_TYPE = "MARS-TERMINATOR-CALIBRATION-Tc"
INSTRUMENT_HOST_ID = MEX
INSTRUMENT_HOST_NAME = "MARS EXPRESS"
INSTRUMENT_ID = HRSC
INSTRUMENT_NAME = "HIGH RESOLUTION STEREO CAMERA"
MISSION_NAME = "MARS EXPRESS"
MISSION_PHASE_NAME = ME_Phase_47
PROCESSING_LEVEL_ID = 4
PRODUCT_CREATION_TIME = 2023-11-15T19:24:46.000Z
PRODUCT_ID = "HO464_0000_ND4.TIF"
RELEASE_ID = 0004
REVISION_ID = 0000
/* QUALITY DATA ELEMENTS */
DATA_QUALITY_ID = 1
DATA_QUALITY_DESC = "Data calculated based on original SPICE kernels"
/* TIME DATA ELEMENTS */
SPACECRAFT_CLOCK_START_COUNT = "1/0632365886.23986"
SPACECRAFT_CLOCK_STOP_COUNT = "1/0632366323.21316"
START_TIME = 2023-05-17T01:13:47.340Z
STOP_TIME = 2023-05-17T01:17:32.318Z
/* ORBITAL DATA ELEMENTS */
ASCENDING_NODE_LONGITUDE = 119.32
MAXIMUM_RESOLUTION = 0.3399
FOOTPRINT_POINT_LATITUDE = (-19.9068,-16.6502,-12.7469,-10.4234, -7.70025,-4.28993,-2.09153,0.887014, 3.22491,6.0464,3.87259,4.66879,6.53243, 4.77057,9.15474,5.30371,7.92738,6.34039 ,9.01956,7.36618,7.50799,10.9237, 7.96711,10.0595,8.04702,11.2151,9.31109 ,8.06501,7.55182,7.70097,8.94805,4.5983 ,2.03314,0.271926,-1.91348,-2.88599, -2.57434,-1.87549,-0.673913,1.42081, 1.52426,6.14304,5.82476,0.587481, 2.47799,-0.529621,1.03664,-1.0691, 1.76743,-1.31816,-1.74954,-4.92894, -5.93835,-3.33795,-4.55237,-8.40132, -7.28331,-9.72922,-12.6287,-10.7092, -10.6344,-12.9379,-15.3217,-17.3343, -19.4129,-26.1252,-29.6103,-32.0779, -34.0912,-37.2918,-39.8246,-41.8679, -43.5498,-44.9728,-46.194,-47.2232, -48.0966,-48.8251,-49.9083,-50.5563, -50.8236,-50.7555,-50.3709,-49.7064, -48.7798,-47.6029,-46.1841,-44.5004, -42.5612,-40.3319,-37.7815,-34.8336, -33.1798,-31.3838,-29.4111,-27.2086, -24.7519,-21.9015,-20.2512,-19.9068)
FOOTPRINT_POINT_LONGITUDE = (320.97,319.688,318.662,318.284,318.044 ,318.039,318.206,318.648,319.176, 320.053,317.29,313.673,312.322,308.573, 307.852,305.526,302.954,301.277,300.234 ,297.25,294.618,291.037,289.586,288.454 ,287.146,286.041,284.771,282.417, 280.115,277.822,275.485,273.576,271.656 ,269.724,265.793,261.727,257.4,255.089, 252.623,249.869,247.539,245.002,242.572 ,242.937,238.505,238.193,236.331,235.7, 233.284,231.583,227.239,226.929,224.093 ,221.274,218.163,217.979,215.506, 212.357,211.374,207.981,205.244,203.485 ,201.369,198.591,194.939,199.16,202.226 ,204.682,206.891,210.89,214.598,218.089 ,221.431,224.696,227.922,231.091, 234.229,237.331,243.44,249.416,255.237, 260.885,266.326,271.564,276.59,281.403, 286.01,290.435,294.694,298.823,302.852, 306.837,308.831,310.84,312.881,314.982, 317.152,319.461,320.705,320.97)
ORBIT_NUMBER = 24464
ORBITAL_ECCENTRICITY = 0.568
ORBITAL_INCLINATION = 87.07
ORBITAL_SEMIMAJOR_AXIS = 8754.43
PERIAPSIS_ALTITUDE = 408.84
PERIAPSIS_ARGUMENT_ANGLE = 89.57
PERIAPSIS_TIME = 2023-05-16T23:19:02.000Z
SPACECRAFT_ORIENTATION = (0.0,-1.0,0.0)
^MEX_ORIENTATION_DESC = "MEX_ORIENTATION_DESC.TXT"
SPACECRAFT_POINTING_MODE = FIXED
^MEX_POINTING_DESC = "MEX_POINTING_DESC.TXT"
RIGHT_ASCENSION = -1e+32
DECLINATION = -1e+32
OFFSET_ANGLE = -1e+32
SPACECRAFT_SOLAR_DISTANCE = 2.49078e+08
TARGET_NAME = MARS
/* CAMERA DATA ELEMENTS */
DETECTOR_TEMPERATURE = 18.1666
FOCAL_PLANE_TEMPERATURE = 8.5833
INST_CMPRS_NAME = "DISCRETE COSINE TRANSFORMATION (DCT)"
INST_CMPRS_RATIO = 9.69147
INST_CMPRS_QUALITY = 0
INST_CMPRS_QUANTZ_TBL_ID = 0
INSTRUMENT_TEMPERATURE = 11.0301
LENS_TEMPERATURE = 8.7872
MACROPIXEL_SIZE = 1
MISSING_FRAMES = 0
PIXEL_SUBSAMPLING_FLAG = N
SIGNAL_CHAIN_ID = 0
/* RADIOMETRIC DATA ELEMENTS */
BANDWIDTH = 177.0
CENTER_FILTER_WAVELENGTH = 677.5
RADIANCE_OFFSET = 0.0
RADIANCE_SCALING_FACTOR = 0.0480785
REFLECTANCE_SCALING_FACTOR = 0.00158457
MEX:REFLECTANCE_OFFSET = 0.0
/* IMAGE OBJECT DEFINITIONS */
OBJECT = IMAGE
  INTERCHANGE_FORMAT = BINARY
  LINES = 8827
  LINE_SAMPLES = 14225
  SAMPLE_TYPE = UNSIGNED_INTEGER
  SAMPLE_BITS = 8
  BANDS = 1
  BAND_STORAGE_TYPE = BAND_SEQUENTIAL
  MAXIMUM = 255
  MEAN = 112.585
  MINIMUM = 1
  STANDARD_DEVIATION = 59.9211
END_OBJECT = IMAGE
/* MAP OBJECT DEFINITIONS */
OBJECT = IMAGE_MAP_PROJECTION
  ^DATA_SET_MAP_PROJECTION_CATALOG= "DSMAP.CAT"
  A_AXIS_RADIUS = 3396.0
  B_AXIS_RADIUS = 3396.0
  C_AXIS_RADIUS = 3396.0
  CENTER_LATITUDE = -33.034
  CENTER_LONGITUDE = 267.199
  COORDINATE_SYSTEM_NAME = PLANETOGRAPHIC
  COORDINATE_SYSTEM_TYPE = "BODY-FIXED ROTATING"
  EASTERNMOST_LONGITUDE = 320.97
  FIRST_STANDARD_PARALLEL = "N/A"
  LINE_FIRST_PIXEL = 1
  LINE_LAST_PIXEL = 8827
  LINE_PROJECTION_OFFSET = 6100.0
  MAP_PROJECTION_ROTATION = 0.0
  MAP_PROJECTION_TYPE = ORTHOGRAPHIC
  MAP_RESOLUTION = 148.178450966667
  MAP_SCALE = 0.4
  MAXIMUM_LATITUDE = 11.2151
  MINIMUM_LATITUDE = -50.8236
  POSITIVE_LONGITUDE_DIRECTION = EAST
  REFERENCE_LATITUDE = "N/A"
  REFERENCE_LONGITUDE = "N/A"
  SAMPLE_FIRST_PIXEL = 1
  SAMPLE_LAST_PIXEL = 14225
  SAMPLE_PROJECTION_OFFSET = 7784.0
  SECOND_STANDARD_PARALLEL = "N/A"
  WESTERNMOST_LONGITUDE = 194.939
END_OBJECT = IMAGE_MAP_PROJECTION
END
