PDS_VERSION_ID = PDS3
/* FILE DATA ELEMENTS */
RECORD_TYPE = UNDEFINED
/* POINTERS TO DATA OBJECTS */
^IMAGE = ("HO412_0000_GR4.TIF")
/* IDENTIFICATION DATA ELEMENTS */
DATA_SET_ID = "MEX-M-HRSC-4-REFDR-MAPPROJECT-EXT9-V4.0"
DATA_SET_NAME = "MARS EXPRESS HRSC MAP PROJECTED REFDR EXTENSION9 V4.0"
DETECTOR_ID = MEX_HRSC_GREEN
EVENT_TYPE = "MARS-TERMINATOR-CALIBRATION-Tc"
INSTRUMENT_HOST_ID = MEX
INSTRUMENT_HOST_NAME = "MARS EXPRESS"
INSTRUMENT_ID = HRSC
INSTRUMENT_NAME = "HIGH RESOLUTION STEREO CAMERA"
MISSION_NAME = "MARS EXPRESS"
MISSION_PHASE_NAME = ME_Phase_47
PROCESSING_LEVEL_ID = 4
PRODUCT_CREATION_TIME = 2023-11-15T19:24:46.000Z
PRODUCT_ID = "HO412_0000_GR4.TIF"
RELEASE_ID = 0004
REVISION_ID = 0000
/* QUALITY DATA ELEMENTS */
DATA_QUALITY_ID = 1
DATA_QUALITY_DESC = "Data calculated based on original SPICE kernels"
/* TIME DATA ELEMENTS */
SPACECRAFT_CLOCK_START_COUNT = "1/0631057546.23978"
SPACECRAFT_CLOCK_STOP_COUNT = "1/0631058000.13155"
START_TIME = 2023-05-01T21:47:45.311Z
STOP_TIME = 2023-05-01T21:51:49.506Z
/* ORBITAL DATA ELEMENTS */
ASCENDING_NODE_LONGITUDE = 120.22
MAXIMUM_RESOLUTION = 0.6149
FOOTPRINT_POINT_LATITUDE = (-12.8985,-16.3255,-17.9956,-18.8334, -18.5025,-17.6792,-16.4097,-14.6818, -12.3998,-9.30044,-5.91424,-3.26703, -1.88831,-0.375512,-1.18301,1.28681, -5.17454,-9.35839,-12.3327,-14.7485, -18.6623,-21.8471,-24.5755,-26.9759, -29.1191,-32.8766,-36.0852,-38.8991, -41.3314,-43.5213,-45.4088,-47.0543, -48.4672,-49.6046,-50.4812,-51.1801, -51.3601,-51.2648,-50.7727,-49.8289, -48.3533,-47.3433,-46.1829,-44.76, -43.0609,-41.0032,-38.4354,-35.1056, -32.9954,-30.2918,-26.3639,-21.688, -23.4714,-24.4024,-28.8531,-33.2301, -34.7575,-35.4907,-35.2023,-33.3518, -32.5688,-32.5896,-35.1906,-36.5803, -40.7208,-46.5023,-50.0974,-52.9353, -57.5035,-61.0622,-64.0174,-66.6193, -68.9522,-71.0166,-74.4994,-77.1375, -78.814,-79.3798,-78.861,-76.9605, -73.7556,-71.282,-68.638,-65.8461, -62.9151,-59.8289,-56.5504,-53.0506, -49.2521,-44.9921,-42.64,-40.0789, -37.2942,-34.0843,-30.2864,-28.08, -25.2753,-21.8062,-16.0731,-12.8985)
FOOTPRINT_POINT_LONGITUDE = (267.437,263.916,260.596,255.42,252.501 ,249.873,247.501,245.376,243.515, 241.999,241.274,241.274,241.465,241.209 ,237.447,234.908,231.694,229.902, 228.509,227.294,225.143,223.196,221.362 ,219.596,217.873,214.464,211.041, 207.532,203.912,200.116,196.137,191.935 ,187.499,182.803,177.847,171.203, 166.904,161.198,155.293,149.23,143.039, 139.849,136.674,133.402,130.062,126.614 ,122.977,119.031,116.862,114.391, 111.274,106.317,101.485,100.236,100.324 ,97.2347,94.4858,91.1472,87.111,83.5843 ,82.6521,82.4947,76.8262,72.2163, 70.9186,74.2022,76.4762,78.4548,82.1389 ,85.5616,88.9344,92.5275,96.4914, 100.802,111.11,124.514,141.455,160.74, 179.187,198.219,213.202,220.3,225.953, 230.561,234.495,237.96,241.128,244.061, 246.894,249.792,251.285,252.849,254.471 ,256.3,258.401,259.593,261.127,262.995, 266.089,267.437)
ORBIT_NUMBER = 24412
ORBITAL_ECCENTRICITY = 0.568
ORBITAL_INCLINATION = 87.08
ORBITAL_SEMIMAJOR_AXIS = 8755.13
PERIAPSIS_ALTITUDE = 406.87
PERIAPSIS_ARGUMENT_ANGLE = 98.45
PERIAPSIS_TIME = 2023-05-01T20:07:55.000Z
SPACECRAFT_ORIENTATION = (0.0,-1.0,0.0)
^MEX_ORIENTATION_DESC = "MEX_ORIENTATION_DESC.TXT"
SPACECRAFT_POINTING_MODE = FIXED
^MEX_POINTING_DESC = "MEX_POINTING_DESC.TXT"
RIGHT_ASCENSION = -1e+32
DECLINATION = -1e+32
OFFSET_ANGLE = -1e+32
SPACECRAFT_SOLAR_DISTANCE = 2.48596e+08
TARGET_NAME = MARS
/* CAMERA DATA ELEMENTS */
DETECTOR_TEMPERATURE = 18.3705
FOCAL_PLANE_TEMPERATURE = 8.5833
INST_CMPRS_NAME = "DISCRETE COSINE TRANSFORMATION (DCT)"
INST_CMPRS_RATIO = 6.92751
INST_CMPRS_QUALITY = 0
INST_CMPRS_QUANTZ_TBL_ID = 0
INSTRUMENT_TEMPERATURE = 11.6418
LENS_TEMPERATURE = 8.7872
MACROPIXEL_SIZE = 2
PIXEL_SUBSAMPLING_FLAG = N
SIGNAL_CHAIN_ID = 2
/* RADIOMETRIC DATA ELEMENTS */
BANDWIDTH = 88.0
CENTER_FILTER_WAVELENGTH = 538.0
RADIANCE_OFFSET = 0.0
RADIANCE_SCALING_FACTOR = 0.00271445
REFLECTANCE_SCALING_FACTOR = 0.000144435
MEX:REFLECTANCE_OFFSET = 0.0
/* IMAGE OBJECT DEFINITIONS */
OBJECT = IMAGE
  INTERCHANGE_FORMAT = BINARY
  LINES = 5599
  LINE_SAMPLES = 7955
  SAMPLE_TYPE = UNSIGNED_INTEGER
  SAMPLE_BITS = 8
  BANDS = 1
  BAND_STORAGE_TYPE = BAND_SEQUENTIAL
  MAXIMUM = 255
  MEAN = 120.481
  MINIMUM = 1
  STANDARD_DEVIATION = 106.293
END_OBJECT = IMAGE
/* MAP OBJECT DEFINITIONS */
OBJECT = IMAGE_MAP_PROJECTION
  ^DATA_SET_MAP_PROJECTION_CATALOG= "DSMAP.CAT"
  A_AXIS_RADIUS = 3396.0
  B_AXIS_RADIUS = 3396.0
  C_AXIS_RADIUS = 3396.0
  CENTER_LATITUDE = -63.1852
  CENTER_LONGITUDE = 190.806
  COORDINATE_SYSTEM_NAME = PLANETOGRAPHIC
  COORDINATE_SYSTEM_TYPE = "BODY-FIXED ROTATING"
  EASTERNMOST_LONGITUDE = 267.437
  FIRST_STANDARD_PARALLEL = "N/A"
  LINE_FIRST_PIXEL = 1
  LINE_LAST_PIXEL = 5599
  LINE_PROJECTION_OFFSET = 2808.0
  MAP_PROJECTION_ROTATION = 0.0
  MAP_PROJECTION_TYPE = ORTHOGRAPHIC
  MAP_RESOLUTION = 74.08922548333329
  MAP_SCALE = 0.8
  MAXIMUM_LATITUDE = 1.28681
  MINIMUM_LATITUDE = -79.3798
  POSITIVE_LONGITUDE_DIRECTION = EAST
  REFERENCE_LATITUDE = "N/A"
  REFERENCE_LONGITUDE = "N/A"
  SAMPLE_FIRST_PIXEL = 1
  SAMPLE_LAST_PIXEL = 7955
  SAMPLE_PROJECTION_OFFSET = 3969.0
  SECOND_STANDARD_PARALLEL = "N/A"
  WESTERNMOST_LONGITUDE = 70.9186
END_OBJECT = IMAGE_MAP_PROJECTION
END
