PDS_VERSION_ID = PDS3
/* FILE DATA ELEMENTS */
RECORD_TYPE = UNDEFINED
/* POINTERS TO DATA OBJECTS */
^IMAGE = ("HO370_0000_IR4.TIF")
/* IDENTIFICATION DATA ELEMENTS */
DATA_SET_ID = "MEX-M-HRSC-4-REFDR-MAPPROJECT-EXT9-V4.0"
DATA_SET_NAME = "MARS EXPRESS HRSC MAP PROJECTED REFDR EXTENSION9 V4.0"
DETECTOR_ID = MEX_HRSC_IR
EVENT_TYPE = "MARS-REGIONAL-MAPPING-Im-Gl-Pf"
INSTRUMENT_HOST_ID = MEX
INSTRUMENT_HOST_NAME = "MARS EXPRESS"
INSTRUMENT_ID = HRSC
INSTRUMENT_NAME = "HIGH RESOLUTION STEREO CAMERA"
MISSION_NAME = "MARS EXPRESS"
MISSION_PHASE_NAME = ME_Phase_47
PROCESSING_LEVEL_ID = 4
PRODUCT_CREATION_TIME = 2023-11-15T01:26:02.000Z
PRODUCT_ID = "HO370_0000_IR4.TIF"
RELEASE_ID = 0003
REVISION_ID = 0000
/* QUALITY DATA ELEMENTS */
DATA_QUALITY_ID = 1
DATA_QUALITY_DESC = "Data calculated based on original SPICE kernels"
/* TIME DATA ELEMENTS */
SPACECRAFT_CLOCK_START_COUNT = "1/0629995658.23989"
SPACECRAFT_CLOCK_STOP_COUNT = "1/0629995967.53215"
START_TIME = 2023-04-19T14:48:19.450Z
STOP_TIME = 2023-04-19T14:52:08.616Z
/* ORBITAL DATA ELEMENTS */
ASCENDING_NODE_LONGITUDE = 120.95
MAXIMUM_RESOLUTION = 0.0661
FOOTPRINT_POINT_LATITUDE = (70.7883,70.7388,70.6924,70.6388,70.637 ,70.5948,69.9704,69.1888,68.7192, 68.2492,67.9355,67.6216,67.3075,66.9931 ,66.6785,66.3639,66.0491,65.7336, 65.4182,65.1025,64.7864,64.3117,63.9952 ,63.5113,63.0232,62.6973,62.3711, 62.0445,61.5541,61.2268,60.8991,60.5644 ,60.0591,59.722,59.3846,59.047,58.7087, 58.3659,57.8438,57.4956,57.1469,56.7979 ,56.4441,56.0859,55.7271,55.3679, 55.0079,54.6402,54.2704,54.0854,54.0447 ,54.0797,54.1109,54.132,54.1324,54.1339 ,54.5049,54.875,55.2399,55.6005,55.9605 ,56.3201,56.6793,57.0303,57.38,57.9036, 58.4266,58.7717,59.1111,59.4499,59.7885 ,60.1269,60.4649,60.8023,61.1346, 61.4632,61.9554,62.4472,62.7747,63.102, 63.4291,63.7564,64.0796,64.3973,64.8742 ,65.1917,65.5089,65.9843,66.3012, 66.6176,67.0922,67.7245,68.1984,68.6717 ,68.9871,69.46,70.09,70.5622,70.7195, 70.7883)
FOOTPRINT_POINT_LONGITUDE = (178.25,176.672,175.49,174.325,174.289, 174.267,174.529,174.834,175.004,175.167 ,175.271,175.372,175.469,175.564, 175.655,175.744,175.831,175.914,175.995 ,176.074,176.151,176.261,176.333, 176.437,176.539,176.604,176.667,176.728 ,176.818,176.875,176.931,176.986, 177.067,177.118,177.169,177.218,177.266 ,177.313,177.382,177.426,177.47,177.512 ,177.553,177.594,177.634,177.672,177.71 ,177.747,177.784,177.801,177.805, 178.657,179.656,180.671,180.699,180.708 ,180.678,180.647,180.617,180.587, 180.556,180.524,180.493,180.461,180.429 ,180.38,180.33,180.296,180.262,180.228, 180.193,180.157,180.121,180.084,180.047 ,180.01,179.952,179.893,179.852,179.811 ,179.769,179.724,179.681,179.637, 179.569,179.522,179.474,179.401,179.349 ,179.298,179.218,179.105,179.016, 178.924,178.86,178.761,178.622,178.512, 178.475,178.25)
ORBIT_NUMBER = 24370
ORBITAL_ECCENTRICITY = 0.568
ORBITAL_INCLINATION = 87.07
ORBITAL_SEMIMAJOR_AXIS = 8760.4
PERIAPSIS_ALTITUDE = 405.91
PERIAPSIS_ARGUMENT_ANGLE = 105.64
PERIAPSIS_TIME = 2023-04-19T14:47:35.000Z
SPACECRAFT_ORIENTATION = (0.0,-1.0,0.0)
^MEX_ORIENTATION_DESC = "MEX_ORIENTATION_DESC.TXT"
SPACECRAFT_POINTING_MODE = INERT
^MEX_POINTING_DESC = "MEX_POINTING_DESC.TXT"
RIGHT_ASCENSION = 146.738
DECLINATION = -24.603
OFFSET_ANGLE = -1e+32
SPACECRAFT_SOLAR_DISTANCE = 2.47963e+08
TARGET_NAME = MARS
/* CAMERA DATA ELEMENTS */
DETECTOR_TEMPERATURE = 17.7588
FOCAL_PLANE_TEMPERATURE = 9.3989
INST_CMPRS_NAME = "DISCRETE COSINE TRANSFORMATION (DCT)"
INST_CMPRS_RATIO = 14.8418
INST_CMPRS_QUALITY = 0
INST_CMPRS_QUANTZ_TBL_ID = 0
INSTRUMENT_TEMPERATURE = 11.4379
LENS_TEMPERATURE = 9.8067
MACROPIXEL_SIZE = 4
MISSING_FRAMES = 0
PIXEL_SUBSAMPLING_FLAG = N
SIGNAL_CHAIN_ID = 2
/* RADIOMETRIC DATA ELEMENTS */
BANDWIDTH = 81.0
CENTER_FILTER_WAVELENGTH = 955.5
RADIANCE_OFFSET = 0.511472
RADIANCE_SCALING_FACTOR = 0.00922655
REFLECTANCE_SCALING_FACTOR = 0.00122389
MEX:REFLECTANCE_OFFSET = 0.067846
/* IMAGE OBJECT DEFINITIONS */
OBJECT = IMAGE
  INTERCHANGE_FORMAT = BINARY
  LINES = 19863
  LINE_SAMPLES = 3323
  SAMPLE_TYPE = UNSIGNED_INTEGER
  SAMPLE_BITS = 8
  BANDS = 1
  BAND_STORAGE_TYPE = BAND_SEQUENTIAL
  MAXIMUM = 255
  MEAN = 67.0062
  MINIMUM = 1
  STANDARD_DEVIATION = 24.7801
END_OBJECT = IMAGE
/* MAP OBJECT DEFINITIONS */
OBJECT = IMAGE_MAP_PROJECTION
  ^DATA_SET_MAP_PROJECTION_CATALOG= "DSMAP.CAT"
  A_AXIS_RADIUS = 3396.0
  B_AXIS_RADIUS = 3396.0
  C_AXIS_RADIUS = 3396.0
  CENTER_LATITUDE = 0.0
  CENTER_LONGITUDE = 178.0
  COORDINATE_SYSTEM_NAME = PLANETOGRAPHIC
  COORDINATE_SYSTEM_TYPE = "BODY-FIXED ROTATING"
  EASTERNMOST_LONGITUDE = 180.708
  FIRST_STANDARD_PARALLEL = "N/A"
  LINE_FIRST_PIXEL = 1
  LINE_LAST_PIXEL = 19863
  LINE_PROJECTION_OFFSET = 83907.875
  MAP_PROJECTION_ROTATION = 0.0
  MAP_PROJECTION_TYPE = SINUSOIDAL
  MAP_RESOLUTION = 1185.42760773333
  MAP_SCALE = 0.05
  MAXIMUM_LATITUDE = 70.78830000000001
  MINIMUM_LATITUDE = 54.0447
  POSITIVE_LONGITUDE_DIRECTION = EAST
  REFERENCE_LATITUDE = "N/A"
  REFERENCE_LONGITUDE = "N/A"
  SAMPLE_FIRST_PIXEL = 1
  SAMPLE_LAST_PIXEL = 3323
  SAMPLE_PROJECTION_OFFSET = 1544.875
  SECOND_STANDARD_PARALLEL = "N/A"
  WESTERNMOST_LONGITUDE = 174.267
END_OBJECT = IMAGE_MAP_PROJECTION
END
