PDS_VERSION_ID = PDS3
/* FILE DATA ELEMENTS */
RECORD_TYPE = UNDEFINED
/* POINTERS TO DATA OBJECTS */
^IMAGE = ("HO363_0000_ND4.TIF")
/* IDENTIFICATION DATA ELEMENTS */
DATA_SET_ID = "MEX-M-HRSC-4-REFDR-MAPPROJECT-EXT9-V4.0"
DATA_SET_NAME = "MARS EXPRESS HRSC MAP PROJECTED REFDR EXTENSION9 V4.0"
DETECTOR_ID = MEX_HRSC_NADIR
EVENT_TYPE = "MARS-REGIONAL-MAPPING-Im-Gl-Pf"
INSTRUMENT_HOST_ID = MEX
INSTRUMENT_HOST_NAME = "MARS EXPRESS"
INSTRUMENT_ID = HRSC
INSTRUMENT_NAME = "HIGH RESOLUTION STEREO CAMERA"
MISSION_NAME = "MARS EXPRESS"
MISSION_PHASE_NAME = ME_Phase_47
PROCESSING_LEVEL_ID = 4
PRODUCT_CREATION_TIME = 2023-11-15T01:26:02.000Z
PRODUCT_ID = "HO363_0000_ND4.TIF"
RELEASE_ID = 0003
REVISION_ID = 0000
/* QUALITY DATA ELEMENTS */
DATA_QUALITY_ID = 1
DATA_QUALITY_DESC = "Data calculated based on original SPICE kernels"
/* TIME DATA ELEMENTS */
SPACECRAFT_CLOCK_START_COUNT = "1/0629819663.25686"
SPACECRAFT_CLOCK_STOP_COUNT = "1/0629819961.49094"
START_TIME = 2023-04-17T13:55:31.663Z
STOP_TIME = 2023-04-17T13:59:15.674Z
/* ORBITAL DATA ELEMENTS */
ASCENDING_NODE_LONGITUDE = 121.08
MAXIMUM_RESOLUTION = 0.0167
FOOTPRINT_POINT_LATITUDE = (68.9543,68.8992,68.8421,68.7776, 68.7755,68.8245,68.3763,68.0775,67.7789 ,67.4802,67.1816,66.5845,65.9875, 65.3906,64.7938,64.3423,64.0361,63.7301 ,63.2706,62.8113,62.5051,62.0458, 61.7396,61.4293,61.1153,60.8012,60.4871 ,60.173,59.8588,59.5447,59.2257,58.7426 ,58.2593,57.9371,57.6148,57.2853, 56.9551,56.6247,56.2944,55.9637,55.6256 ,55.2873,54.9483,54.6096,54.0914, 53.7445,53.224,53.0469,53.0435,53.0793, 53.1131,53.1384,53.1737,53.1746,53.1754 ,53.7005,54.0479,54.3951,54.91,55.2491, 55.7577,56.0968,56.428,56.7591,57.0901, 57.421,57.7513,58.0743,58.5588,59.0431, 59.3661,59.6859,60.001,60.3161,60.6311, 60.9462,61.2613,61.5764,61.8878,62.1952 ,62.5024,62.8098,63.1172,63.4247, 63.7321,64.0397,64.3473,64.805,65.4048, 65.855,66.4554,66.7558,67.0562,67.507, 67.8076,68.1084,68.4093,68.8608,69.0114 ,68.9543)
FOOTPRINT_POINT_LONGITUDE = (173.41,172.03,170.822,169.63,169.593, 169.505,169.67,169.775,169.877,169.975, 170.071,170.254,170.425,170.587,170.74, 170.85,170.922,170.991,171.093,171.189, 171.252,171.342,171.4,171.457,171.514, 171.568,171.621,171.673,171.724,171.773 ,171.821,171.892,171.96,172.003,172.046 ,172.088,172.129,172.169,172.208, 172.246,172.284,172.321,172.356,172.391 ,172.442,172.475,172.522,172.538, 172.538,173.172,173.839,174.399,175.333 ,175.362,175.376,175.339,175.315,175.29 ,175.253,175.228,175.19,175.163,175.138 ,175.11,175.083,175.056,175.028,175.0, 174.957,174.913,174.884,174.852,174.823 ,174.792,174.76,174.727,174.694,174.66, 174.626,174.592,174.556,174.52,174.483, 174.446,174.407,174.368,174.327,174.266 ,174.181,174.116,174.024,173.976, 173.927,173.851,173.798,173.744,173.689 ,173.603,173.574,173.41)
ORBIT_NUMBER = 24363
ORBITAL_ECCENTRICITY = 0.568
ORBITAL_INCLINATION = 87.07
ORBITAL_SEMIMAJOR_AXIS = 8761.61
PERIAPSIS_ALTITUDE = 405.65
PERIAPSIS_ARGUMENT_ANGLE = 106.84
PERIAPSIS_TIME = 2023-04-17T13:54:12.000Z
SPACECRAFT_ORIENTATION = (0.0,-1.0,0.0)
^MEX_ORIENTATION_DESC = "MEX_ORIENTATION_DESC.TXT"
SPACECRAFT_POINTING_MODE = INERT
^MEX_POINTING_DESC = "MEX_POINTING_DESC.TXT"
RIGHT_ASCENSION = 148.145
DECLINATION = -23.734
OFFSET_ANGLE = -1e+32
SPACECRAFT_SOLAR_DISTANCE = 2.47836e+08
TARGET_NAME = MARS
/* CAMERA DATA ELEMENTS */
DETECTOR_TEMPERATURE = 18.3705
FOCAL_PLANE_TEMPERATURE = 8.7872
INST_CMPRS_NAME = "DISCRETE COSINE TRANSFORMATION (DCT)"
INST_CMPRS_RATIO = 6.82997
INST_CMPRS_QUALITY = 0
INST_CMPRS_QUANTZ_TBL_ID = 0
INSTRUMENT_TEMPERATURE = 11.234
LENS_TEMPERATURE = 9.3989
MACROPIXEL_SIZE = 1
MISSING_FRAMES = 0
PIXEL_SUBSAMPLING_FLAG = N
SIGNAL_CHAIN_ID = 0
/* RADIOMETRIC DATA ELEMENTS */
BANDWIDTH = 177.0
CENTER_FILTER_WAVELENGTH = 677.5
RADIANCE_OFFSET = 2.63149
RADIANCE_SCALING_FACTOR = 0.0209004
REFLECTANCE_SCALING_FACTOR = 0.000681976
MEX:REFLECTANCE_OFFSET = 0.0858651
/* IMAGE OBJECT DEFINITIONS */
OBJECT = IMAGE
  INTERCHANGE_FORMAT = BINARY
  LINES = 75728
  LINE_SAMPLES = 12738
  SAMPLE_TYPE = UNSIGNED_INTEGER
  SAMPLE_BITS = 8
  BANDS = 1
  BAND_STORAGE_TYPE = BAND_SEQUENTIAL
  MAXIMUM = 255
  MEAN = 96.8855
  MINIMUM = 1
  STANDARD_DEVIATION = 35.4749
END_OBJECT = IMAGE
/* MAP OBJECT DEFINITIONS */
OBJECT = IMAGE_MAP_PROJECTION
  ^DATA_SET_MAP_PROJECTION_CATALOG= "DSMAP.CAT"
  A_AXIS_RADIUS = 3396.0
  B_AXIS_RADIUS = 3396.0
  C_AXIS_RADIUS = 3396.0
  CENTER_LATITUDE = 0.0
  CENTER_LONGITUDE = 173.0
  COORDINATE_SYSTEM_NAME = PLANETOGRAPHIC
  COORDINATE_SYSTEM_TYPE = "BODY-FIXED ROTATING"
  EASTERNMOST_LONGITUDE = 175.376
  FIRST_STANDARD_PARALLEL = "N/A"
  LINE_FIRST_PIXEL = 1
  LINE_LAST_PIXEL = 75728
  LINE_PROJECTION_OFFSET = 327245.0
  MAP_PROJECTION_ROTATION = 0.0
  MAP_PROJECTION_TYPE = SINUSOIDAL
  MAP_RESOLUTION = 4741.71043093333
  MAP_SCALE = 0.0125
  MAXIMUM_LATITUDE = 69.01139999999999
  MINIMUM_LATITUDE = 53.0435
  POSITIVE_LONGITUDE_DIRECTION = EAST
  REFERENCE_LATITUDE = "N/A"
  REFERENCE_LONGITUDE = "N/A"
  SAMPLE_FIRST_PIXEL = 1
  SAMPLE_LAST_PIXEL = 12738
  SAMPLE_PROJECTION_OFFSET = 5985.0
  SECOND_STANDARD_PARALLEL = "N/A"
  WESTERNMOST_LONGITUDE = 169.505
END_OBJECT = IMAGE_MAP_PROJECTION
END
