PDS_VERSION_ID = PDS3
/* FILE DATA ELEMENTS */
RECORD_TYPE = UNDEFINED
/* POINTERS TO DATA OBJECTS */
^IMAGE = ("HO362_0000_P14.TIF")
/* IDENTIFICATION DATA ELEMENTS */
DATA_SET_ID = "MEX-M-HRSC-4-REFDR-MAPPROJECT-EXT9-V4.0"
DATA_SET_NAME = "MARS EXPRESS HRSC MAP PROJECTED REFDR EXTENSION9 V4.0"
DETECTOR_ID = MEX_HRSC_P1
EVENT_TYPE = "MARS-LOCAL-CARTOGRAPHY-Vo-Te-Pf"
INSTRUMENT_HOST_ID = MEX
INSTRUMENT_HOST_NAME = "MARS EXPRESS"
INSTRUMENT_ID = HRSC
INSTRUMENT_NAME = "HIGH RESOLUTION STEREO CAMERA"
MISSION_NAME = "MARS EXPRESS"
MISSION_PHASE_NAME = ME_Phase_47
PROCESSING_LEVEL_ID = 4
PRODUCT_CREATION_TIME = 2023-11-15T01:26:02.000Z
PRODUCT_ID = "HO362_0000_P14.TIF"
RELEASE_ID = 0003
REVISION_ID = 0000
/* QUALITY DATA ELEMENTS */
DATA_QUALITY_ID = 1
DATA_QUALITY_DESC = "Data calculated based on original SPICE kernels"
/* TIME DATA ELEMENTS */
SPACECRAFT_CLOCK_START_COUNT = "1/0629794558.23934"
SPACECRAFT_CLOCK_STOP_COUNT = "1/0629794950.03915"
START_TIME = 2023-04-17T06:56:44.873Z
STOP_TIME = 2023-04-17T07:01:45.769Z
/* ORBITAL DATA ELEMENTS */
ASCENDING_NODE_LONGITUDE = 121.1
MAXIMUM_RESOLUTION = 0.0332
FOOTPRINT_POINT_LATITUDE = (66.7078,66.6387,66.5612,66.4572, 66.4543,66.4324,65.8551,64.8916,63.9264 ,63.3465,62.5725,62.1773,61.7796, 61.1826,60.7843,60.3857,59.9868,59.5875 ,59.1847,58.775,58.1602,57.7494,57.3388 ,56.926,56.5044,56.0773,55.4434,55.0186 ,54.5851,53.9335,53.4985,52.8324, 52.3869,51.9407,51.484,51.027,50.5663, 49.866,49.3956,48.9183,48.4282,47.9496, 47.4539,46.958,46.4522,45.9439,45.1673, 44.9073,44.8775,44.9929,45.0654,45.1198 ,45.1217,45.1237,45.6406,46.156,46.663, 47.1684,47.6631,48.4038,48.8829,49.3602 ,49.8341,50.302,50.77,51.2267,51.6848, 52.1407,52.5873,53.2562,53.9177,54.352, 55.0034,55.4341,55.8572,56.2801,56.9188 ,57.5441,57.9556,58.3672,58.7784, 59.1895,59.5993,59.9998,60.4001,60.8003 ,61.2002,61.6,61.9995,62.399,62.7967, 63.1858,63.5748,63.9637,64.3524,65.1294 ,65.7119,66.4881,66.6821,66.7078)
FOOTPRINT_POINT_LONGITUDE = (272.352,271.313,270.256,268.979, 268.945,268.707,268.948,269.318,269.654 ,269.84,270.073,270.185,270.293,270.447 ,270.545,270.639,270.73,270.817,270.902 ,270.984,271.103,271.178,271.25,271.32, 271.387,271.453,271.545,271.604,271.661 ,271.741,271.791,271.865,271.912, 271.957,271.999,272.04,272.076,272.134, 272.168,272.202,272.224,272.259,272.284 ,272.309,272.332,272.353,272.382, 272.391,272.392,273.572,274.428,275.137 ,275.163,275.172,275.148,275.124, 275.098,275.072,275.045,275.002,274.972 ,274.941,274.91,274.877,274.843,274.808 ,274.773,274.735,274.698,274.638, 274.577,274.534,274.467,274.421,274.373 ,274.324,274.247,274.167,274.112, 274.055,273.997,273.936,273.873,273.809 ,273.743,273.674,273.603,273.53,273.454 ,273.375,273.293,273.211,273.125, 273.036,272.944,272.749,272.594,272.371 ,272.313,272.352)
ORBIT_NUMBER = 24362
ORBITAL_ECCENTRICITY = 0.568
ORBITAL_INCLINATION = 87.06
ORBITAL_SEMIMAJOR_AXIS = 8762.11
PERIAPSIS_ALTITUDE = 404.96
PERIAPSIS_ARGUMENT_ANGLE = 107.01
PERIAPSIS_TIME = 2023-04-17T06:55:10.000Z
SPACECRAFT_ORIENTATION = (0.0,-1.0,0.0)
^MEX_ORIENTATION_DESC = "MEX_ORIENTATION_DESC.TXT"
SPACECRAFT_POINTING_MODE = INERT
^MEX_POINTING_DESC = "MEX_POINTING_DESC.TXT"
RIGHT_ASCENSION = 162.621
DECLINATION = -22.689
OFFSET_ANGLE = -1e+32
SPACECRAFT_SOLAR_DISTANCE = 2.47818e+08
TARGET_NAME = MARS
/* CAMERA DATA ELEMENTS */
DETECTOR_TEMPERATURE = 18.1666
FOCAL_PLANE_TEMPERATURE = 8.9911
INST_CMPRS_NAME = "DISCRETE COSINE TRANSFORMATION (DCT)"
INST_CMPRS_RATIO = 13.6347
INST_CMPRS_QUALITY = 0
INST_CMPRS_QUANTZ_TBL_ID = 0
INSTRUMENT_TEMPERATURE = 12.0496
LENS_TEMPERATURE = 9.3989
MACROPIXEL_SIZE = 2
MISSING_FRAMES = 1
PIXEL_SUBSAMPLING_FLAG = N
SIGNAL_CHAIN_ID = 3
/* RADIOMETRIC DATA ELEMENTS */
BANDWIDTH = 174.0
CENTER_FILTER_WAVELENGTH = 675.0
RADIANCE_OFFSET = 3.96535
RADIANCE_SCALING_FACTOR = 0.02258
REFLECTANCE_SCALING_FACTOR = 0.000745891
MEX:REFLECTANCE_OFFSET = 0.130988
/* IMAGE OBJECT DEFINITIONS */
OBJECT = IMAGE
  INTERCHANGE_FORMAT = BINARY
  LINES = 51623
  LINE_SAMPLES = 7866
  SAMPLE_TYPE = UNSIGNED_INTEGER
  SAMPLE_BITS = 8
  BANDS = 1
  BAND_STORAGE_TYPE = BAND_SEQUENTIAL
  MAXIMUM = 255
  MEAN = 99.0864
  MINIMUM = 1
  STANDARD_DEVIATION = 55.2783
END_OBJECT = IMAGE
/* MAP OBJECT DEFINITIONS */
OBJECT = IMAGE_MAP_PROJECTION
  ^DATA_SET_MAP_PROJECTION_CATALOG= "DSMAP.CAT"
  A_AXIS_RADIUS = 3396.0
  B_AXIS_RADIUS = 3396.0
  C_AXIS_RADIUS = 3396.0
  CENTER_LATITUDE = 0.0
  CENTER_LONGITUDE = 273.0
  COORDINATE_SYSTEM_NAME = PLANETOGRAPHIC
  COORDINATE_SYSTEM_TYPE = "BODY-FIXED ROTATING"
  EASTERNMOST_LONGITUDE = 275.172
  FIRST_STANDARD_PARALLEL = "N/A"
  LINE_FIRST_PIXEL = 1
  LINE_LAST_PIXEL = 51623
  LINE_PROJECTION_OFFSET = 158076.25
  MAP_PROJECTION_ROTATION = 0.0
  MAP_PROJECTION_TYPE = SINUSOIDAL
  MAP_RESOLUTION = 2370.85521546667
  MAP_SCALE = 0.025
  MAXIMUM_LATITUDE = 66.70780000000001
  MINIMUM_LATITUDE = 44.8775
  POSITIVE_LONGITUDE_DIRECTION = EAST
  REFERENCE_LATITUDE = "N/A"
  REFERENCE_LONGITUDE = "N/A"
  SAMPLE_FIRST_PIXEL = 1
  SAMPLE_LAST_PIXEL = 7866
  SAMPLE_PROJECTION_OFFSET = 4347.75
  SECOND_STANDARD_PARALLEL = "N/A"
  WESTERNMOST_LONGITUDE = 268.707
END_OBJECT = IMAGE_MAP_PROJECTION
END
