PDS_VERSION_ID = PDS3
/* FILE DATA ELEMENTS */
RECORD_TYPE = UNDEFINED
/* POINTERS TO DATA OBJECTS */
^IMAGE = ("HO360_0000_S24.TIF")
/* IDENTIFICATION DATA ELEMENTS */
DATA_SET_ID = "MEX-M-HRSC-4-REFDR-MAPPROJECT-EXT9-V4.0"
DATA_SET_NAME = "MARS EXPRESS HRSC MAP PROJECTED REFDR EXTENSION9 V4.0"
DETECTOR_ID = MEX_HRSC_S2
EVENT_TYPE = "MARS-REGIONAL-MAPPING-Te-Pf-La"
INSTRUMENT_HOST_ID = MEX
INSTRUMENT_HOST_NAME = "MARS EXPRESS"
INSTRUMENT_ID = HRSC
INSTRUMENT_NAME = "HIGH RESOLUTION STEREO CAMERA"
MISSION_NAME = "MARS EXPRESS"
MISSION_PHASE_NAME = ME_Phase_47
PROCESSING_LEVEL_ID = 4
PRODUCT_CREATION_TIME = 2023-11-15T01:26:02.000Z
PRODUCT_ID = "HO360_0000_S24.TIF"
RELEASE_ID = 0003
REVISION_ID = 0000
/* QUALITY DATA ELEMENTS */
DATA_QUALITY_ID = 1
DATA_QUALITY_DESC = "Data calculated based on original SPICE kernels"
/* TIME DATA ELEMENTS */
SPACECRAFT_CLOCK_START_COUNT = "1/0629744418.23977"
SPACECRAFT_CLOCK_STOP_COUNT = "1/0629744830.60413"
START_TIME = 2023-04-16T17:02:18.304Z
STOP_TIME = 2023-04-16T17:07:44.880Z
/* ORBITAL DATA ELEMENTS */
ASCENDING_NODE_LONGITUDE = 121.14
MAXIMUM_RESOLUTION = 0.045
FOOTPRINT_POINT_LATITUDE = (57.0788,56.9574,56.8533,56.7475, 56.7442,56.9171,56.1807,55.4414,54.8803 ,54.1303,53.3694,52.6035,52.2165, 51.8298,51.4375,50.8485,50.2519,49.8531 ,49.2462,48.8414,48.4296,48.0186, 47.6011,47.183,46.7599,46.3356,45.9052, 45.2551,44.8176,44.3744,43.9291,43.4788 ,43.0236,42.5652,42.1017,41.6321, 41.1589,40.4381,39.9549,39.4725,38.9905 ,38.2678,37.7867,37.3059,36.826,36.3461 ,35.8671,35.6276,35.5731,35.6432, 35.7269,35.8364,35.9231,35.9266,35.9286 ,36.4061,36.8837,37.3622,37.8413, 38.3209,38.8009,39.2815,39.7626,40.2445 ,40.7266,41.2157,41.6844,42.1541, 42.6197,43.0816,43.5386,43.9906,44.4398 ,44.8827,45.5413,45.9767,46.4068, 47.0467,47.4706,47.8881,48.3062,48.7177 ,49.3327,49.7375,50.3416,50.7395, 51.1393,51.7294,52.1231,52.5102,52.8983 ,53.2848,54.0476,54.4289,55.1806,55.745 ,56.4859,57.0443,57.227,57.0788)
FOOTPRINT_POINT_LONGITUDE = (123.583,122.274,121.221,120.208, 120.177,120.194,120.255,120.312,120.354 ,120.406,120.457,120.505,120.528, 120.551,120.573,120.605,120.637,120.657 ,120.686,120.705,120.724,120.743, 120.761,120.778,120.795,120.812,120.828 ,120.852,120.867,120.883,120.897, 120.912,120.926,120.94,120.954,120.967, 120.98,120.999,121.011,121.023,121.035, 121.051,121.062,121.072,121.082,121.091 ,121.101,121.105,121.106,121.686, 122.397,123.374,124.194,124.226,124.238 ,124.222,124.205,124.19,124.174,124.16, 124.145,124.13,124.116,124.102,124.088, 124.086,124.062,124.049,124.036,124.024 ,124.013,124.002,123.991,123.98,123.964 ,123.954,123.944,123.93,123.921,123.912 ,123.904,123.896,123.884,123.876, 123.864,123.856,123.85,123.841,123.835, 123.829,123.823,123.818,123.807,123.802 ,123.793,123.788,123.78,123.776,123.775 ,123.583)
ORBIT_NUMBER = 24360
ORBITAL_ECCENTRICITY = 0.568
ORBITAL_INCLINATION = 87.07
ORBITAL_SEMIMAJOR_AXIS = 8764.3
PERIAPSIS_ALTITUDE = 404.69
PERIAPSIS_ARGUMENT_ANGLE = 107.34
PERIAPSIS_TIME = 2023-04-16T16:57:00.000Z
SPACECRAFT_ORIENTATION = (0.0,-1.0,0.0)
^MEX_ORIENTATION_DESC = "MEX_ORIENTATION_DESC.TXT"
SPACECRAFT_POINTING_MODE = INERT
^MEX_POINTING_DESC = "MEX_POINTING_DESC.TXT"
RIGHT_ASCENSION = 147.387
DECLINATION = -6.125
OFFSET_ANGLE = -1e+32
SPACECRAFT_SOLAR_DISTANCE = 2.4778e+08
TARGET_NAME = MARS
/* CAMERA DATA ELEMENTS */
DETECTOR_TEMPERATURE = 18.7783
FOCAL_PLANE_TEMPERATURE = 10.2145
INST_CMPRS_NAME = "DISCRETE COSINE TRANSFORMATION (DCT)"
INST_CMPRS_RATIO = 13.1486
INST_CMPRS_QUALITY = 0
INST_CMPRS_QUANTZ_TBL_ID = 0
INSTRUMENT_TEMPERATURE = 11.8457
LENS_TEMPERATURE = 9.3989
MACROPIXEL_SIZE = 2
MISSING_FRAMES = 0
PIXEL_SUBSAMPLING_FLAG = N
SIGNAL_CHAIN_ID = 1
/* RADIOMETRIC DATA ELEMENTS */
BANDWIDTH = 178.0
CENTER_FILTER_WAVELENGTH = 679.0
RADIANCE_OFFSET = 5.62506
RADIANCE_SCALING_FACTOR = 0.0190405
REFLECTANCE_SCALING_FACTOR = 0.000619071
MEX:REFLECTANCE_OFFSET = 0.18289
/* IMAGE OBJECT DEFINITIONS */
OBJECT = IMAGE
  INTERCHANGE_FORMAT = BINARY
  LINES = 25474
  LINE_SAMPLES = 3487
  SAMPLE_TYPE = UNSIGNED_INTEGER
  SAMPLE_BITS = 8
  BANDS = 1
  BAND_STORAGE_TYPE = BAND_SEQUENTIAL
  MAXIMUM = 255
  MEAN = 112.471
  MINIMUM = 1
  STANDARD_DEVIATION = 71.9359
END_OBJECT = IMAGE
/* MAP OBJECT DEFINITIONS */
OBJECT = IMAGE_MAP_PROJECTION
  ^DATA_SET_MAP_PROJECTION_CATALOG= "DSMAP.CAT"
  A_AXIS_RADIUS = 3396.0
  B_AXIS_RADIUS = 3396.0
  C_AXIS_RADIUS = 3396.0
  CENTER_LATITUDE = 0.0
  CENTER_LONGITUDE = 122.0
  COORDINATE_SYSTEM_NAME = PLANETOGRAPHIC
  COORDINATE_SYSTEM_TYPE = "BODY-FIXED ROTATING"
  EASTERNMOST_LONGITUDE = 124.238
  FIRST_STANDARD_PARALLEL = "N/A"
  LINE_FIRST_PIXEL = 1
  LINE_LAST_PIXEL = 25474
  LINE_PROJECTION_OFFSET = 67735.25
  MAP_PROJECTION_ROTATION = 0.0
  MAP_PROJECTION_TYPE = SINUSOIDAL
  MAP_RESOLUTION = 1185.42760773333
  MAP_SCALE = 0.05
  MAXIMUM_LATITUDE = 57.227
  MINIMUM_LATITUDE = 35.5731
  POSITIVE_LONGITUDE_DIRECTION = EAST
  REFERENCE_LATITUDE = "N/A"
  REFERENCE_LONGITUDE = "N/A"
  SAMPLE_FIRST_PIXEL = 1
  SAMPLE_LAST_PIXEL = 3487
  SAMPLE_PROJECTION_OFFSET = 1017.25
  SECOND_STANDARD_PARALLEL = "N/A"
  WESTERNMOST_LONGITUDE = 120.177
END_OBJECT = IMAGE_MAP_PROJECTION
END
