PDS_VERSION_ID = PDS3
/* FILE DATA ELEMENTS */
RECORD_TYPE = UNDEFINED
/* POINTERS TO DATA OBJECTS */
^IMAGE = ("HO360_0000_ND4.TIF")
/* IDENTIFICATION DATA ELEMENTS */
DATA_SET_ID = "MEX-M-HRSC-4-REFDR-MAPPROJECT-EXT9-V4.0"
DATA_SET_NAME = "MARS EXPRESS HRSC MAP PROJECTED REFDR EXTENSION9 V4.0"
DETECTOR_ID = MEX_HRSC_NADIR
EVENT_TYPE = "MARS-REGIONAL-MAPPING-Te-Pf-La"
INSTRUMENT_HOST_ID = MEX
INSTRUMENT_HOST_NAME = "MARS EXPRESS"
INSTRUMENT_ID = HRSC
INSTRUMENT_NAME = "HIGH RESOLUTION STEREO CAMERA"
MISSION_NAME = "MARS EXPRESS"
MISSION_PHASE_NAME = ME_Phase_47
PROCESSING_LEVEL_ID = 4
PRODUCT_CREATION_TIME = 2023-11-15T01:26:02.000Z
PRODUCT_ID = "HO360_0000_ND4.TIF"
RELEASE_ID = 0003
REVISION_ID = 0000
/* QUALITY DATA ELEMENTS */
DATA_QUALITY_ID = 1
DATA_QUALITY_DESC = "Data calculated based on original SPICE kernels"
/* TIME DATA ELEMENTS */
SPACECRAFT_CLOCK_START_COUNT = "1/0629744418.23977"
SPACECRAFT_CLOCK_STOP_COUNT = "1/0629744830.60413"
START_TIME = 2023-04-16T17:01:32.020Z
STOP_TIME = 2023-04-16T17:06:43.988Z
/* ORBITAL DATA ELEMENTS */
ASCENDING_NODE_LONGITUDE = 121.14
MAXIMUM_RESOLUTION = 0.0191
FOOTPRINT_POINT_LATITUDE = (57.0699,57.0195,56.9692,56.9144, 56.9126,56.9774,55.881,55.1499,54.4042, 53.6587,53.0899,52.7097,52.3297,51.7513 ,51.3637,50.9763,50.5833,50.188,49.7929 ,49.3923,48.9895,48.5868,47.9715,47.561 ,46.9349,46.5166,46.0908,45.6646,45.233 ,44.7989,44.36,43.9179,43.4712,43.0211, 42.5652,42.107,41.6413,41.1729,40.6985, 40.2189,39.7351,39.2442,38.7477,38.2461 ,37.7386,37.2231,36.7018,35.9148, 35.6524,35.6514,35.6922,35.7281,35.7547 ,35.8081,35.8093,35.8103,36.5971,37.38, 37.8952,38.4025,38.9039,39.4001,39.8908 ,40.3742,40.8538,41.3282,41.7961, 42.2617,42.7197,43.1756,43.6255,44.0722 ,44.5142,44.953,45.3871,45.8187,46.2449 ,46.6707,47.0891,47.7153,48.1258, 48.7413,49.1441,49.5472,49.9477,50.3429 ,50.7381,51.1316,51.7135,52.1014, 52.4862,52.8666,53.2472,53.8165,54.5626 ,55.3093,56.0415,56.958,57.1399, 57.0699)
FOOTPRINT_POINT_LONGITUDE = (123.46,122.327,121.358,120.421,120.392 ,120.425,120.52,120.579,120.636,120.691 ,120.731,120.757,120.782,120.819, 120.843,120.867,120.891,120.913,120.936 ,120.958,120.979,121.001,121.032, 121.052,121.082,121.102,121.121,121.14, 121.159,121.177,121.195,121.213,121.231 ,121.249,121.266,121.283,121.3,121.317, 121.333,121.349,121.366,121.382,121.398 ,121.413,121.429,121.444,121.46,121.483 ,121.491,121.491,122.13,122.753,123.268 ,124.52,124.553,124.568,124.525,124.483 ,124.457,124.431,124.405,124.38,124.356 ,124.333,124.308,124.284,124.265, 124.243,124.222,124.2,124.181,124.161, 124.142,124.122,124.103,124.085,124.066 ,124.049,124.031,124.005,123.989, 123.964,123.947,123.932,123.915,123.899 ,123.882,123.868,123.846,123.831, 123.817,123.803,123.789,123.767,123.739 ,123.712,123.686,123.653,123.647, 123.46)
ORBIT_NUMBER = 24360
ORBITAL_ECCENTRICITY = 0.568
ORBITAL_INCLINATION = 87.07
ORBITAL_SEMIMAJOR_AXIS = 8764.3
PERIAPSIS_ALTITUDE = 404.69
PERIAPSIS_ARGUMENT_ANGLE = 107.34
PERIAPSIS_TIME = 2023-04-16T16:57:00.000Z
SPACECRAFT_ORIENTATION = (0.0,-1.0,0.0)
^MEX_ORIENTATION_DESC = "MEX_ORIENTATION_DESC.TXT"
SPACECRAFT_POINTING_MODE = INERT
^MEX_POINTING_DESC = "MEX_POINTING_DESC.TXT"
RIGHT_ASCENSION = 147.387
DECLINATION = -6.125
OFFSET_ANGLE = -1e+32
SPACECRAFT_SOLAR_DISTANCE = 2.4778e+08
TARGET_NAME = MARS
/* CAMERA DATA ELEMENTS */
DETECTOR_TEMPERATURE = 18.5744
FOCAL_PLANE_TEMPERATURE = 10.2145
INST_CMPRS_NAME = "DISCRETE COSINE TRANSFORMATION (DCT)"
INST_CMPRS_RATIO = 6.33399
INST_CMPRS_QUALITY = 0
INST_CMPRS_QUANTZ_TBL_ID = 0
INSTRUMENT_TEMPERATURE = 11.8457
LENS_TEMPERATURE = 9.3989
MACROPIXEL_SIZE = 1
MISSING_FRAMES = 0
PIXEL_SUBSAMPLING_FLAG = N
SIGNAL_CHAIN_ID = 0
/* RADIOMETRIC DATA ELEMENTS */
BANDWIDTH = 177.0
CENTER_FILTER_WAVELENGTH = 677.5
RADIANCE_OFFSET = 4.54923
RADIANCE_SCALING_FACTOR = 0.0214564
REFLECTANCE_SCALING_FACTOR = 0.000699802
MEX:REFLECTANCE_OFFSET = 0.148374
/* IMAGE OBJECT DEFINITIONS */
OBJECT = IMAGE
  INTERCHANGE_FORMAT = BINARY
  LINES = 50947
  LINE_SAMPLES = 6974
  SAMPLE_TYPE = UNSIGNED_INTEGER
  SAMPLE_BITS = 8
  BANDS = 1
  BAND_STORAGE_TYPE = BAND_SEQUENTIAL
  MAXIMUM = 255
  MEAN = 109.332
  MINIMUM = 1
  STANDARD_DEVIATION = 69.0017
END_OBJECT = IMAGE
/* MAP OBJECT DEFINITIONS */
OBJECT = IMAGE_MAP_PROJECTION
  ^DATA_SET_MAP_PROJECTION_CATALOG= "DSMAP.CAT"
  A_AXIS_RADIUS = 3396.0
  B_AXIS_RADIUS = 3396.0
  C_AXIS_RADIUS = 3396.0
  CENTER_LATITUDE = 0.0
  CENTER_LONGITUDE = 122.0
  COORDINATE_SYSTEM_NAME = PLANETOGRAPHIC
  COORDINATE_SYSTEM_TYPE = "BODY-FIXED ROTATING"
  EASTERNMOST_LONGITUDE = 124.568
  FIRST_STANDARD_PARALLEL = "N/A"
  LINE_FIRST_PIXEL = 1
  LINE_LAST_PIXEL = 50947
  LINE_PROJECTION_OFFSET = 135471.0
  MAP_PROJECTION_ROTATION = 0.0
  MAP_PROJECTION_TYPE = SINUSOIDAL
  MAP_RESOLUTION = 2370.85521546667
  MAP_SCALE = 0.025
  MAXIMUM_LATITUDE = 57.1399
  MINIMUM_LATITUDE = 35.6514
  POSITIVE_LONGITUDE_DIRECTION = EAST
  REFERENCE_LATITUDE = "N/A"
  REFERENCE_LONGITUDE = "N/A"
  SAMPLE_FIRST_PIXEL = 1
  SAMPLE_LAST_PIXEL = 6974
  SAMPLE_PROJECTION_OFFSET = 2035.0
  SECOND_STANDARD_PARALLEL = "N/A"
  WESTERNMOST_LONGITUDE = 120.392
END_OBJECT = IMAGE_MAP_PROJECTION
END
