PDS_VERSION_ID = PDS3
/* FILE DATA ELEMENTS */
RECORD_TYPE = UNDEFINED
/* POINTERS TO DATA OBJECTS */
^IMAGE = ("HO356_0000_IR4.TIF")
/* IDENTIFICATION DATA ELEMENTS */
DATA_SET_ID = "MEX-M-HRSC-4-REFDR-MAPPROJECT-EXT9-V4.0"
DATA_SET_NAME = "MARS EXPRESS HRSC MAP PROJECTED REFDR EXTENSION9 V4.0"
DETECTOR_ID = MEX_HRSC_IR
EVENT_TYPE = "MARS-REGIONAL-MAPPING-Gl-La-At"
INSTRUMENT_HOST_ID = MEX
INSTRUMENT_HOST_NAME = "MARS EXPRESS"
INSTRUMENT_ID = HRSC
INSTRUMENT_NAME = "HIGH RESOLUTION STEREO CAMERA"
MISSION_NAME = "MARS EXPRESS"
MISSION_PHASE_NAME = ME_Phase_47
PROCESSING_LEVEL_ID = 4
PRODUCT_CREATION_TIME = 2023-11-15T01:26:02.000Z
PRODUCT_ID = "HO356_0000_IR4.TIF"
RELEASE_ID = 0003
REVISION_ID = 0000
/* QUALITY DATA ELEMENTS */
DATA_QUALITY_ID = 1
DATA_QUALITY_DESC = "Data calculated based on original SPICE kernels"
/* TIME DATA ELEMENTS */
SPACECRAFT_CLOCK_START_COUNT = "1/0629642962.23951"
SPACECRAFT_CLOCK_STOP_COUNT = "1/0629643262.63774"
START_TIME = 2023-04-15T12:50:13.587Z
STOP_TIME = 2023-04-15T12:53:19.772Z
/* ORBITAL DATA ELEMENTS */
ASCENDING_NODE_LONGITUDE = 121.2
MAXIMUM_RESOLUTION = 0.0482
FOOTPRINT_POINT_LATITUDE = (72.965,72.9465,72.9105,72.8738,72.8487 ,72.8219,72.7931,72.7385,72.7047,72.617 ,72.6121,72.72,72.9371,73.1547,73.361, 73.5528,73.7448,73.9375,74.1305,74.3237 ,74.5172,74.7111,74.9052,75.0996, 75.2943,75.4893,75.7812,76.0701,76.2626 ,76.4528,76.643,76.8326,77.0202,77.208, 77.3948,77.5799,77.765,77.9488,78.313, 78.5844,78.9407,79.4715,79.8156,80.1613 ,80.4149,80.7525,81.0021,81.3297, 81.8134,81.8931,81.9413,82.1185,82.2495 ,82.3775,82.4741,82.5441,82.6198, 82.6779,82.6829,82.6841,82.3371,81.8988 ,81.5459,81.2779,80.9195,80.557,80.1938 ,79.8273,79.3632,78.9923,78.8027, 78.6128,78.4248,78.2335,78.0416,77.8504 ,77.6567,77.4627,77.269,77.0729,76.7788 ,76.5814,76.383,76.1849,75.9846,75.6845 ,75.4848,75.2855,75.0866,74.8882,74.69, 74.4924,74.2953,74.0984,73.9021,73.7061 ,73.4901,73.2683,73.1575,72.965)
FOOTPRINT_POINT_LONGITUDE = (0.725955,1.46679,2.69601,3.75699, 4.40775,5.05644,5.70287,6.82907,7.47024 ,8.98599,9.06543,9.32566,9.46909, 9.61735,9.76193,9.9003,10.0424,10.1896, 10.341,10.4968,10.6573,10.823,10.9938, 11.1698,11.3514,11.539,11.8306,12.133, 12.3423,12.5559,12.7764,13.0033,13.2353 ,13.4751,13.7217,13.9742,14.2351, 14.5032,15.062,15.5057,16.1178,17.1297, 17.8349,18.6136,19.2197,20.0914,20.7849 ,21.7564,23.3656,23.6523,23.8288, 21.3019,19.2027,16.899,14.9454,13.377, 11.4879,9.85891,9.70948,9.65428,8.91367 ,8.07206,7.46013,7.02931,6.49448, 5.99548,5.53371,5.09738,4.59731,4.22283 ,4.04477,3.8732,3.70574,3.54347,3.38642 ,3.23427,3.08542,2.9413,2.80207,2.66535 ,2.46844,2.34121,2.21738,2.09747, 1.97958,1.8092,1.70003,1.59411,1.49147, 1.39164,1.29497,1.20087,1.10941,1.02061 ,0.934144,0.850099,0.759764,0.669334, 0.625233,0.725955)
ORBIT_NUMBER = 24356
ORBITAL_ECCENTRICITY = 0.568
ORBITAL_INCLINATION = 87.07
ORBITAL_SEMIMAJOR_AXIS = 8762.87
PERIAPSIS_ALTITUDE = 405.34
PERIAPSIS_ARGUMENT_ANGLE = 108.04
PERIAPSIS_TIME = 2023-04-15T13:00:48.000Z
SPACECRAFT_ORIENTATION = (0.0,-1.0,0.0)
^MEX_ORIENTATION_DESC = "MEX_ORIENTATION_DESC.TXT"
SPACECRAFT_POINTING_MODE = NADIR
^MEX_POINTING_DESC = "MEX_POINTING_DESC.TXT"
RIGHT_ASCENSION = -1e+32
DECLINATION = -1e+32
OFFSET_ANGLE = -1e+32
SPACECRAFT_SOLAR_DISTANCE = 2.47704e+08
TARGET_NAME = MARS
/* CAMERA DATA ELEMENTS */
DETECTOR_TEMPERATURE = 17.9627
FOCAL_PLANE_TEMPERATURE = 9.8067
INST_CMPRS_NAME = "DISCRETE COSINE TRANSFORMATION (DCT)"
INST_CMPRS_RATIO = 5.18453
INST_CMPRS_QUALITY = 0
INST_CMPRS_QUANTZ_TBL_ID = 0
INSTRUMENT_TEMPERATURE = 11.4379
LENS_TEMPERATURE = 9.8067
MACROPIXEL_SIZE = 2
MISSING_FRAMES = 0
PIXEL_SUBSAMPLING_FLAG = N
SIGNAL_CHAIN_ID = 3
/* RADIOMETRIC DATA ELEMENTS */
BANDWIDTH = 81.0
CENTER_FILTER_WAVELENGTH = 955.5
RADIANCE_OFFSET = 0.290967
RADIANCE_SCALING_FACTOR = 0.00422187
REFLECTANCE_SCALING_FACTOR = 0.000558852
MEX:REFLECTANCE_OFFSET = 0.0385154
/* IMAGE OBJECT DEFINITIONS */
OBJECT = IMAGE
  INTERCHANGE_FORMAT = BINARY
  LINES = 11808
  LINE_SAMPLES = 5150
  SAMPLE_TYPE = UNSIGNED_INTEGER
  SAMPLE_BITS = 8
  BANDS = 1
  BAND_STORAGE_TYPE = BAND_SEQUENTIAL
  MAXIMUM = 255
  MEAN = 95.4673
  MINIMUM = 1
  STANDARD_DEVIATION = 44.7134
END_OBJECT = IMAGE
/* MAP OBJECT DEFINITIONS */
OBJECT = IMAGE_MAP_PROJECTION
  ^DATA_SET_MAP_PROJECTION_CATALOG= "DSMAP.CAT"
  A_AXIS_RADIUS = 3396.0
  B_AXIS_RADIUS = 3396.0
  C_AXIS_RADIUS = 3396.0
  CENTER_LATITUDE = 0.0
  CENTER_LONGITUDE = 9.0
  COORDINATE_SYSTEM_NAME = PLANETOGRAPHIC
  COORDINATE_SYSTEM_TYPE = "BODY-FIXED ROTATING"
  EASTERNMOST_LONGITUDE = 23.8288
  FIRST_STANDARD_PARALLEL = "N/A"
  LINE_FIRST_PIXEL = 1
  LINE_LAST_PIXEL = 11808
  LINE_PROJECTION_OFFSET = 97985.75
  MAP_PROJECTION_ROTATION = 0.0
  MAP_PROJECTION_TYPE = SINUSOIDAL
  MAP_RESOLUTION = 1185.42760773333
  MAP_SCALE = 0.05
  MAXIMUM_LATITUDE = 82.6841
  MINIMUM_LATITUDE = 72.6121
  POSITIVE_LONGITUDE_DIRECTION = EAST
  REFERENCE_LATITUDE = "N/A"
  REFERENCE_LONGITUDE = "N/A"
  SAMPLE_FIRST_PIXEL = 1
  SAMPLE_LAST_PIXEL = 5150
  SAMPLE_PROJECTION_OFFSET = 2751.75
  SECOND_STANDARD_PARALLEL = "N/A"
  WESTERNMOST_LONGITUDE = 0.625233
END_OBJECT = IMAGE_MAP_PROJECTION
END
