PDS_VERSION_ID = PDS3
/* FILE DATA ELEMENTS */
RECORD_TYPE = UNDEFINED
/* POINTERS TO DATA OBJECTS */
^IMAGE = ("HO354_0000_ND4.TIF")
/* IDENTIFICATION DATA ELEMENTS */
DATA_SET_ID = "MEX-M-HRSC-4-REFDR-MAPPROJECT-EXT9-V4.0"
DATA_SET_NAME = "MARS EXPRESS HRSC MAP PROJECTED REFDR EXTENSION9 V4.0"
DETECTOR_ID = MEX_HRSC_NADIR
EVENT_TYPE = "MARS-LOCAL-VARIABLE-Gl-La-At"
INSTRUMENT_HOST_ID = MEX
INSTRUMENT_HOST_NAME = "MARS EXPRESS"
INSTRUMENT_ID = HRSC
INSTRUMENT_NAME = "HIGH RESOLUTION STEREO CAMERA"
MISSION_NAME = "MARS EXPRESS"
MISSION_PHASE_NAME = ME_Phase_47
PROCESSING_LEVEL_ID = 4
PRODUCT_CREATION_TIME = 2023-11-15T01:26:02.000Z
PRODUCT_ID = "HO354_0000_ND4.TIF"
RELEASE_ID = 0003
REVISION_ID = 0000
/* QUALITY DATA ELEMENTS */
DATA_QUALITY_ID = 1
DATA_QUALITY_DESC = "Data calculated based on original SPICE kernels"
/* TIME DATA ELEMENTS */
SPACECRAFT_CLOCK_START_COUNT = "1/0629592869.24926"
SPACECRAFT_CLOCK_STOP_COUNT = "1/0629593032.15498"
START_TIME = 2023-04-14T22:55:52.784Z
STOP_TIME = 2023-04-14T22:57:06.778Z
/* ORBITAL DATA ELEMENTS */
ASCENDING_NODE_LONGITUDE = 121.24
MAXIMUM_RESOLUTION = 0.02
FOOTPRINT_POINT_LATITUDE = (82.5278,82.4772,82.4339,82.394,82.3461 ,82.3022,82.2498,82.1741,82.1164, 82.0333,81.9542,81.855,81.8465,81.8067, 81.9508,82.0453,82.1393,82.2329,82.3262 ,82.4654,82.5577,82.6497,82.7413, 82.8318,82.9206,83.009,83.1405,83.2276, 83.3144,83.4437,83.529,83.614,83.7806, 83.9425,84.1016,84.2577,84.4105,84.5237 ,84.6688,84.8426,84.9783,85.0768, 85.2035,85.2951,85.4392,85.5472,85.6239 ,85.6487,85.6727,85.7934,85.8987, 86.0766,86.1934,86.2942,86.3796,86.5061 ,86.6165,86.698,86.8177,86.9085,86.9972 ,87.0715,87.0837,87.0894,86.9839, 86.8378,86.6868,86.4881,86.3242,86.1573 ,86.0297,85.857,85.6824,85.5023,85.3654 ,85.182,85.0891,84.9025,84.7148,84.5241 ,84.4277,84.3304,84.2331,84.1354, 84.0374,83.9393,83.841,83.7424,83.6437, 83.5434,83.4422,83.341,83.2395,83.1379, 82.9852,82.8832,82.7299,82.6273,82.5751 ,82.5278)
FOOTPRINT_POINT_LONGITUDE = (214.494,215.823,216.872,217.779, 218.805,219.692,220.692,222.045,223.011 ,224.318,225.484,226.853,226.966, 227.244,227.767,228.119,228.482,228.853 ,229.233,229.822,230.226,230.641, 231.067,231.501,231.94,232.391,233.09, 233.572,234.064,234.826,235.353,235.892 ,236.998,238.16,239.387,240.684,242.054 ,243.122,244.597,246.563,248.213, 249.516,251.34,252.772,255.252,257.325, 258.95,259.504,260.057,259.153,258.31, 256.766,255.659,254.635,253.712,252.245 ,250.849,249.741,247.975,246.508, 244.952,243.545,243.303,243.179,241.201 ,238.775,236.565,234.036,232.204, 230.523,229.362,227.93,226.606,225.373, 224.507,223.413,222.91,221.953,221.057, 220.215,219.798,219.412,219.034,218.67, 218.321,217.982,217.654,217.335,217.027 ,216.723,216.428,216.142,215.864, 215.594,215.204,214.954,214.592,214.358 ,214.241,214.494)
ORBIT_NUMBER = 24354
ORBITAL_ECCENTRICITY = 0.568
ORBITAL_INCLINATION = 87.06
ORBITAL_SEMIMAJOR_AXIS = 8764.46
PERIAPSIS_ALTITUDE = 404.9
PERIAPSIS_ARGUMENT_ANGLE = 108.36
PERIAPSIS_TIME = 2023-04-14T23:02:37.000Z
SPACECRAFT_ORIENTATION = (0.0,-1.0,0.0)
^MEX_ORIENTATION_DESC = "MEX_ORIENTATION_DESC.TXT"
SPACECRAFT_POINTING_MODE = INERT
^MEX_POINTING_DESC = "MEX_POINTING_DESC.TXT"
RIGHT_ASCENSION = 128.725
DECLINATION = -55.304
OFFSET_ANGLE = -1e+32
SPACECRAFT_SOLAR_DISTANCE = 2.47665e+08
TARGET_NAME = MARS
/* CAMERA DATA ELEMENTS */
DETECTOR_TEMPERATURE = 17.7588
FOCAL_PLANE_TEMPERATURE = 8.5833
INST_CMPRS_NAME = "DISCRETE COSINE TRANSFORMATION (DCT)"
INST_CMPRS_RATIO = 6.50525
INST_CMPRS_QUALITY = 0
INST_CMPRS_QUANTZ_TBL_ID = 0
INSTRUMENT_TEMPERATURE = 10.8262
LENS_TEMPERATURE = 8.7872
MACROPIXEL_SIZE = 1
MISSING_FRAMES = 0
PIXEL_SUBSAMPLING_FLAG = N
SIGNAL_CHAIN_ID = 0
/* RADIOMETRIC DATA ELEMENTS */
BANDWIDTH = 177.0
CENTER_FILTER_WAVELENGTH = 677.5
RADIANCE_OFFSET = 1.70256
RADIANCE_SCALING_FACTOR = 0.0220331
REFLECTANCE_SCALING_FACTOR = 0.00071794
MEX:REFLECTANCE_OFFSET = 0.0554772
/* IMAGE OBJECT DEFINITIONS */
OBJECT = IMAGE
  INTERCHANGE_FORMAT = BINARY
  LINES = 12527
  LINE_SAMPLES = 10403
  SAMPLE_TYPE = UNSIGNED_INTEGER
  SAMPLE_BITS = 8
  BANDS = 1
  BAND_STORAGE_TYPE = BAND_SEQUENTIAL
  MAXIMUM = 255
  MEAN = 129.875
  MINIMUM = 1
  STANDARD_DEVIATION = 31.425
END_OBJECT = IMAGE
/* MAP OBJECT DEFINITIONS */
OBJECT = IMAGE_MAP_PROJECTION
  ^DATA_SET_MAP_PROJECTION_CATALOG= "DSMAP.CAT"
  A_AXIS_RADIUS = 3396.0
  B_AXIS_RADIUS = 3396.0
  C_AXIS_RADIUS = 3396.0
  CENTER_LATITUDE = 0.0
  CENTER_LONGITUDE = 231.0
  COORDINATE_SYSTEM_NAME = PLANETOGRAPHIC
  COORDINATE_SYSTEM_TYPE = "BODY-FIXED ROTATING"
  EASTERNMOST_LONGITUDE = 260.057
  FIRST_STANDARD_PARALLEL = "N/A"
  LINE_FIRST_PIXEL = 1
  LINE_LAST_PIXEL = 12527
  LINE_PROJECTION_OFFSET = 206476.0
  MAP_PROJECTION_ROTATION = 0.0
  MAP_PROJECTION_TYPE = SINUSOIDAL
  MAP_RESOLUTION = 2370.85521546667
  MAP_SCALE = 0.025
  MAXIMUM_LATITUDE = 87.0894
  MINIMUM_LATITUDE = 81.80670000000001
  POSITIVE_LONGITUDE_DIRECTION = EAST
  REFERENCE_LATITUDE = "N/A"
  REFERENCE_LONGITUDE = "N/A"
  SAMPLE_FIRST_PIXEL = 1
  SAMPLE_LAST_PIXEL = 10403
  SAMPLE_PROJECTION_OFFSET = 5204.0
  SECOND_STANDARD_PARALLEL = "N/A"
  WESTERNMOST_LONGITUDE = 214.241
END_OBJECT = IMAGE_MAP_PROJECTION
END
