PDS_VERSION_ID = PDS3
/* FILE DATA ELEMENTS */
RECORD_TYPE = UNDEFINED
/* POINTERS TO DATA OBJECTS */
^IMAGE = ("HO349_0000_P24.TIF")
/* IDENTIFICATION DATA ELEMENTS */
DATA_SET_ID = "MEX-M-HRSC-4-REFDR-MAPPROJECT-EXT9-V4.0"
DATA_SET_NAME = "MARS EXPRESS HRSC MAP PROJECTED REFDR EXTENSION9 V4.0"
DETECTOR_ID = MEX_HRSC_P2
EVENT_TYPE = "MARS-REGIONAL-MAPPING-Im-Gl-Pf"
INSTRUMENT_HOST_ID = MEX
INSTRUMENT_HOST_NAME = "MARS EXPRESS"
INSTRUMENT_ID = HRSC
INSTRUMENT_NAME = "HIGH RESOLUTION STEREO CAMERA"
MISSION_NAME = "MARS EXPRESS"
MISSION_PHASE_NAME = ME_Phase_47
PROCESSING_LEVEL_ID = 4
PRODUCT_CREATION_TIME = 2023-11-15T01:26:02.000Z
PRODUCT_ID = "HO349_0000_P24.TIF"
RELEASE_ID = 0003
REVISION_ID = 0000
/* QUALITY DATA ELEMENTS */
DATA_QUALITY_ID = 1
DATA_QUALITY_DESC = "Data calculated based on original SPICE kernels"
/* TIME DATA ELEMENTS */
SPACECRAFT_CLOCK_START_COUNT = "1/0629467447.25670"
SPACECRAFT_CLOCK_STOP_COUNT = "1/0629467770.39980"
START_TIME = 2023-04-13T12:05:48.425Z
STOP_TIME = 2023-04-13T12:09:50.796Z
/* ORBITAL DATA ELEMENTS */
ASCENDING_NODE_LONGITUDE = 121.32
MAXIMUM_RESOLUTION = 0.0337
FOOTPRINT_POINT_LATITUDE = (78.2919,78.2133,78.0795,77.9754, 77.9716,78.0514,77.7531,77.4582,77.0148 ,76.7184,76.2727,75.8263,75.528,75.08, 74.7809,74.4816,74.1819,73.8821,73.5822 ,73.282,72.8312,72.5308,72.2301,71.7788 ,71.4778,71.0288,70.5747,70.1234, 69.8225,69.5217,69.0704,68.7696,68.4689 ,68.1683,67.8679,67.5675,67.2673, 66.9673,66.6675,66.0683,65.4697,65.1649 ,64.858,64.5515,64.2451,63.9389,63.6332 ,63.175,63.0224,62.9894,63.0335,63.0693 ,63.1085,63.1093,63.1101,63.4173, 63.7249,64.0326,64.3408,64.6492,64.9579 ,65.267,65.5748,65.8762,66.3274,66.7822 ,67.0848,67.3871,67.6905,68.1453, 68.4487,68.7524,69.208,69.6641,69.9686, 70.4251,70.8823,71.187,71.644,71.9493, 72.2541,72.7113,73.0163,73.3229,73.6288 ,73.9345,74.2401,74.5458,74.8511, 75.1566,75.4622,75.92,76.3778,76.6832, 76.9884,77.4459,77.9027,78.207,78.3627, 78.2919)
FOOTPRINT_POINT_LONGITUDE = (157.885,155.943,153.208,151.396, 151.334,150.979,151.418,151.83,152.41, 152.774,153.289,153.769,154.071,154.5, 154.771,155.031,155.28,155.518,155.748, 155.967,156.282,156.481,156.673,156.947 ,157.122,157.367,157.609,157.833, 157.976,158.114,158.313,158.439,158.562 ,158.68,158.795,158.906,159.013,159.117 ,159.217,159.408,159.588,159.675, 159.761,159.843,159.923,160.0,160.075, 160.184,160.219,160.226,161.243,162.199 ,163.477,163.509,163.521,163.477, 163.431,163.384,163.336,163.286,163.235 ,163.183,163.129,163.075,162.989, 162.903,162.842,162.779,162.715,162.614 ,162.544,162.472,162.36,162.242,162.16, 162.031,161.896,161.802,161.654,161.551 ,161.444,161.276,161.158,161.038, 160.912,160.78,160.643,160.5,160.351, 160.195,160.033,159.775,159.499,159.305 ,159.101,158.775,158.423,158.173, 158.041,157.885)
ORBIT_NUMBER = 24349
ORBITAL_ECCENTRICITY = 0.568
ORBITAL_INCLINATION = 87.07
ORBITAL_SEMIMAJOR_AXIS = 8764.22
PERIAPSIS_ALTITUDE = 405.01
PERIAPSIS_ARGUMENT_ANGLE = 109.23
PERIAPSIS_TIME = 2023-04-13T12:07:25.000Z
SPACECRAFT_ORIENTATION = (0.0,-1.0,0.0)
^MEX_ORIENTATION_DESC = "MEX_ORIENTATION_DESC.TXT"
SPACECRAFT_POINTING_MODE = NADIR
^MEX_POINTING_DESC = "MEX_POINTING_DESC.TXT"
RIGHT_ASCENSION = -1e+32
DECLINATION = -1e+32
OFFSET_ANGLE = -1e+32
SPACECRAFT_SOLAR_DISTANCE = 2.47566e+08
TARGET_NAME = MARS
/* CAMERA DATA ELEMENTS */
DETECTOR_TEMPERATURE = 18.3705
FOCAL_PLANE_TEMPERATURE = 8.1755
INST_CMPRS_NAME = "DISCRETE COSINE TRANSFORMATION (DCT)"
INST_CMPRS_RATIO = 11.9308
INST_CMPRS_QUALITY = 0
INST_CMPRS_QUANTZ_TBL_ID = 0
INSTRUMENT_TEMPERATURE = 11.6418
LENS_TEMPERATURE = 8.7872
MACROPIXEL_SIZE = 2
MISSING_FRAMES = 0
PIXEL_SUBSAMPLING_FLAG = N
SIGNAL_CHAIN_ID = 3
/* RADIOMETRIC DATA ELEMENTS */
BANDWIDTH = 177.0
CENTER_FILTER_WAVELENGTH = 676.5
RADIANCE_OFFSET = 3.6581
RADIANCE_SCALING_FACTOR = 0.0204936
REFLECTANCE_SCALING_FACTOR = 0.00066597
MEX:REFLECTANCE_OFFSET = 0.118876
/* IMAGE OBJECT DEFINITIONS */
OBJECT = IMAGE
  INTERCHANGE_FORMAT = BINARY
  LINES = 36549
  LINE_SAMPLES = 8182
  SAMPLE_TYPE = UNSIGNED_INTEGER
  SAMPLE_BITS = 8
  BANDS = 1
  BAND_STORAGE_TYPE = BAND_SEQUENTIAL
  MAXIMUM = 255
  MEAN = 190.415
  MINIMUM = 1
  STANDARD_DEVIATION = 80.4564
END_OBJECT = IMAGE
/* MAP OBJECT DEFINITIONS */
OBJECT = IMAGE_MAP_PROJECTION
  ^DATA_SET_MAP_PROJECTION_CATALOG= "DSMAP.CAT"
  A_AXIS_RADIUS = 3396.0
  B_AXIS_RADIUS = 3396.0
  C_AXIS_RADIUS = 3396.0
  CENTER_LATITUDE = 0.0
  CENTER_LONGITUDE = 160.0
  COORDINATE_SYSTEM_NAME = PLANETOGRAPHIC
  COORDINATE_SYSTEM_TYPE = "BODY-FIXED ROTATING"
  EASTERNMOST_LONGITUDE = 163.521
  FIRST_STANDARD_PARALLEL = "N/A"
  LINE_FIRST_PIXEL = 1
  LINE_LAST_PIXEL = 36549
  LINE_PROJECTION_OFFSET = 185857.25
  MAP_PROJECTION_ROTATION = 0.0
  MAP_PROJECTION_TYPE = SINUSOIDAL
  MAP_RESOLUTION = 2370.85521546667
  MAP_SCALE = 0.025
  MAXIMUM_LATITUDE = 78.3627
  MINIMUM_LATITUDE = 62.9894
  POSITIVE_LONGITUDE_DIRECTION = EAST
  REFERENCE_LATITUDE = "N/A"
  REFERENCE_LONGITUDE = "N/A"
  SAMPLE_FIRST_PIXEL = 1
  SAMPLE_LAST_PIXEL = 8182
  SAMPLE_PROJECTION_OFFSET = 4440.75
  SECOND_STANDARD_PARALLEL = "N/A"
  WESTERNMOST_LONGITUDE = 150.979
END_OBJECT = IMAGE_MAP_PROJECTION
END
