PDS_VERSION_ID = PDS3
/* FILE DATA ELEMENTS */
RECORD_TYPE = UNDEFINED
/* POINTERS TO DATA OBJECTS */
^IMAGE = ("HO349_0000_ND4.TIF")
/* IDENTIFICATION DATA ELEMENTS */
DATA_SET_ID = "MEX-M-HRSC-4-REFDR-MAPPROJECT-EXT9-V4.0"
DATA_SET_NAME = "MARS EXPRESS HRSC MAP PROJECTED REFDR EXTENSION9 V4.0"
DETECTOR_ID = MEX_HRSC_NADIR
EVENT_TYPE = "MARS-REGIONAL-MAPPING-Im-Gl-Pf"
INSTRUMENT_HOST_ID = MEX
INSTRUMENT_HOST_NAME = "MARS EXPRESS"
INSTRUMENT_ID = HRSC
INSTRUMENT_NAME = "HIGH RESOLUTION STEREO CAMERA"
MISSION_NAME = "MARS EXPRESS"
MISSION_PHASE_NAME = ME_Phase_47
PROCESSING_LEVEL_ID = 4
PRODUCT_CREATION_TIME = 2023-11-15T01:26:02.000Z
PRODUCT_ID = "HO349_0000_ND4.TIF"
RELEASE_ID = 0003
REVISION_ID = 0000
/* QUALITY DATA ELEMENTS */
DATA_QUALITY_ID = 1
DATA_QUALITY_DESC = "Data calculated based on original SPICE kernels"
/* TIME DATA ELEMENTS */
SPACECRAFT_CLOCK_START_COUNT = "1/0629467447.25670"
SPACECRAFT_CLOCK_STOP_COUNT = "1/0629467770.39980"
START_TIME = 2023-04-13T12:05:23.036Z
STOP_TIME = 2023-04-13T12:09:25.022Z
/* ORBITAL DATA ELEMENTS */
ASCENDING_NODE_LONGITUDE = 121.32
MAXIMUM_RESOLUTION = 0.0163
FOOTPRINT_POINT_LATITUDE = (78.3815,78.2909,78.1804,78.0566, 78.0526,78.0412,77.7431,77.4441,77.1442 ,76.8436,76.5422,76.2428,75.6526, 75.0602,74.4658,73.8696,73.571,73.2719, 72.9726,72.6729,72.3729,72.0727,71.7722 ,71.4714,71.0198,70.5679,70.2663, 69.9646,69.6627,69.3607,69.0585,68.7563 ,68.4539,68.1515,67.849,67.5464,66.9411 ,66.3357,65.7303,65.1249,64.5196, 63.9146,63.4521,63.1416,62.9864,62.9767 ,63.0136,63.0678,63.0977,63.0985, 63.0992,63.4116,63.7242,64.0337,64.643, 64.9478,65.2527,65.5577,65.8628,66.1679 ,66.4732,66.7784,67.0838,67.3891, 67.6946,68.0,68.3055,68.611,68.9164, 69.2219,69.5274,69.8328,70.291,70.5963, 70.9016,71.2069,71.5121,71.8171,72.2746 ,72.5794,72.8842,73.1889,73.4935, 73.7978,74.1021,74.4062,74.71,75.0137, 75.3172,75.6204,75.9234,76.2262,76.5287 ,76.9912,77.3011,77.6107,77.9199, 78.2288,78.383,78.3815)
FOOTPRINT_POINT_LONGITUDE = (157.819,155.615,153.383,151.256, 151.192,150.959,151.4,151.819,152.218, 152.598,152.96,153.302,153.93,154.506, 155.035,155.522,155.751,155.971,156.183 ,156.387,156.583,156.772,156.954,157.13 ,157.379,157.62,157.772,157.918,158.06, 158.197,158.33,158.458,158.581,158.701, 158.817,158.929,159.143,159.343,159.531 ,159.708,159.875,160.031,160.144, 160.217,160.253,160.255,161.049,162.449 ,163.439,163.471,163.486,163.442, 163.396,163.35,163.254,163.205,163.153, 163.101,163.047,162.99,162.934,162.875, 162.814,162.751,162.687,162.621,162.552 ,162.481,162.408,162.333,162.255, 162.175,162.049,161.961,161.871,161.777 ,161.68,161.579,161.421,161.31,161.196, 161.078,160.956,160.829,160.696,160.558 ,160.413,160.263,160.106,159.942, 159.771,159.592,159.405,159.102,158.885 ,158.658,158.418,158.166,158.035, 157.819)
ORBIT_NUMBER = 24349
ORBITAL_ECCENTRICITY = 0.568
ORBITAL_INCLINATION = 87.07
ORBITAL_SEMIMAJOR_AXIS = 8764.22
PERIAPSIS_ALTITUDE = 405.01
PERIAPSIS_ARGUMENT_ANGLE = 109.23
PERIAPSIS_TIME = 2023-04-13T12:07:25.000Z
SPACECRAFT_ORIENTATION = (0.0,-1.0,0.0)
^MEX_ORIENTATION_DESC = "MEX_ORIENTATION_DESC.TXT"
SPACECRAFT_POINTING_MODE = NADIR
^MEX_POINTING_DESC = "MEX_POINTING_DESC.TXT"
RIGHT_ASCENSION = -1e+32
DECLINATION = -1e+32
OFFSET_ANGLE = -1e+32
SPACECRAFT_SOLAR_DISTANCE = 2.47566e+08
TARGET_NAME = MARS
/* CAMERA DATA ELEMENTS */
DETECTOR_TEMPERATURE = 18.3705
FOCAL_PLANE_TEMPERATURE = 8.1755
INST_CMPRS_NAME = "DISCRETE COSINE TRANSFORMATION (DCT)"
INST_CMPRS_RATIO = 6.58341
INST_CMPRS_QUALITY = 0
INST_CMPRS_QUANTZ_TBL_ID = 0
INSTRUMENT_TEMPERATURE = 11.6418
LENS_TEMPERATURE = 8.7872
MACROPIXEL_SIZE = 1
MISSING_FRAMES = 0
PIXEL_SUBSAMPLING_FLAG = N
SIGNAL_CHAIN_ID = 0
/* RADIOMETRIC DATA ELEMENTS */
BANDWIDTH = 177.0
CENTER_FILTER_WAVELENGTH = 677.5
RADIANCE_OFFSET = 3.19508
RADIANCE_SCALING_FACTOR = 0.0295454
REFLECTANCE_SCALING_FACTOR = 0.000961951
MEX:REFLECTANCE_OFFSET = 0.104027
/* IMAGE OBJECT DEFINITIONS */
OBJECT = IMAGE
  INTERCHANGE_FORMAT = BINARY
  LINES = 73098
  LINE_SAMPLES = 16363
  SAMPLE_TYPE = UNSIGNED_INTEGER
  SAMPLE_BITS = 8
  BANDS = 1
  BAND_STORAGE_TYPE = BAND_SEQUENTIAL
  MAXIMUM = 255
  MEAN = 151.137
  MINIMUM = 1
  STANDARD_DEVIATION = 73.634
END_OBJECT = IMAGE
/* MAP OBJECT DEFINITIONS */
OBJECT = IMAGE_MAP_PROJECTION
  ^DATA_SET_MAP_PROJECTION_CATALOG= "DSMAP.CAT"
  A_AXIS_RADIUS = 3396.0
  B_AXIS_RADIUS = 3396.0
  C_AXIS_RADIUS = 3396.0
  CENTER_LATITUDE = 0.0
  CENTER_LONGITUDE = 160.0
  COORDINATE_SYSTEM_NAME = PLANETOGRAPHIC
  COORDINATE_SYSTEM_TYPE = "BODY-FIXED ROTATING"
  EASTERNMOST_LONGITUDE = 163.486
  FIRST_STANDARD_PARALLEL = "N/A"
  LINE_FIRST_PIXEL = 1
  LINE_LAST_PIXEL = 73098
  LINE_PROJECTION_OFFSET = 371715.0
  MAP_PROJECTION_ROTATION = 0.0
  MAP_PROJECTION_TYPE = SINUSOIDAL
  MAP_RESOLUTION = 4741.71043093333
  MAP_SCALE = 0.0125
  MAXIMUM_LATITUDE = 78.383
  MINIMUM_LATITUDE = 62.9767
  POSITIVE_LONGITUDE_DIRECTION = EAST
  REFERENCE_LATITUDE = "N/A"
  REFERENCE_LONGITUDE = "N/A"
  SAMPLE_FIRST_PIXEL = 1
  SAMPLE_LAST_PIXEL = 16363
  SAMPLE_PROJECTION_OFFSET = 8882.0
  SECOND_STANDARD_PARALLEL = "N/A"
  WESTERNMOST_LONGITUDE = 150.959
END_OBJECT = IMAGE_MAP_PROJECTION
END
