PDS_VERSION_ID = PDS3
/* FILE DATA ELEMENTS */
RECORD_TYPE = UNDEFINED
/* POINTERS TO DATA OBJECTS */
^IMAGE = ("HO346_0000_GR4.TIF")
/* IDENTIFICATION DATA ELEMENTS */
DATA_SET_ID = "MEX-M-HRSC-4-REFDR-MAPPROJECT-EXT9-V4.0"
DATA_SET_NAME = "MARS EXPRESS HRSC MAP PROJECTED REFDR EXTENSION9 V4.0"
DETECTOR_ID = MEX_HRSC_GREEN
EVENT_TYPE = "MARS-REGIONAL-MAPPING-Im-Gl-Pf"
INSTRUMENT_HOST_ID = MEX
INSTRUMENT_HOST_NAME = "MARS EXPRESS"
INSTRUMENT_ID = HRSC
INSTRUMENT_NAME = "HIGH RESOLUTION STEREO CAMERA"
MISSION_NAME = "MARS EXPRESS"
MISSION_PHASE_NAME = ME_Phase_47
PROCESSING_LEVEL_ID = 4
PRODUCT_CREATION_TIME = 2023-11-15T01:26:02.000Z
PRODUCT_ID = "HO346_0000_GR4.TIF"
RELEASE_ID = 0003
REVISION_ID = 0000
/* QUALITY DATA ELEMENTS */
DATA_QUALITY_ID = 1
DATA_QUALITY_DESC = "Data calculated based on original SPICE kernels"
/* TIME DATA ELEMENTS */
SPACECRAFT_CLOCK_START_COUNT = "1/0629392015.25671"
SPACECRAFT_CLOCK_STOP_COUNT = "1/0629392338.22479"
START_TIME = 2023-04-12T15:08:04.229Z
STOP_TIME = 2023-04-12T15:12:06.255Z
/* ORBITAL DATA ELEMENTS */
ASCENDING_NODE_LONGITUDE = 121.38
MAXIMUM_RESOLUTION = 0.0649
FOOTPRINT_POINT_LATITUDE = (77.9136,77.7942,77.69,77.6038,77.6001, 77.5671,77.2699,76.9718,76.6728,76.3732 ,75.924,75.3364,74.7466,74.1546,73.561, 72.9655,72.6672,72.2191,71.7704,71.4709 ,71.171,70.7129,70.4126,69.9614,69.6603 ,69.3589,69.0575,68.7558,68.3032, 67.8503,67.5481,67.2458,66.9435,66.6411 ,66.3386,66.0361,65.5821,65.2794, 64.9767,64.674,64.3712,64.0685,63.7658, 63.3117,63.009,62.7064,62.555,62.4774, 62.5349,62.5711,62.5929,62.5937,62.5949 ,62.8994,63.204,63.5087,63.8133,64.1181 ,64.423,64.7279,65.0328,65.3378,65.6428 ,66.1003,66.4054,66.7104,67.0155, 67.3205,67.6256,67.9305,68.2355,68.5404 ,68.9977,69.4548,69.9118,70.2164, 70.5209,70.9774,71.2895,71.5935,71.8975 ,72.2012,72.5048,72.8083,73.1115, 73.4146,73.7175,74.0202,74.3227,74.6249 ,74.9269,75.5301,76.1322,76.4372, 76.7456,77.0536,77.3612,77.6685,77.8219 ,77.9136)
FOOTPRINT_POINT_LONGITUDE = (104.685,101.845,99.8296,98.3676, 98.3095,98.1381,98.5416,98.9263,99.2926 ,99.6428,100.136,100.731,101.278, 101.781,102.246,102.674,102.877,103.167 ,103.441,103.616,103.785,104.031, 104.185,104.406,104.547,104.683,104.815 ,104.942,105.126,105.301,105.413, 105.521,105.626,105.728,105.827,105.922 ,106.06,106.148,106.234,106.317,106.398 ,106.476,106.552,106.661,106.732,106.8, 106.833,106.85,108.16,109.183,109.945, 109.975,109.984,109.943,109.901,109.857 ,109.813,109.767,109.72,109.671,109.622 ,109.571,109.518,109.436,109.38,109.322 ,109.262,109.2,109.136,109.071,109.003, 108.934,108.825,108.711,108.591,108.508 ,108.422,108.288,108.192,108.095, 107.995,107.891,107.784,107.672,107.556 ,107.436,107.311,107.181,107.045, 106.904,106.758,106.446,106.105,105.921 ,105.725,105.52,105.305,105.078,104.961 ,104.685)
ORBIT_NUMBER = 24346
ORBITAL_ECCENTRICITY = 0.569
ORBITAL_INCLINATION = 87.07
ORBITAL_SEMIMAJOR_AXIS = 8767.04
PERIAPSIS_ALTITUDE = 403.47
PERIAPSIS_ARGUMENT_ANGLE = 109.73
PERIAPSIS_TIME = 2023-04-12T15:10:13.000Z
SPACECRAFT_ORIENTATION = (0.0,-1.0,0.0)
^MEX_ORIENTATION_DESC = "MEX_ORIENTATION_DESC.TXT"
SPACECRAFT_POINTING_MODE = NADIR
^MEX_POINTING_DESC = "MEX_POINTING_DESC.TXT"
RIGHT_ASCENSION = -1e+32
DECLINATION = -1e+32
OFFSET_ANGLE = -1e+32
SPACECRAFT_SOLAR_DISTANCE = 2.47505e+08
TARGET_NAME = MARS
/* CAMERA DATA ELEMENTS */
DETECTOR_TEMPERATURE = 19.1861
FOCAL_PLANE_TEMPERATURE = 9.3989
INST_CMPRS_NAME = "DISCRETE COSINE TRANSFORMATION (DCT)"
INST_CMPRS_RATIO = 8.75386
INST_CMPRS_QUALITY = 0
INST_CMPRS_QUANTZ_TBL_ID = 0
INSTRUMENT_TEMPERATURE = 11.6418
LENS_TEMPERATURE = 10.2145
MACROPIXEL_SIZE = 4
MISSING_FRAMES = 1
PIXEL_SUBSAMPLING_FLAG = N
SIGNAL_CHAIN_ID = 2
/* RADIOMETRIC DATA ELEMENTS */
BANDWIDTH = 88.0
CENTER_FILTER_WAVELENGTH = 538.0
RADIANCE_OFFSET = 1.42607
RADIANCE_SCALING_FACTOR = 0.011784
REFLECTANCE_SCALING_FACTOR = 0.000621514
MEX:REFLECTANCE_OFFSET = 0.0752137
/* IMAGE OBJECT DEFINITIONS */
OBJECT = IMAGE
  INTERCHANGE_FORMAT = BINARY
  LINES = 18289
  LINE_SAMPLES = 4191
  SAMPLE_TYPE = UNSIGNED_INTEGER
  SAMPLE_BITS = 8
  BANDS = 1
  BAND_STORAGE_TYPE = BAND_SEQUENTIAL
  MAXIMUM = 255
  MEAN = 129.383
  MINIMUM = 1
  STANDARD_DEVIATION = 97.4744
END_OBJECT = IMAGE
/* MAP OBJECT DEFINITIONS */
OBJECT = IMAGE_MAP_PROJECTION
  ^DATA_SET_MAP_PROJECTION_CATALOG= "DSMAP.CAT"
  A_AXIS_RADIUS = 3396.0
  B_AXIS_RADIUS = 3396.0
  C_AXIS_RADIUS = 3396.0
  CENTER_LATITUDE = 0.0
  CENTER_LONGITUDE = 106.0
  COORDINATE_SYSTEM_NAME = PLANETOGRAPHIC
  COORDINATE_SYSTEM_TYPE = "BODY-FIXED ROTATING"
  EASTERNMOST_LONGITUDE = 109.984
  FIRST_STANDARD_PARALLEL = "N/A"
  LINE_FIRST_PIXEL = 1
  LINE_LAST_PIXEL = 18289
  LINE_PROJECTION_OFFSET = 92348.875
  MAP_PROJECTION_ROTATION = 0.0
  MAP_PROJECTION_TYPE = SINUSOIDAL
  MAP_RESOLUTION = 1185.42760773333
  MAP_SCALE = 0.05
  MAXIMUM_LATITUDE = 77.9136
  MINIMUM_LATITUDE = 62.4774
  POSITIVE_LONGITUDE_DIRECTION = EAST
  REFERENCE_LATITUDE = "N/A"
  REFERENCE_LONGITUDE = "N/A"
  SAMPLE_FIRST_PIXEL = 1
  SAMPLE_LAST_PIXEL = 4191
  SAMPLE_PROJECTION_OFFSET = 2013.375
  SECOND_STANDARD_PARALLEL = "N/A"
  WESTERNMOST_LONGITUDE = 98.13809999999999
END_OBJECT = IMAGE_MAP_PROJECTION
END
