PDS_VERSION_ID = PDS3
/* FILE DATA ELEMENTS */
RECORD_TYPE = UNDEFINED
/* POINTERS TO DATA OBJECTS */
^IMAGE = ("HO345_0000_BL4.TIF")
/* IDENTIFICATION DATA ELEMENTS */
DATA_SET_ID = "MEX-M-HRSC-4-REFDR-MAPPROJECT-EXT9-V4.0"
DATA_SET_NAME = "MARS EXPRESS HRSC MAP PROJECTED REFDR EXTENSION9 V4.0"
DETECTOR_ID = MEX_HRSC_BLUE
EVENT_TYPE = "MARS-REGIONAL-MAPPING-Im-Gl-Pf"
INSTRUMENT_HOST_ID = MEX
INSTRUMENT_HOST_NAME = "MARS EXPRESS"
INSTRUMENT_ID = HRSC
INSTRUMENT_NAME = "HIGH RESOLUTION STEREO CAMERA"
MISSION_NAME = "MARS EXPRESS"
MISSION_PHASE_NAME = ME_Phase_47
PROCESSING_LEVEL_ID = 4
PRODUCT_CREATION_TIME = 2023-11-15T01:26:02.000Z
PRODUCT_ID = "HO345_0000_BL4.TIF"
RELEASE_ID = 0003
REVISION_ID = 0000
/* QUALITY DATA ELEMENTS */
DATA_QUALITY_ID = 1
DATA_QUALITY_DESC = "Data calculated based on original SPICE kernels"
/* TIME DATA ELEMENTS */
SPACECRAFT_CLOCK_START_COUNT = "1/0629366871.25683"
SPACECRAFT_CLOCK_STOP_COUNT = "1/0629367193.32261"
START_TIME = 2023-04-12T08:09:13.400Z
STOP_TIME = 2023-04-12T08:13:14.442Z
/* ORBITAL DATA ELEMENTS */
ASCENDING_NODE_LONGITUDE = 121.39
MAXIMUM_RESOLUTION = 0.0651
FOOTPRINT_POINT_LATITUDE = (77.525,77.4505,77.3517,77.2305,77.2271 ,77.2405,76.9399,76.4906,76.0489, 75.7536,75.4577,75.0133,74.7164,74.2702 ,73.9722,73.6739,73.3753,73.0764, 72.7771,72.3277,72.0279,71.7278,71.4274 ,70.9766,70.6759,70.375,70.0739,69.7727 ,69.3209,69.0195,68.5673,68.2657,67.964 ,67.5116,67.2099,66.9083,66.6066, 66.1541,65.8525,65.551,64.7973,64.1947, 63.5925,62.9907,62.6836,62.3749,62.2206 ,62.1902,62.2369,62.2737,62.3026, 62.3033,62.3046,62.6151,63.0802,63.6858 ,64.2921,64.7472,65.0507,65.3545, 65.6583,65.9621,66.2662,66.5704,66.8745 ,67.1788,67.4833,67.7877,68.0922, 68.3967,68.7011,69.1582,69.4629,69.7676 ,70.0723,70.3771,70.6817,70.9864,71.291 ,71.5957,71.9002,72.2048,72.5091, 72.8136,73.1178,73.4219,73.726,74.0299, 74.3336,74.7891,75.0926,75.3959,75.6988 ,76.0015,76.3043,76.7579,77.0643, 77.3741,77.5288,77.525)
FOOTPRINT_POINT_LONGITUDE = (207.173,205.305,203.234,201.082, 201.026,200.792,201.175,201.712,202.204 ,202.514,202.813,203.233,203.499, 203.878,204.119,204.349,204.571,204.784 ,204.989,205.282,205.468,205.648, 205.822,206.07,206.228,206.381,206.529, 206.671,206.875,207.006,207.194,207.314 ,207.431,207.598,207.705,207.808, 207.909,208.054,208.147,208.237,208.45, 208.609,208.759,208.9,208.969,209.036, 209.069,209.075,210.149,211.17,212.163, 212.193,212.202,212.161,212.098,212.012 ,211.921,211.849,211.799,211.749, 211.697,211.642,211.587,211.53,211.471, 211.411,211.349,211.284,211.218,211.15, 211.078,210.969,210.893,210.814,210.732 ,210.648,210.561,210.471,210.377, 210.281,210.181,210.077,209.969,209.857 ,209.741,209.62,209.495,209.364,209.228 ,209.014,208.864,208.707,208.543,208.37 ,208.192,207.908,207.703,207.486, 207.372,207.173)
ORBIT_NUMBER = 24345
ORBITAL_ECCENTRICITY = 0.568
ORBITAL_INCLINATION = 87.08
ORBITAL_SEMIMAJOR_AXIS = 8762.89
PERIAPSIS_ALTITUDE = 403.39
PERIAPSIS_ARGUMENT_ANGLE = 109.91
PERIAPSIS_TIME = 2023-04-12T08:11:06.000Z
SPACECRAFT_ORIENTATION = (0.0,-1.0,0.0)
^MEX_ORIENTATION_DESC = "MEX_ORIENTATION_DESC.TXT"
SPACECRAFT_POINTING_MODE = NADIR
^MEX_POINTING_DESC = "MEX_POINTING_DESC.TXT"
RIGHT_ASCENSION = -1e+32
DECLINATION = -1e+32
OFFSET_ANGLE = -1e+32
SPACECRAFT_SOLAR_DISTANCE = 2.47484e+08
TARGET_NAME = MARS
/* CAMERA DATA ELEMENTS */
DETECTOR_TEMPERATURE = 18.5744
FOCAL_PLANE_TEMPERATURE = 8.7872
INST_CMPRS_NAME = "DISCRETE COSINE TRANSFORMATION (DCT)"
INST_CMPRS_RATIO = 7.9759
INST_CMPRS_QUALITY = 0
INST_CMPRS_QUANTZ_TBL_ID = 0
INSTRUMENT_TEMPERATURE = 11.234
LENS_TEMPERATURE = 8.7872
MACROPIXEL_SIZE = 4
MISSING_FRAMES = 0
PIXEL_SUBSAMPLING_FLAG = N
SIGNAL_CHAIN_ID = 2
/* RADIOMETRIC DATA ELEMENTS */
BANDWIDTH = 76.0
CENTER_FILTER_WAVELENGTH = 444.0
RADIANCE_OFFSET = 0.508913
RADIANCE_SCALING_FACTOR = 0.00324838
REFLECTANCE_SCALING_FACTOR = 0.000204417
MEX:REFLECTANCE_OFFSET = 0.0320253
/* IMAGE OBJECT DEFINITIONS */
OBJECT = IMAGE
  INTERCHANGE_FORMAT = BINARY
  LINES = 18218
  LINE_SAMPLES = 3923
  SAMPLE_TYPE = UNSIGNED_INTEGER
  SAMPLE_BITS = 8
  BANDS = 1
  BAND_STORAGE_TYPE = BAND_SEQUENTIAL
  MAXIMUM = 255
  MEAN = 163.596
  MINIMUM = 1
  STANDARD_DEVIATION = 100.152
END_OBJECT = IMAGE
/* MAP OBJECT DEFINITIONS */
OBJECT = IMAGE_MAP_PROJECTION
  ^DATA_SET_MAP_PROJECTION_CATALOG= "DSMAP.CAT"
  A_AXIS_RADIUS = 3396.0
  B_AXIS_RADIUS = 3396.0
  C_AXIS_RADIUS = 3396.0
  CENTER_LATITUDE = 0.0
  CENTER_LONGITUDE = 209.0
  COORDINATE_SYSTEM_NAME = PLANETOGRAPHIC
  COORDINATE_SYSTEM_TYPE = "BODY-FIXED ROTATING"
  EASTERNMOST_LONGITUDE = 212.202
  FIRST_STANDARD_PARALLEL = "N/A"
  LINE_FIRST_PIXEL = 1
  LINE_LAST_PIXEL = 18218
  LINE_PROJECTION_OFFSET = 91937.625
  MAP_PROJECTION_ROTATION = 0.0
  MAP_PROJECTION_TYPE = SINUSOIDAL
  MAP_RESOLUTION = 1185.42760773333
  MAP_SCALE = 0.05
  MAXIMUM_LATITUDE = 77.5288
  MINIMUM_LATITUDE = 62.1902
  POSITIVE_LONGITUDE_DIRECTION = EAST
  REFERENCE_LATITUDE = "N/A"
  REFERENCE_LONGITUDE = "N/A"
  SAMPLE_FIRST_PIXEL = 1
  SAMPLE_LAST_PIXEL = 3923
  SAMPLE_PROJECTION_OFFSET = 2161.625
  SECOND_STANDARD_PARALLEL = "N/A"
  WESTERNMOST_LONGITUDE = 200.792
END_OBJECT = IMAGE_MAP_PROJECTION
END
