PDS_VERSION_ID = PDS3
/* FILE DATA ELEMENTS */
RECORD_TYPE = UNDEFINED
/* POINTERS TO DATA OBJECTS */
^IMAGE = ("HO342_0000_IR4.TIF")
/* IDENTIFICATION DATA ELEMENTS */
DATA_SET_ID = "MEX-M-HRSC-4-REFDR-MAPPROJECT-EXT9-V4.0"
DATA_SET_NAME = "MARS EXPRESS HRSC MAP PROJECTED REFDR EXTENSION9 V4.0"
DETECTOR_ID = MEX_HRSC_IR
EVENT_TYPE = "MARS-LOCAL-CARTOGRAPHY-Te-Gl-Pf"
INSTRUMENT_HOST_ID = MEX
INSTRUMENT_HOST_NAME = "MARS EXPRESS"
INSTRUMENT_ID = HRSC
INSTRUMENT_NAME = "HIGH RESOLUTION STEREO CAMERA"
MISSION_NAME = "MARS EXPRESS"
MISSION_PHASE_NAME = ME_Phase_47
PROCESSING_LEVEL_ID = 4
PRODUCT_CREATION_TIME = 2023-11-15T01:26:02.000Z
PRODUCT_ID = "HO342_0000_IR4.TIF"
RELEASE_ID = 0003
REVISION_ID = 0000
/* QUALITY DATA ELEMENTS */
DATA_QUALITY_ID = 1
DATA_QUALITY_DESC = "Data calculated based on original SPICE kernels"
/* TIME DATA ELEMENTS */
SPACECRAFT_CLOCK_START_COUNT = "1/0629291710.23969"
SPACECRAFT_CLOCK_STOP_COUNT = "1/0629292329.63797"
START_TIME = 2023-04-11T11:15:52.721Z
STOP_TIME = 2023-04-11T11:23:36.113Z
/* ORBITAL DATA ELEMENTS */
ASCENDING_NODE_LONGITUDE = 121.45
MAXIMUM_RESOLUTION = 0.0695
FOOTPRINT_POINT_LATITUDE = (60.5245,60.5175,60.4865,60.4858, 60.3909,59.666,58.6992,57.9742,57.2344, 56.2414,55.4972,54.7359,54.2271,53.7189 ,53.2051,52.6846,51.9035,51.3748, 50.8426,50.3111,49.4979,48.955,48.1254, 47.571,47.0058,46.4401,45.8652,45.2886, 44.7031,43.8166,43.2189,42.6122,42.0009 ,41.3818,40.7551,40.1231,39.4829, 38.8337,38.1771,37.5129,36.8402,36.159, 35.4679,34.7633,34.0568,33.3358,32.6043 ,31.8626,31.4885,31.3808,31.3726, 31.3467,31.3268,31.3256,31.3269,32.077, 32.8171,33.5457,34.2663,34.9752,35.6746 ,36.3655,37.0469,37.7195,38.3832, 39.0378,39.6892,40.3309,40.9624,41.5887 ,42.2046,42.8141,43.7183,44.6078, 45.1966,45.7742,46.3526,46.9196,47.766, 48.3222,48.8775,49.6946,50.2395,50.7727 ,51.3067,51.8391,52.361,52.8829,53.6612 ,54.171,54.9364,55.4467,56.4428,56.9409 ,57.4392,58.4202,59.391,60.119,60.3615, 60.5245)
FOOTPRINT_POINT_LONGITUDE = (159.963,158.831,157.145,157.119, 157.119,157.216,157.336,157.418,157.495 ,157.59,157.655,157.716,157.754,157.79, 157.825,157.857,157.903,157.931,157.958 ,157.982,158.017,158.038,158.067, 158.084,158.1,158.114,158.127,158.139, 158.149,158.161,158.168,158.173,158.177 ,158.18,158.18,158.18,158.178,158.175, 158.17,158.164,158.156,158.147,158.136, 158.123,158.11,158.094,158.077,158.058, 158.047,158.044,158.85,160.048,160.741, 160.767,160.776,160.776,160.775,160.773 ,160.77,160.767,160.764,160.76,160.756, 160.751,160.746,160.74,160.732,160.725, 160.718,160.71,160.705,160.698,160.685, 160.672,160.663,160.653,160.642,160.631 ,160.613,160.6,160.588,160.567,160.553, 160.538,160.522,160.505,160.488,160.471 ,160.444,160.425,160.394,160.373, 160.328,160.304,160.279,160.227,160.171 ,160.125,160.11,159.963)
ORBIT_NUMBER = 24342
ORBITAL_ECCENTRICITY = 0.568
ORBITAL_INCLINATION = 87.06
ORBITAL_SEMIMAJOR_AXIS = 8765.68
PERIAPSIS_ALTITUDE = 404.61
PERIAPSIS_ARGUMENT_ANGLE = 110.43
PERIAPSIS_TIME = 2023-04-11T11:14:02.000Z
SPACECRAFT_ORIENTATION = (0.0,-1.0,0.0)
^MEX_ORIENTATION_DESC = "MEX_ORIENTATION_DESC.TXT"
SPACECRAFT_POINTING_MODE = ACROSSTRACK
^MEX_POINTING_DESC = "MEX_POINTING_DESC.TXT"
RIGHT_ASCENSION = -1e+32
DECLINATION = -1e+32
OFFSET_ANGLE = 0.6
SPACECRAFT_SOLAR_DISTANCE = 2.47422e+08
TARGET_NAME = MARS
/* CAMERA DATA ELEMENTS */
DETECTOR_TEMPERATURE = 17.7588
FOCAL_PLANE_TEMPERATURE = 9.8067
INST_CMPRS_NAME = "DISCRETE COSINE TRANSFORMATION (DCT)"
INST_CMPRS_RATIO = 18.0374
INST_CMPRS_QUALITY = 0
INST_CMPRS_QUANTZ_TBL_ID = 0
INSTRUMENT_TEMPERATURE = 11.8457
LENS_TEMPERATURE = 9.6028
MACROPIXEL_SIZE = 4
MISSING_FRAMES = 0
PIXEL_SUBSAMPLING_FLAG = N
SIGNAL_CHAIN_ID = 2
/* RADIOMETRIC DATA ELEMENTS */
BANDWIDTH = 81.0
CENTER_FILTER_WAVELENGTH = 955.5
RADIANCE_OFFSET = 0.817598
RADIANCE_SCALING_FACTOR = 0.00859552
REFLECTANCE_SCALING_FACTOR = 0.00113521
MEX:REFLECTANCE_OFFSET = 0.10798
/* IMAGE OBJECT DEFINITIONS */
OBJECT = IMAGE
  INTERCHANGE_FORMAT = BINARY
  LINES = 34511
  LINE_SAMPLES = 3013
  SAMPLE_TYPE = UNSIGNED_INTEGER
  SAMPLE_BITS = 8
  BANDS = 1
  BAND_STORAGE_TYPE = BAND_SEQUENTIAL
  MAXIMUM = 255
  MEAN = 133.835
  MINIMUM = 1
  STANDARD_DEVIATION = 63.6563
END_OBJECT = IMAGE
/* MAP OBJECT DEFINITIONS */
OBJECT = IMAGE_MAP_PROJECTION
  ^DATA_SET_MAP_PROJECTION_CATALOG= "DSMAP.CAT"
  A_AXIS_RADIUS = 3396.0
  B_AXIS_RADIUS = 3396.0
  C_AXIS_RADIUS = 3396.0
  CENTER_LATITUDE = 0.0
  CENTER_LONGITUDE = 159.0
  COORDINATE_SYSTEM_NAME = PLANETOGRAPHIC
  COORDINATE_SYSTEM_TYPE = "BODY-FIXED ROTATING"
  EASTERNMOST_LONGITUDE = 160.776
  FIRST_STANDARD_PARALLEL = "N/A"
  LINE_FIRST_PIXEL = 1
  LINE_LAST_PIXEL = 34511
  LINE_PROJECTION_OFFSET = 71688.375
  MAP_PROJECTION_ROTATION = 0.0
  MAP_PROJECTION_TYPE = SINUSOIDAL
  MAP_RESOLUTION = 1185.42760773333
  MAP_SCALE = 0.05
  MAXIMUM_LATITUDE = 60.5245
  MINIMUM_LATITUDE = 31.3256
  POSITIVE_LONGITUDE_DIRECTION = EAST
  REFERENCE_LATITUDE = "N/A"
  REFERENCE_LONGITUDE = "N/A"
  SAMPLE_FIRST_PIXEL = 1
  SAMPLE_LAST_PIXEL = 3013
  SAMPLE_PROJECTION_OFFSET = 1127.625
  SECOND_STANDARD_PARALLEL = "N/A"
  WESTERNMOST_LONGITUDE = 157.119
END_OBJECT = IMAGE_MAP_PROJECTION
END
