PDS_VERSION_ID = PDS3
/* FILE DATA ELEMENTS */
RECORD_TYPE = UNDEFINED
/* POINTERS TO DATA OBJECTS */
^IMAGE = ("HO339_0000_IR4.TIF")
/* IDENTIFICATION DATA ELEMENTS */
DATA_SET_ID = "MEX-M-HRSC-4-REFDR-MAPPROJECT-EXT9-V4.0"
DATA_SET_NAME = "MARS EXPRESS HRSC MAP PROJECTED REFDR EXTENSION9 V4.0"
DETECTOR_ID = MEX_HRSC_IR
EVENT_TYPE = "MARS-LOCAL-CARTOGRAPHY-Te-Gl-Pf"
INSTRUMENT_HOST_ID = MEX
INSTRUMENT_HOST_NAME = "MARS EXPRESS"
INSTRUMENT_ID = HRSC
INSTRUMENT_NAME = "HIGH RESOLUTION STEREO CAMERA"
MISSION_NAME = "MARS EXPRESS"
MISSION_PHASE_NAME = ME_Phase_47
PROCESSING_LEVEL_ID = 4
PRODUCT_CREATION_TIME = 2023-11-15T01:26:02.000Z
PRODUCT_ID = "HO339_0000_IR4.TIF"
RELEASE_ID = 0003
REVISION_ID = 0000
/* QUALITY DATA ELEMENTS */
DATA_QUALITY_ID = 1
DATA_QUALITY_DESC = "Data calculated based on original SPICE kernels"
/* TIME DATA ELEMENTS */
SPACECRAFT_CLOCK_START_COUNT = "1/0629215965.24915"
SPACECRAFT_CLOCK_STOP_COUNT = "1/0629216496.15415"
START_TIME = 2023-04-10T14:13:28.561Z
STOP_TIME = 2023-04-10T14:20:48.404Z
/* ORBITAL DATA ELEMENTS */
ASCENDING_NODE_LONGITUDE = 121.5
MAXIMUM_RESOLUTION = 0.0676 <m/pixel>
FOOTPRINT_POINT_LATITUDE = (79.6859,79.5964,79.4009,79.3973, 79.2821,78.4698,77.9257,77.3902,76.8513 ,76.3097,75.7684,75.2361,74.7012, 73.8953,73.3563,72.82,71.7613,70.6978, 69.6278,68.5537,68.0156,67.4761,66.9357 ,66.3945,65.8526,65.3101,64.7666, 64.2231,63.6784,63.1333,62.588,62.0415, 61.2216,60.6748,60.1275,59.2927,58.4486 ,57.8857,57.3228,56.7588,56.181,55.6033 ,55.0261,54.4472,53.8542,53.2627, 52.6713,52.0663,51.7633,51.7164,51.7324 ,51.7293,51.7291,51.7302,52.6415,53.235 ,53.829,54.7155,55.2948,55.8745,56.4544 ,57.0288,57.594,58.4418,59.0069,59.5718 ,60.1289,60.6786,61.5029,62.0521, 62.8757,63.4239,64.2458,64.7931,65.34, 65.8864,66.4323,66.9773,67.5221,68.066, 68.6089,69.1515,69.6933,70.2342,70.7741 ,71.8509,72.9236,73.7407,74.2882, 74.8344,75.3794,75.9229,76.4753,77.0302 ,77.5835,78.135,78.6954,79.2574,79.5376 ,79.6859)
FOOTPRINT_POINT_LONGITUDE = (101.323,98.104,93.4184,93.3474,93.4523 ,94.6707,95.3868,96.0258,96.6112, 97.1487,97.6409,98.086,98.4986,99.0627, 99.4059,99.7231,100.287,100.783,101.22, 101.607,101.784,101.951,102.109,102.258 ,102.399,102.531,102.657,102.776, 102.889,102.995,103.096,103.191,103.325 ,103.408,103.487,103.599,103.703, 103.768,103.829,103.886,103.942,103.994 ,104.043,104.09,104.134,104.176,104.215 ,104.252,104.269,104.272,105.789, 106.805,106.83,106.838,106.806,106.784, 106.76,106.723,106.698,106.671,106.643, 106.613,106.583,106.535,106.5,106.464, 106.427,106.389,106.327,106.284,106.214 ,106.165,106.087,106.031,105.972,105.91 ,105.845,105.776,105.703,105.627, 105.546,105.46,105.369,105.272,105.17, 104.947,104.693,104.476,104.316,104.144 ,103.959,103.76,103.539,103.297,103.033 ,102.745,102.421,102.061,101.867, 101.323)
ORBIT_NUMBER = 24339
ORBITAL_ECCENTRICITY = 0.569
ORBITAL_INCLINATION = 87.07
ORBITAL_SEMIMAJOR_AXIS = 8768.53
PERIAPSIS_ALTITUDE = 402.88
PERIAPSIS_ARGUMENT_ANGLE = 110.93
PERIAPSIS_TIME = 2023-04-10T14:16:49.000Z
SPACECRAFT_ORIENTATION = (0.0,-1.0,0.0)
^MEX_ORIENTATION_DESC = "MEX_ORIENTATION_DESC.TXT"
SPACECRAFT_POINTING_MODE = ACROSSTRACK
^MEX_POINTING_DESC = "MEX_POINTING_DESC.TXT"
RIGHT_ASCENSION = -1e+32
DECLINATION = -1e+32
OFFSET_ANGLE = 0.539
SPACECRAFT_SOLAR_DISTANCE = 2.47358e+08
TARGET_NAME = MARS
/* CAMERA DATA ELEMENTS */
DETECTOR_TEMPERATURE = 17.5549 <degC>
FOCAL_PLANE_TEMPERATURE = 8.9911 <degC>
INST_CMPRS_NAME = "DISCRETE COSINE TRANSFORMATION (DCT)"
INST_CMPRS_RATIO = 8.10349
INST_CMPRS_QUALITY = 0
INST_CMPRS_QUANTZ_TBL_ID = 0
INSTRUMENT_TEMPERATURE = 11.4379 <degC>
LENS_TEMPERATURE = 9.3989 <degC>
MACROPIXEL_SIZE = 4
MISSING_FRAMES = 0
PIXEL_SUBSAMPLING_FLAG = N
SIGNAL_CHAIN_ID = 2
/* RADIOMETRIC DATA ELEMENTS */
BANDWIDTH = 81.0 <nm>
CENTER_FILTER_WAVELENGTH = 955.5 <nm>
RADIANCE_OFFSET = 0.952376 <W*m**-2*sr**-1>
RADIANCE_SCALING_FACTOR = 0.00636027 <W*m**-2*sr**-1>
REFLECTANCE_SCALING_FACTOR = 0.000839569
MEX:REFLECTANCE_OFFSET = 0.125716
/* IMAGE OBJECT DEFINITIONS */
OBJECT = IMAGE
  INTERCHANGE_FORMAT = BINARY
  LINES = 33077
  LINE_SAMPLES = 4415
  SAMPLE_TYPE = UNSIGNED_INTEGER
  SAMPLE_BITS = 8
  BANDS = 1
  BAND_STORAGE_TYPE = BAND_SEQUENTIAL
  MAXIMUM = 255
  MEAN = 96.5466
  MINIMUM = 1
  STANDARD_DEVIATION = 78.1237
END_OBJECT = IMAGE
/* MAP OBJECT DEFINITIONS */
OBJECT = IMAGE_MAP_PROJECTION
  ^DATA_SET_MAP_PROJECTION_CATALOG= "DSMAP.CAT"
  A_AXIS_RADIUS = 3396.0 <km>
  B_AXIS_RADIUS = 3396.0 <km>
  C_AXIS_RADIUS = 3396.0 <km>
  CENTER_LATITUDE = 0.0
  CENTER_LONGITUDE = 104.0
  COORDINATE_SYSTEM_NAME = PLANETOGRAPHIC
  COORDINATE_SYSTEM_TYPE = "BODY-FIXED ROTATING"
  EASTERNMOST_LONGITUDE = 106.838
  FIRST_STANDARD_PARALLEL = "N/A"
  LINE_FIRST_PIXEL = 1
  LINE_LAST_PIXEL = 33077
  LINE_PROJECTION_OFFSET = 94369.875
  MAP_PROJECTION_ROTATION = 0.0
  MAP_PROJECTION_TYPE = SINUSOIDAL
  MAP_RESOLUTION = 1185.42760773333 <pixel/degree>
  MAP_SCALE = 0.05 <km/pixel>
  MAXIMUM_LATITUDE = 79.6859
  MINIMUM_LATITUDE = 51.7164
  POSITIVE_LONGITUDE_DIRECTION = EAST
  REFERENCE_LATITUDE = "N/A"
  REFERENCE_LONGITUDE = "N/A"
  SAMPLE_FIRST_PIXEL = 1
  SAMPLE_LAST_PIXEL = 4415
  SAMPLE_PROJECTION_OFFSET = 2314.125
  SECOND_STANDARD_PARALLEL = "N/A"
  WESTERNMOST_LONGITUDE = 93.34739999999999
END_OBJECT = IMAGE_MAP_PROJECTION
END
