PDS_VERSION_ID = PDS3
/* FILE DATA ELEMENTS */
RECORD_TYPE = UNDEFINED
/* POINTERS TO DATA OBJECTS */
^IMAGE = ("HO337_0000_S24.TIF")
/* IDENTIFICATION DATA ELEMENTS */
DATA_SET_ID = "MEX-M-HRSC-4-REFDR-MAPPROJECT-EXT9-V4.0"
DATA_SET_NAME = "MARS EXPRESS HRSC MAP PROJECTED REFDR EXTENSION9 V4.0"
DETECTOR_ID = MEX_HRSC_S2
EVENT_TYPE = "MARS-LOCAL-CARTOGRAPHY-Te-Pf-La"
INSTRUMENT_HOST_ID = MEX
INSTRUMENT_HOST_NAME = "MARS EXPRESS"
INSTRUMENT_ID = HRSC
INSTRUMENT_NAME = "HIGH RESOLUTION STEREO CAMERA"
MISSION_NAME = "MARS EXPRESS"
MISSION_PHASE_NAME = ME_Phase_47
PROCESSING_LEVEL_ID = 4
PRODUCT_CREATION_TIME = 2023-11-15T01:26:02.000Z
PRODUCT_ID = "HO337_0000_S24.TIF"
RELEASE_ID = 0003
REVISION_ID = 0000
/* QUALITY DATA ELEMENTS */
DATA_QUALITY_ID = 1
DATA_QUALITY_DESC = "Data calculated based on original SPICE kernels"
/* TIME DATA ELEMENTS */
SPACECRAFT_CLOCK_START_COUNT = "1/0629165835.25690"
SPACECRAFT_CLOCK_STOP_COUNT = "1/0629166254.00634"
START_TIME = 2023-04-10T00:19:05.746Z
STOP_TIME = 2023-04-10T00:24:47.925Z
/* ORBITAL DATA ELEMENTS */
ASCENDING_NODE_LONGITUDE = 121.54
MAXIMUM_RESOLUTION = 0.0349
FOOTPRINT_POINT_LATITUDE = (69.5404,69.4826,69.38,69.378,69.5117, 69.115,68.7183,68.1238,67.7278,67.3319, 66.9365,66.5414,66.1467,65.7521,64.9647 ,64.1792,63.5919,63.1907,62.7897, 62.3894,61.99,61.5908,61.1923,60.7946, 60.3882,59.9818,59.5763,59.1712,58.767, 58.1505,57.7382,57.3271,56.9167,56.4986 ,55.8713,55.4543,54.8194,54.3955, 53.9722,53.5407,53.1095,52.4616,52.0245 ,51.5888,51.1465,50.4831,50.034,49.5845 ,49.1308,48.9017,48.8916,48.9266, 48.9519,48.9523,48.953,49.6368,50.0867, 50.5377,51.2037,51.648,52.0856,52.5248, 53.1757,53.6081,54.0414,54.4658,54.892, 55.5294,55.9482,56.5782,56.9983,57.4105 ,57.8235,58.2375,58.8571,59.263,59.67, 60.078,60.4863,61.0952,61.4945,61.896, 62.2977,62.6999,63.1028,63.5064,64.103, 64.8932,65.6853,66.0825,66.4799,66.878, 67.2766,67.6755,68.2751,68.675,69.0754, 69.4762,69.677,69.5404)
FOOTPRINT_POINT_LONGITUDE = (308.336,306.754,304.523,304.486, 304.326,304.492,304.651,304.876,305.018 ,305.154,305.285,305.409,305.529, 305.644,305.859,306.057,306.195,306.285 ,306.371,306.454,306.533,306.609, 306.682,306.752,306.821,306.887,306.95, 307.011,307.07,307.154,307.208,307.259, 307.308,307.356,307.425,307.468,307.53, 307.569,307.607,307.643,307.678,307.727 ,307.758,307.788,307.816,307.856, 307.881,307.905,307.927,307.939,307.939 ,309.323,310.665,310.691,310.701, 310.669,310.647,310.624,310.59,310.566, 310.542,310.517,310.479,310.452,310.426 ,310.398,310.37,310.325,310.295,310.248 ,310.216,310.183,310.149,310.114, 310.059,310.022,309.983,309.944,309.902 ,309.838,309.794,309.749,309.702, 309.653,309.603,309.551,309.47,309.357, 309.234,309.169,309.102,309.032,308.959 ,308.883,308.764,308.679,308.591,308.5, 308.452,308.336)
ORBIT_NUMBER = 24337
ORBITAL_ECCENTRICITY = 0.568
ORBITAL_INCLINATION = 87.07
ORBITAL_SEMIMAJOR_AXIS = 8765.54
PERIAPSIS_ALTITUDE = 403.61
PERIAPSIS_ARGUMENT_ANGLE = 111.3
PERIAPSIS_TIME = 2023-04-10T00:18:44.000Z
SPACECRAFT_ORIENTATION = (0.0,-1.0,0.0)
^MEX_ORIENTATION_DESC = "MEX_ORIENTATION_DESC.TXT"
SPACECRAFT_POINTING_MODE = ACROSSTRACK
^MEX_POINTING_DESC = "MEX_POINTING_DESC.TXT"
RIGHT_ASCENSION = -1e+32
DECLINATION = -1e+32
OFFSET_ANGLE = 0.15
SPACECRAFT_SOLAR_DISTANCE = 2.47315e+08
TARGET_NAME = MARS
/* CAMERA DATA ELEMENTS */
DETECTOR_TEMPERATURE = 18.9822
FOCAL_PLANE_TEMPERATURE = 8.5833
INST_CMPRS_NAME = "DISCRETE COSINE TRANSFORMATION (DCT)"
INST_CMPRS_RATIO = 12.4059
INST_CMPRS_QUALITY = 0
INST_CMPRS_QUANTZ_TBL_ID = 0
INSTRUMENT_TEMPERATURE = 10.0106
LENS_TEMPERATURE = 8.9911
MACROPIXEL_SIZE = 2
MISSING_FRAMES = 0
PIXEL_SUBSAMPLING_FLAG = N
SIGNAL_CHAIN_ID = 1
/* RADIOMETRIC DATA ELEMENTS */
BANDWIDTH = 178.0
CENTER_FILTER_WAVELENGTH = 679.0
RADIANCE_OFFSET = 2.50297
RADIANCE_SCALING_FACTOR = 0.019348
REFLECTANCE_SCALING_FACTOR = 0.000626711
MEX:REFLECTANCE_OFFSET = 0.081075
/* IMAGE OBJECT DEFINITIONS */
OBJECT = IMAGE
  INTERCHANGE_FORMAT = BINARY
  LINES = 49252
  LINE_SAMPLES = 7091
  SAMPLE_TYPE = UNSIGNED_INTEGER
  SAMPLE_BITS = 8
  BANDS = 1
  BAND_STORAGE_TYPE = BAND_SEQUENTIAL
  MAXIMUM = 255
  MEAN = 92.2849
  MINIMUM = 1
  STANDARD_DEVIATION = 67.2695
END_OBJECT = IMAGE
/* MAP OBJECT DEFINITIONS */
OBJECT = IMAGE_MAP_PROJECTION
  ^DATA_SET_MAP_PROJECTION_CATALOG= "DSMAP.CAT"
  A_AXIS_RADIUS = 3396.0
  B_AXIS_RADIUS = 3396.0
  C_AXIS_RADIUS = 3396.0
  CENTER_LATITUDE = 0.0
  CENTER_LONGITUDE = 308.0
  COORDINATE_SYSTEM_NAME = PLANETOGRAPHIC
  COORDINATE_SYSTEM_TYPE = "BODY-FIXED ROTATING"
  EASTERNMOST_LONGITUDE = 310.701
  FIRST_STANDARD_PARALLEL = "N/A"
  LINE_FIRST_PIXEL = 1
  LINE_LAST_PIXEL = 49252
  LINE_PROJECTION_OFFSET = 165128.25
  MAP_PROJECTION_ROTATION = 0.0
  MAP_PROJECTION_TYPE = SINUSOIDAL
  MAP_RESOLUTION = 2370.85521546667
  MAP_SCALE = 0.025
  MAXIMUM_LATITUDE = 69.67700000000001
  MINIMUM_LATITUDE = 48.8916
  POSITIVE_LONGITUDE_DIRECTION = EAST
  REFERENCE_LATITUDE = "N/A"
  REFERENCE_LONGITUDE = "N/A"
  SAMPLE_FIRST_PIXEL = 1
  SAMPLE_LAST_PIXEL = 7091
  SAMPLE_PROJECTION_OFFSET = 3041.25
  SECOND_STANDARD_PARALLEL = "N/A"
  WESTERNMOST_LONGITUDE = 304.326
END_OBJECT = IMAGE_MAP_PROJECTION
END
