PDS_VERSION_ID = PDS3
/* FILE DATA ELEMENTS */
RECORD_TYPE = UNDEFINED
/* POINTERS TO DATA OBJECTS */
^IMAGE = ("HO332_0000_BL4.TIF")
/* IDENTIFICATION DATA ELEMENTS */
DATA_SET_ID = "MEX-M-HRSC-4-REFDR-MAPPROJECT-EXT9-V4.0"
DATA_SET_NAME = "MARS EXPRESS HRSC MAP PROJECTED REFDR EXTENSION9 V4.0"
DETECTOR_ID = MEX_HRSC_BLUE
EVENT_TYPE = "MARS-LOCAL-CARTOGRAPHY-Te-Pf-La"
INSTRUMENT_HOST_ID = MEX
INSTRUMENT_HOST_NAME = "MARS EXPRESS"
INSTRUMENT_ID = HRSC
INSTRUMENT_NAME = "HIGH RESOLUTION STEREO CAMERA"
MISSION_NAME = "MARS EXPRESS"
MISSION_PHASE_NAME = ME_Phase_47
PROCESSING_LEVEL_ID = 4
PRODUCT_CREATION_TIME = 2023-11-15T01:26:02.000Z
PRODUCT_ID = "HO332_0000_BL4.TIF"
RELEASE_ID = 0003
REVISION_ID = 0000
/* QUALITY DATA ELEMENTS */
DATA_QUALITY_ID = 1
DATA_QUALITY_DESC = "Data calculated based on original SPICE kernels"
/* TIME DATA ELEMENTS */
SPACECRAFT_CLOCK_START_COUNT = "1/0629039945.24911"
SPACECRAFT_CLOCK_STOP_COUNT = "1/0629040472.33537"
START_TIME = 2023-04-08T13:20:30.002Z
STOP_TIME = 2023-04-08T13:27:48.524Z
/* ORBITAL DATA ELEMENTS */
ASCENDING_NODE_LONGITUDE = 121.63
MAXIMUM_RESOLUTION = 0.0647
FOOTPRINT_POINT_LATITUDE = (79.3378,79.2073,79.0359,79.0323, 79.0532,78.5073,77.9587,77.1323,76.5922 ,76.0503,75.5068,74.9619,74.1463, 73.6129,73.0784,72.5433,72.0074,71.4707 ,70.9334,70.1268,69.3194,68.7806, 68.2417,67.7025,67.163,66.6238,66.0847, 65.0062,63.9283,62.8514,61.7759,60.7018 ,60.1511,59.6009,59.0514,58.5024, 57.9542,57.3961,56.8352,56.2751,55.7159 ,55.1457,54.5742,54.0037,53.4255, 52.8431,51.9668,51.67,51.6283,51.6605, 51.6808,51.681,51.6822,52.2771,52.86, 53.4442,54.0253,54.5976,55.171,55.7441, 56.3054,56.8675,57.4306,57.9918,58.5421 ,59.0931,59.645,60.1975,61.0214,62.1009 ,63.1824,63.7237,64.2655,64.8077, 65.3501,65.8929,66.4358,66.9789,67.5223 ,68.0658,68.6093,69.1529,69.9682, 70.7834,71.5983,72.1415,72.6844,73.2269 ,73.7693,74.3111,75.1398,75.6952, 76.2499,76.804,77.3573,77.9221,78.4882, 79.0533,79.3355,79.3378)
FOOTPRINT_POINT_LONGITUDE = (96.4779,92.6805,89.0559,88.9892, 88.8865,89.6817,90.4016,91.3601,91.9165 ,92.4274,92.8976,93.3313,93.9186, 94.2674,94.5922,94.8946,95.1771,95.4412 ,95.6885,96.0303,96.3411,96.5329, 96.7132,96.883,97.0434,97.1941,97.3361, 97.5972,97.8303,98.0385,98.2247,98.3913 ,98.4699,98.5442,98.6144,98.6807, 98.7432,98.8033,98.8602,98.9138,98.9642 ,99.0125,99.058,99.1007,99.1411,99.1792 ,99.2317,99.2483,99.2505,100.496, 101.816,101.841,101.849,101.828,101.806 ,101.782,101.758,101.733,101.707, 101.679,101.651,101.622,101.591,101.559 ,101.526,101.49,101.454,101.416,101.356 ,101.269,101.174,101.123,101.069, 101.012,100.952,100.89,100.823,100.753, 100.679,100.601,100.518,100.43,100.287, 100.132,99.9605,99.8383,99.7066,99.5644 ,99.4144,99.2514,98.9777,98.7758, 98.5564,98.3176,98.0569,97.7652,97.4414 ,97.0837,96.8904,96.4779)
ORBIT_NUMBER = 24332
ORBITAL_ECCENTRICITY = 0.569
ORBITAL_INCLINATION = 87.07
ORBITAL_SEMIMAJOR_AXIS = 8770.07
PERIAPSIS_ALTITUDE = 402.29
PERIAPSIS_ARGUMENT_ANGLE = 112.12
PERIAPSIS_TIME = 2023-04-08T13:23:25.000Z
SPACECRAFT_ORIENTATION = (0.0,-1.0,0.0)
^MEX_ORIENTATION_DESC = "MEX_ORIENTATION_DESC.TXT"
SPACECRAFT_POINTING_MODE = ACROSSTRACK
^MEX_POINTING_DESC = "MEX_POINTING_DESC.TXT"
RIGHT_ASCENSION = -1e+32
DECLINATION = -1e+32
OFFSET_ANGLE = 0.539
SPACECRAFT_SOLAR_DISTANCE = 2.47206e+08
TARGET_NAME = MARS
/* CAMERA DATA ELEMENTS */
DETECTOR_TEMPERATURE = 18.1666
FOCAL_PLANE_TEMPERATURE = 8.5833
INST_CMPRS_NAME = "DISCRETE COSINE TRANSFORMATION (DCT)"
INST_CMPRS_RATIO = 8.05565
INST_CMPRS_QUALITY = 0
INST_CMPRS_QUANTZ_TBL_ID = 0
INSTRUMENT_TEMPERATURE = 11.6418
LENS_TEMPERATURE = 8.5833
MACROPIXEL_SIZE = 4
MISSING_FRAMES = 0
PIXEL_SUBSAMPLING_FLAG = N
SIGNAL_CHAIN_ID = 2
/* RADIOMETRIC DATA ELEMENTS */
BANDWIDTH = 76.0
CENTER_FILTER_WAVELENGTH = 444.0
RADIANCE_OFFSET = 0.563317
RADIANCE_SCALING_FACTOR = 0.00303509
REFLECTANCE_SCALING_FACTOR = 0.000190565
MEX:REFLECTANCE_OFFSET = 0.0353692
/* IMAGE OBJECT DEFINITIONS */
OBJECT = IMAGE
  INTERCHANGE_FORMAT = BINARY
  LINES = 32883
  LINE_SAMPLES = 4380
  SAMPLE_TYPE = UNSIGNED_INTEGER
  SAMPLE_BITS = 8
  BANDS = 1
  BAND_STORAGE_TYPE = BAND_SEQUENTIAL
  MAXIMUM = 255
  MEAN = 127.146
  MINIMUM = 1
  STANDARD_DEVIATION = 99.3945
END_OBJECT = IMAGE
/* MAP OBJECT DEFINITIONS */
OBJECT = IMAGE_MAP_PROJECTION
  ^DATA_SET_MAP_PROJECTION_CATALOG= "DSMAP.CAT"
  A_AXIS_RADIUS = 3396.0
  B_AXIS_RADIUS = 3396.0
  C_AXIS_RADIUS = 3396.0
  CENTER_LATITUDE = 0.0
  CENTER_LONGITUDE = 99.0
  COORDINATE_SYSTEM_NAME = PLANETOGRAPHIC
  COORDINATE_SYSTEM_TYPE = "BODY-FIXED ROTATING"
  EASTERNMOST_LONGITUDE = 101.849
  FIRST_STANDARD_PARALLEL = "N/A"
  LINE_FIRST_PIXEL = 1
  LINE_LAST_PIXEL = 32883
  LINE_PROJECTION_OFFSET = 94081.375
  MAP_PROJECTION_ROTATION = 0.0
  MAP_PROJECTION_TYPE = SINUSOIDAL
  MAP_RESOLUTION = 1185.42760773333
  MAP_SCALE = 0.05
  MAXIMUM_LATITUDE = 79.3378
  MINIMUM_LATITUDE = 51.6283
  POSITIVE_LONGITUDE_DIRECTION = EAST
  REFERENCE_LATITUDE = "N/A"
  REFERENCE_LONGITUDE = "N/A"
  SAMPLE_FIRST_PIXEL = 1
  SAMPLE_LAST_PIXEL = 4380
  SAMPLE_PROJECTION_OFFSET = 2291.875
  SECOND_STANDARD_PARALLEL = "N/A"
  WESTERNMOST_LONGITUDE = 88.8865
END_OBJECT = IMAGE_MAP_PROJECTION
END
