PDS_VERSION_ID = PDS3
/* FILE DATA ELEMENTS */
RECORD_TYPE = UNDEFINED
/* POINTERS TO DATA OBJECTS */
^IMAGE = ("HO326_0000_S24.TIF")
/* IDENTIFICATION DATA ELEMENTS */
DATA_SET_ID = "MEX-M-HRSC-4-REFDR-MAPPROJECT-EXT9-V4.0"
DATA_SET_NAME = "MARS EXPRESS HRSC MAP PROJECTED REFDR EXTENSION9 V4.0"
DETECTOR_ID = MEX_HRSC_S2
EVENT_TYPE = "MARS-LOCAL-CARTOGRAPHY-Im-Gl-Pf"
INSTRUMENT_HOST_ID = MEX
INSTRUMENT_HOST_NAME = "MARS EXPRESS"
INSTRUMENT_ID = HRSC
INSTRUMENT_NAME = "HIGH RESOLUTION STEREO CAMERA"
MISSION_NAME = "MARS EXPRESS"
MISSION_PHASE_NAME = ME_Phase_47
PROCESSING_LEVEL_ID = 4
PRODUCT_CREATION_TIME = 2023-11-15T01:26:02.000Z
PRODUCT_ID = "HO326_0000_S24.TIF"
RELEASE_ID = 0003
REVISION_ID = 0000
/* QUALITY DATA ELEMENTS */
DATA_QUALITY_ID = 1
DATA_QUALITY_DESC = "Data calculated based on original SPICE kernels"
/* TIME DATA ELEMENTS */
SPACECRAFT_CLOCK_START_COUNT = "1/0628889123.25678"
SPACECRAFT_CLOCK_STOP_COUNT = "1/0628889678.63694"
START_TIME = 2023-04-06T19:27:18.149Z
STOP_TIME = 2023-04-06T19:37:33.883Z
/* ORBITAL DATA ELEMENTS */
ASCENDING_NODE_LONGITUDE = 121.73
MAXIMUM_RESOLUTION = 0.0347
FOOTPRINT_POINT_LATITUDE = (75.5603,75.3057,75.3026,75.4271, 74.4274,73.763,73.097,72.43,71.4282, 70.7604,69.7573,69.0888,68.4205,67.7526 ,67.0849,65.7514,64.4198,63.0978, 61.7785,61.1061,60.4327,59.091,58.4118, 57.7271,56.7142,55.6653,54.9764,54.2707 ,53.5686,51.5951,50.5038,49.7697, 49.0248,48.282,47.4715,46.3725,45.6458, 44.9238,44.2063,43.4933,42.7862,42.0842 ,41.3862,40.692,40.0054,39.321,38.9834, 38.9603,38.9561,38.9428,38.9422,38.9426 ,39.6261,40.3145,41.0078,41.7071, 42.4099,43.1188,43.8312,44.5497,45.2725 ,45.9998,46.7319,47.4683,48.2824, 49.0281,49.7763,50.5132,51.6093,53.5918 ,54.2969,55.0051,55.6996,56.3963, 57.0887,57.7735,58.4605,59.1442,60.4936 ,61.1715,62.5116,63.8374,64.5227, 65.8495,66.525,67.1989,67.8738,68.5497, 69.226,69.903,70.5813,71.2602,71.9396, 72.6191,73.2986,73.9788,74.6578,75.3382 ,75.6837,75.5603)
FOOTPRINT_POINT_LONGITUDE = (347.534,342.134,342.081,341.647, 342.684,343.295,343.855,344.367,345.06, 345.475,346.042,346.385,346.703,346.998 ,347.274,347.771,348.206,348.58,348.912 ,349.066,349.211,349.474,349.595, 349.711,349.86,350.015,350.103,350.189, 350.269,350.467,350.561,350.617,350.671 ,350.72,350.769,350.827,350.862,350.893 ,350.92,350.945,350.966,350.984,350.999 ,351.013,351.023,351.032,351.035, 351.035,352.128,353.802,353.829,353.839 ,353.813,353.785,353.757,353.728, 353.697,353.665,353.631,353.596,353.56, 353.521,353.481,353.439,353.39,353.343, 353.294,353.244,353.164,353.006,352.944 ,352.879,352.813,352.743,352.669, 352.593,352.513,352.43,352.251,352.154, 351.946,351.714,351.59,351.313,351.162, 351.0,350.827,350.642,350.444,350.231, 350.002,349.755,349.487,349.197,348.882 ,348.539,348.163,347.751,347.525, 347.534)
ORBIT_NUMBER = 24326
ORBITAL_ECCENTRICITY = 0.569
ORBITAL_INCLINATION = 87.07
ORBITAL_SEMIMAJOR_AXIS = 8768.22
PERIAPSIS_ALTITUDE = 402.83
PERIAPSIS_ARGUMENT_ANGLE = 113.15
PERIAPSIS_TIME = 2023-04-06T19:29:02.000Z
SPACECRAFT_ORIENTATION = (0.0,-1.0,0.0)
^MEX_ORIENTATION_DESC = "MEX_ORIENTATION_DESC.TXT"
SPACECRAFT_POINTING_MODE = ACROSSTRACK
^MEX_POINTING_DESC = "MEX_POINTING_DESC.TXT"
RIGHT_ASCENSION = -1e+32
DECLINATION = -1e+32
OFFSET_ANGLE = -0.4
SPACECRAFT_SOLAR_DISTANCE = 2.4707e+08
TARGET_NAME = MARS
/* CAMERA DATA ELEMENTS */
DETECTOR_TEMPERATURE = 18.3705
FOCAL_PLANE_TEMPERATURE = 8.5833
INST_CMPRS_NAME = "DISCRETE COSINE TRANSFORMATION (DCT)"
INST_CMPRS_RATIO = 10.5826
INST_CMPRS_QUALITY = 0
INST_CMPRS_QUANTZ_TBL_ID = 0
INSTRUMENT_TEMPERATURE = 11.234
LENS_TEMPERATURE = 8.7872
MACROPIXEL_SIZE = 2
PIXEL_SUBSAMPLING_FLAG = N
SIGNAL_CHAIN_ID = 1
/* RADIOMETRIC DATA ELEMENTS */
BANDWIDTH = 178.0
CENTER_FILTER_WAVELENGTH = 679.0
RADIANCE_OFFSET = 3.22008
RADIANCE_SCALING_FACTOR = 0.0451257
REFLECTANCE_SCALING_FACTOR = 0.00145879
MEX:REFLECTANCE_OFFSET = 0.104096
/* IMAGE OBJECT DEFINITIONS */
OBJECT = IMAGE
  INTERCHANGE_FORMAT = BINARY
  LINES = 87231
  LINE_SAMPLES = 10580
  SAMPLE_TYPE = UNSIGNED_INTEGER
  SAMPLE_BITS = 8
  BANDS = 1
  BAND_STORAGE_TYPE = BAND_SEQUENTIAL
  MAXIMUM = 255
  MEAN = 70.8865
  MINIMUM = 1
  STANDARD_DEVIATION = 51.3126
END_OBJECT = IMAGE
/* MAP OBJECT DEFINITIONS */
OBJECT = IMAGE_MAP_PROJECTION
  ^DATA_SET_MAP_PROJECTION_CATALOG= "DSMAP.CAT"
  A_AXIS_RADIUS = 3396.0
  B_AXIS_RADIUS = 3396.0
  C_AXIS_RADIUS = 3396.0
  CENTER_LATITUDE = 0.0
  CENTER_LONGITUDE = 351.0
  COORDINATE_SYSTEM_NAME = PLANETOGRAPHIC
  COORDINATE_SYSTEM_TYPE = "BODY-FIXED ROTATING"
  EASTERNMOST_LONGITUDE = 353.839
  FIRST_STANDARD_PARALLEL = "N/A"
  LINE_FIRST_PIXEL = 1
  LINE_LAST_PIXEL = 87231
  LINE_PROJECTION_OFFSET = 179478.75
  MAP_PROJECTION_ROTATION = 0.0
  MAP_PROJECTION_TYPE = SINUSOIDAL
  MAP_RESOLUTION = 2370.85521546667
  MAP_SCALE = 0.025
  MAXIMUM_LATITUDE = 75.6837
  MINIMUM_LATITUDE = 38.9422
  POSITIVE_LONGITUDE_DIRECTION = EAST
  REFERENCE_LATITUDE = "N/A"
  REFERENCE_LONGITUDE = "N/A"
  SAMPLE_FIRST_PIXEL = 1
  SAMPLE_LAST_PIXEL = 10580
  SAMPLE_PROJECTION_OFFSET = 5587.25
  SECOND_STANDARD_PARALLEL = "N/A"
  WESTERNMOST_LONGITUDE = 341.647
END_OBJECT = IMAGE_MAP_PROJECTION
END
