PDS_VERSION_ID = PDS3
/* FILE DATA ELEMENTS */
RECORD_TYPE = UNDEFINED
/* POINTERS TO DATA OBJECTS */
^IMAGE = ("HO326_0000_P14.TIF")
/* IDENTIFICATION DATA ELEMENTS */
DATA_SET_ID = "MEX-M-HRSC-4-REFDR-MAPPROJECT-EXT9-V4.0"
DATA_SET_NAME = "MARS EXPRESS HRSC MAP PROJECTED REFDR EXTENSION9 V4.0"
DETECTOR_ID = MEX_HRSC_P1
EVENT_TYPE = "MARS-LOCAL-CARTOGRAPHY-Im-Gl-Pf"
INSTRUMENT_HOST_ID = MEX
INSTRUMENT_HOST_NAME = "MARS EXPRESS"
INSTRUMENT_ID = HRSC
INSTRUMENT_NAME = "HIGH RESOLUTION STEREO CAMERA"
MISSION_NAME = "MARS EXPRESS"
MISSION_PHASE_NAME = ME_Phase_47
PROCESSING_LEVEL_ID = 4
PRODUCT_CREATION_TIME = 2023-11-15T01:26:02.000Z
PRODUCT_ID = "HO326_0000_P14.TIF"
RELEASE_ID = 0003
REVISION_ID = 0000
/* QUALITY DATA ELEMENTS */
DATA_QUALITY_ID = 1
DATA_QUALITY_DESC = "Data calculated based on original SPICE kernels"
/* TIME DATA ELEMENTS */
SPACECRAFT_CLOCK_START_COUNT = "1/0628889123.25678"
SPACECRAFT_CLOCK_STOP_COUNT = "1/0628889678.63694"
START_TIME = 2023-04-06T19:26:13.427Z
STOP_TIME = 2023-04-06T19:35:56.499Z
/* ORBITAL DATA ELEMENTS */
ASCENDING_NODE_LONGITUDE = 121.73
MAXIMUM_RESOLUTION = 0.0333
FOOTPRINT_POINT_LATITUDE = (75.7861,75.4541,75.4501,75.3404,74.694 ,73.7239,73.0849,72.4428,71.7936, 71.1512,69.8822,68.6049,67.9633,67.3165 ,66.6719,66.0261,65.3807,64.4066, 63.4292,62.4509,61.471,60.4896,59.5072, 58.8517,57.8683,57.2032,56.194,55.5149, 54.8404,53.807,53.1161,52.0688,51.362, 50.6543,49.9312,49.2074,47.0924,46.3377 ,45.571,44.4058,43.6214,42.7649,41.5935 ,40.816,40.0405,39.2664,38.8792,38.8757 ,38.9189,38.9389,38.9392,38.9399, 39.7153,40.4928,41.2718,42.0537,42.8372 ,43.6961,44.4835,45.6522,46.4215,47.179 ,49.3014,50.0278,50.7541,51.4642, 52.1748,52.8782,53.5726,54.2674,54.9585 ,55.6357,56.3133,56.9905,57.9997, 58.9891,59.6485,60.3076,61.2956,61.9543 ,62.6122,63.2697,64.5753,65.5592, 66.2196,66.8708,67.5224,68.1771,68.8265 ,69.4751,70.1224,71.4109,72.0689, 72.7266,73.3827,74.0361,74.6982,75.3639 ,75.6961,75.7861)
FOOTPRINT_POINT_LONGITUDE = (347.468,341.894,341.84,341.662,342.353 ,343.277,343.82,344.323,344.781,345.216 ,345.967,346.621,346.916,347.194, 347.453,347.696,347.926,348.241,348.528 ,348.791,349.031,349.251,349.453, 349.578,349.752,349.864,350.02,350.11, 350.199,350.326,350.405,350.514,350.584 ,350.648,350.709,350.765,350.909, 350.953,350.993,351.048,351.081,351.112 ,351.149,351.171,351.189,351.204,351.21 ,351.21,352.543,353.627,353.651,353.659 ,353.636,353.611,353.585,353.557, 353.528,353.494,353.461,353.409,353.372 ,353.334,353.217,353.172,353.125, 353.078,353.027,352.975,352.921,352.864 ,352.804,352.743,352.678,352.61,352.503 ,352.389,352.308,352.224,352.088, 351.991,351.889,351.781,351.551,351.356 ,351.213,351.067,350.91,350.742,350.565 ,350.375,350.173,349.725,349.469, 349.193,348.894,348.571,348.214,347.82, 347.61,347.468)
ORBIT_NUMBER = 24326
ORBITAL_ECCENTRICITY = 0.569
ORBITAL_INCLINATION = 87.07
ORBITAL_SEMIMAJOR_AXIS = 8768.22
PERIAPSIS_ALTITUDE = 402.83
PERIAPSIS_ARGUMENT_ANGLE = 113.15
PERIAPSIS_TIME = 2023-04-06T19:29:02.000Z
SPACECRAFT_ORIENTATION = (0.0,-1.0,0.0)
^MEX_ORIENTATION_DESC = "MEX_ORIENTATION_DESC.TXT"
SPACECRAFT_POINTING_MODE = ACROSSTRACK
^MEX_POINTING_DESC = "MEX_POINTING_DESC.TXT"
RIGHT_ASCENSION = -1e+32
DECLINATION = -1e+32
OFFSET_ANGLE = -0.4
SPACECRAFT_SOLAR_DISTANCE = 2.4707e+08
TARGET_NAME = MARS
/* CAMERA DATA ELEMENTS */
DETECTOR_TEMPERATURE = 17.351
FOCAL_PLANE_TEMPERATURE = 8.5833
INST_CMPRS_NAME = "DISCRETE COSINE TRANSFORMATION (DCT)"
INST_CMPRS_RATIO = 9.35959
INST_CMPRS_QUALITY = 0
INST_CMPRS_QUANTZ_TBL_ID = 0
INSTRUMENT_TEMPERATURE = 11.234
LENS_TEMPERATURE = 8.7872
MACROPIXEL_SIZE = 2
PIXEL_SUBSAMPLING_FLAG = N
SIGNAL_CHAIN_ID = 3
/* RADIOMETRIC DATA ELEMENTS */
BANDWIDTH = 174.0
CENTER_FILTER_WAVELENGTH = 675.0
RADIANCE_OFFSET = 2.99097
RADIANCE_SCALING_FACTOR = 0.0375337
REFLECTANCE_SCALING_FACTOR = 0.00123239
MEX:REFLECTANCE_OFFSET = 0.0982057
/* IMAGE OBJECT DEFINITIONS */
OBJECT = IMAGE
  INTERCHANGE_FORMAT = BINARY
  LINES = 87231
  LINE_SAMPLES = 10580
  SAMPLE_TYPE = UNSIGNED_INTEGER
  SAMPLE_BITS = 8
  BANDS = 1
  BAND_STORAGE_TYPE = BAND_SEQUENTIAL
  MAXIMUM = 255
  MEAN = 77.1137
  MINIMUM = 1
  STANDARD_DEVIATION = 61.4648
END_OBJECT = IMAGE
/* MAP OBJECT DEFINITIONS */
OBJECT = IMAGE_MAP_PROJECTION
  ^DATA_SET_MAP_PROJECTION_CATALOG= "DSMAP.CAT"
  A_AXIS_RADIUS = 3396.0
  B_AXIS_RADIUS = 3396.0
  C_AXIS_RADIUS = 3396.0
  CENTER_LATITUDE = 0.0
  CENTER_LONGITUDE = 351.0
  COORDINATE_SYSTEM_NAME = PLANETOGRAPHIC
  COORDINATE_SYSTEM_TYPE = "BODY-FIXED ROTATING"
  EASTERNMOST_LONGITUDE = 353.659
  FIRST_STANDARD_PARALLEL = "N/A"
  LINE_FIRST_PIXEL = 1
  LINE_LAST_PIXEL = 87231
  LINE_PROJECTION_OFFSET = 179478.75
  MAP_PROJECTION_ROTATION = 0.0
  MAP_PROJECTION_TYPE = SINUSOIDAL
  MAP_RESOLUTION = 2370.85521546667
  MAP_SCALE = 0.025
  MAXIMUM_LATITUDE = 75.7861
  MINIMUM_LATITUDE = 38.8757
  POSITIVE_LONGITUDE_DIRECTION = EAST
  REFERENCE_LATITUDE = "N/A"
  REFERENCE_LONGITUDE = "N/A"
  SAMPLE_FIRST_PIXEL = 1
  SAMPLE_LAST_PIXEL = 10580
  SAMPLE_PROJECTION_OFFSET = 5587.25
  SECOND_STANDARD_PARALLEL = "N/A"
  WESTERNMOST_LONGITUDE = 341.662
END_OBJECT = IMAGE_MAP_PROJECTION
END
