PDS_VERSION_ID = PDS3
/* FILE DATA ELEMENTS */
RECORD_TYPE = UNDEFINED
/* POINTERS TO DATA OBJECTS */
^IMAGE = ("HO323_0000_ND4.TIF")
/* IDENTIFICATION DATA ELEMENTS */
DATA_SET_ID = "MEX-M-HRSC-4-REFDR-MAPPROJECT-EXT9-V4.0"
DATA_SET_NAME = "MARS EXPRESS HRSC MAP PROJECTED REFDR EXTENSION9 V4.0"
DETECTOR_ID = MEX_HRSC_NADIR
EVENT_TYPE = "MARS-REGIONAL-STEREO-Te-Gl"
INSTRUMENT_HOST_ID = MEX
INSTRUMENT_HOST_NAME = "MARS EXPRESS"
INSTRUMENT_ID = HRSC
INSTRUMENT_NAME = "HIGH RESOLUTION STEREO CAMERA"
MISSION_NAME = "MARS EXPRESS"
MISSION_PHASE_NAME = ME_Phase_47
PROCESSING_LEVEL_ID = 4
PRODUCT_CREATION_TIME = 2023-11-15T01:26:02.000Z
PRODUCT_ID = "HO323_0000_ND4.TIF"
RELEASE_ID = 0003
REVISION_ID = 0000
/* QUALITY DATA ELEMENTS */
DATA_QUALITY_ID = 1
DATA_QUALITY_DESC = "Data calculated based on original SPICE kernels"
/* TIME DATA ELEMENTS */
SPACECRAFT_CLOCK_START_COUNT = "1/0628813963.25672"
SPACECRAFT_CLOCK_STOP_COUNT = "1/0628814330.01025"
START_TIME = 2023-04-05T22:33:56.882Z
STOP_TIME = 2023-04-05T22:38:27.861Z
/* ORBITAL DATA ELEMENTS */
ASCENDING_NODE_LONGITUDE = 121.79
MAXIMUM_RESOLUTION = 0.0166
FOOTPRINT_POINT_LATITUDE = (58.5746,58.5585,58.5384,58.5131, 58.5122,58.5134,58.049,57.4303,56.8123, 56.195,55.5645,55.2485,54.6171,53.9866, 53.6671,53.3445,53.0221,52.7,52.3783, 52.0569,51.7297,51.4008,51.0723,50.7442 ,50.4165,49.9153,49.5805,49.2461, 48.9121,48.5715,48.2305,47.8899,47.3762 ,47.029,46.6822,46.336,45.983,45.63, 45.2776,44.9202,44.5612,44.2028,43.8396 ,43.4747,43.1105,42.7401,41.9974, 41.8089,41.8033,41.8131,41.8167,41.8175 ,41.816,41.8158,41.8161,42.1929,42.75, 43.1217,43.4869,43.8529,44.2172,44.5767 ,44.9367,45.2952,45.6487,46.0026, 46.3568,46.704,47.0517,47.3999,47.9152, 48.2568,48.5988,48.9405,49.2754,49.6107 ,49.9465,50.4492,50.778,51.1071,51.4365 ,51.7663,52.0947,52.4171,52.7399, 53.0629,53.3863,53.71,54.0305,54.3467, 54.6631,54.9797,55.2966,55.6137,56.2464 ,56.8659,57.4862,58.4181,58.5735, 58.5746)
FOOTPRINT_POINT_LONGITUDE = (300.975,300.0,299.149,298.312,298.286, 298.275,298.325,298.389,298.448,298.503 ,298.556,298.581,298.629,298.673, 298.695,298.715,298.735,298.755,298.773 ,298.791,298.808,298.824,298.84,298.855 ,298.87,298.891,298.904,298.917,298.929 ,298.94,298.951,298.961,298.975,298.984 ,298.993,299.0,299.008,299.014,299.02, 299.026,299.031,299.036,299.04,299.043, 299.046,299.049,299.053,299.053,299.053 ,299.849,300.41,301.025,301.498,301.523 ,301.535,301.531,301.524,301.521, 301.516,301.51,301.506,301.501,301.496, 301.492,301.487,301.479,301.473,301.467 ,301.461,301.455,301.446,301.44,301.433 ,301.426,301.419,301.412,301.404, 301.393,301.385,301.377,301.37,301.36, 301.352,301.344,301.336,301.326,301.316 ,301.306,301.295,301.285,301.274, 301.263,301.252,301.24,301.215,301.19, 301.163,301.12,301.112,300.975)
ORBIT_NUMBER = 24323
ORBITAL_ECCENTRICITY = 0.569
ORBITAL_INCLINATION = 87.07
ORBITAL_SEMIMAJOR_AXIS = 8768.76
PERIAPSIS_ALTITUDE = 402.55
PERIAPSIS_ARGUMENT_ANGLE = 113.7
PERIAPSIS_TIME = 2023-04-05T22:31:56.000Z
SPACECRAFT_ORIENTATION = (0.0,-1.0,0.0)
^MEX_ORIENTATION_DESC = "MEX_ORIENTATION_DESC.TXT"
SPACECRAFT_POINTING_MODE = ACROSSTRACK
^MEX_POINTING_DESC = "MEX_POINTING_DESC.TXT"
RIGHT_ASCENSION = -1e+32
DECLINATION = -1e+32
OFFSET_ANGLE = 0.7
SPACECRAFT_SOLAR_DISTANCE = 2.47001e+08
TARGET_NAME = MARS
/* CAMERA DATA ELEMENTS */
DETECTOR_TEMPERATURE = 18.5744
FOCAL_PLANE_TEMPERATURE = 9.6028
INST_CMPRS_NAME = "DISCRETE COSINE TRANSFORMATION (DCT)"
INST_CMPRS_RATIO = 7.08869
INST_CMPRS_QUALITY = 0
INST_CMPRS_QUANTZ_TBL_ID = 0
INSTRUMENT_TEMPERATURE = 11.4379
LENS_TEMPERATURE = 10.0106
MACROPIXEL_SIZE = 1
MISSING_FRAMES = 0
PIXEL_SUBSAMPLING_FLAG = N
SIGNAL_CHAIN_ID = 0
/* RADIOMETRIC DATA ELEMENTS */
BANDWIDTH = 177.0
CENTER_FILTER_WAVELENGTH = 677.5
RADIANCE_OFFSET = 2.66407
RADIANCE_SCALING_FACTOR = 0.0243771
REFLECTANCE_SCALING_FACTOR = 0.000790069
MEX:REFLECTANCE_OFFSET = 0.0863433
/* IMAGE OBJECT DEFINITIONS */
OBJECT = IMAGE
  INTERCHANGE_FORMAT = BINARY
  LINES = 79541
  LINE_SAMPLES = 9698
  SAMPLE_TYPE = UNSIGNED_INTEGER
  SAMPLE_BITS = 8
  BANDS = 1
  BAND_STORAGE_TYPE = BAND_SEQUENTIAL
  MAXIMUM = 255
  MEAN = 116.367
  MINIMUM = 1
  STANDARD_DEVIATION = 49.4801
END_OBJECT = IMAGE
/* MAP OBJECT DEFINITIONS */
OBJECT = IMAGE_MAP_PROJECTION
  ^DATA_SET_MAP_PROJECTION_CATALOG= "DSMAP.CAT"
  A_AXIS_RADIUS = 3396.0
  B_AXIS_RADIUS = 3396.0
  C_AXIS_RADIUS = 3396.0
  CENTER_LATITUDE = 0.0
  CENTER_LONGITUDE = 300.0
  COORDINATE_SYSTEM_NAME = PLANETOGRAPHIC
  COORDINATE_SYSTEM_TYPE = "BODY-FIXED ROTATING"
  EASTERNMOST_LONGITUDE = 301.535
  FIRST_STANDARD_PARALLEL = "N/A"
  LINE_FIRST_PIXEL = 1
  LINE_LAST_PIXEL = 79541
  LINE_PROJECTION_OFFSET = 277760.0
  MAP_PROJECTION_ROTATION = 0.0
  MAP_PROJECTION_TYPE = SINUSOIDAL
  MAP_RESOLUTION = 4741.71043093333
  MAP_SCALE = 0.0125
  MAXIMUM_LATITUDE = 58.5746
  MINIMUM_LATITUDE = 41.8033
  POSITIVE_LONGITUDE_DIRECTION = EAST
  REFERENCE_LATITUDE = "N/A"
  REFERENCE_LONGITUDE = "N/A"
  SAMPLE_FIRST_PIXEL = 1
  SAMPLE_LAST_PIXEL = 9698
  SAMPLE_PROJECTION_OFFSET = 4272.0
  SECOND_STANDARD_PARALLEL = "N/A"
  WESTERNMOST_LONGITUDE = 298.275
END_OBJECT = IMAGE_MAP_PROJECTION
END
