PDS_VERSION_ID = PDS3
/* FILE DATA ELEMENTS */
RECORD_TYPE = UNDEFINED
/* POINTERS TO DATA OBJECTS */
^IMAGE = ("HO322_0000_BL4.TIF")
/* IDENTIFICATION DATA ELEMENTS */
DATA_SET_ID = "MEX-M-HRSC-4-REFDR-MAPPROJECT-EXT9-V4.0"
DATA_SET_NAME = "MARS EXPRESS HRSC MAP PROJECTED REFDR EXTENSION9 V4.0"
DETECTOR_ID = MEX_HRSC_BLUE
EVENT_TYPE = "MARS-REGIONAL-MAPPING-Te-Gl-Pf"
INSTRUMENT_HOST_ID = MEX
INSTRUMENT_HOST_NAME = "MARS EXPRESS"
INSTRUMENT_ID = HRSC
INSTRUMENT_NAME = "HIGH RESOLUTION STEREO CAMERA"
MISSION_NAME = "MARS EXPRESS"
MISSION_PHASE_NAME = ME_Phase_47
PROCESSING_LEVEL_ID = 4
PRODUCT_CREATION_TIME = 2023-11-15T01:26:02.000Z
PRODUCT_ID = "HO322_0000_BL4.TIF"
RELEASE_ID = 0003
REVISION_ID = 0000
/* QUALITY DATA ELEMENTS */
DATA_QUALITY_ID = 1
DATA_QUALITY_DESC = "Data calculated based on original SPICE kernels"
/* TIME DATA ELEMENTS */
SPACECRAFT_CLOCK_START_COUNT = "1/0628788573.24899"
SPACECRAFT_CLOCK_STOP_COUNT = "1/0628789022.25282"
START_TIME = 2023-04-05T15:30:55.507Z
STOP_TIME = 2023-04-05T15:36:59.117Z
/* ORBITAL DATA ELEMENTS */
ASCENDING_NODE_LONGITUDE = 121.79
MAXIMUM_RESOLUTION = 0.0648
FOOTPRINT_POINT_LATITUDE = (73.6322,73.5046,73.4144,73.4118, 73.4268,72.7478,72.3057,71.8627,71.4191 ,70.9749,70.5302,69.8621,69.4161, 68.9697,68.2996,67.6287,67.1812,66.5094 ,66.0615,65.6134,65.1653,64.7171, 64.2688,63.8206,63.3724,62.9243,62.4763 ,62.0283,61.133,60.2386,59.345,58.4528, 57.9956,57.5384,57.0816,56.6252,56.1694 ,55.714,55.0155,54.5496,54.0842,53.6194 ,53.1457,52.6703,52.196,51.4788,50.9946 ,50.7527,50.6646,50.6903,50.7238, 50.7242,50.7254,51.2108,51.938,52.4135, 52.8901,53.3672,54.0725,54.5396,55.0073 ,55.4757,55.9393,56.3968,56.8549, 57.3134,57.7724,58.232,58.6876,59.5845, 60.4829,61.1576,61.6075,62.0581,62.5088 ,62.9597,63.4108,63.862,64.3135,64.765, 65.2167,65.6684,66.1201,66.5721,67.0239 ,67.4759,67.9278,68.3795,68.8313, 69.5087,69.9602,70.4114,71.0879,71.5386 ,71.9888,72.4391,72.8888,73.3474, 73.5781,73.6322)
FOOTPRINT_POINT_LONGITUDE = (38.655,35.5981,33.9113,33.8672,33.7007 ,34.187,34.4806,34.7588,35.0226,35.2724 ,35.5096,35.8433,36.0521,36.2509,36.531 ,36.7917,36.9557,37.1876,37.3331, 37.4722,37.605,37.7321,37.8538,37.97, 38.0812,38.1877,38.2897,38.3874,38.5703 ,38.7382,38.8924,39.0341,39.1021, 39.1672,39.2295,39.2892,39.346,39.4007, 39.4799,39.5298,39.5775,39.6233,39.6672 ,39.7099,39.7497,39.8072,39.8432,39.861 ,39.8673,40.702,42.3297,42.3529,42.3607 ,42.3349,42.2947,42.2666,42.238,42.2081 ,42.1621,42.1306,42.0977,42.0638, 42.0289,41.9933,41.9565,41.9182,41.8785 ,41.8376,41.7955,41.7079,41.6137, 41.5383,41.485,41.4308,41.374,41.315, 41.2535,41.1894,41.1229,41.0536,40.9811 ,40.9058,40.8267,40.7451,40.6592,40.57, 40.4765,40.3785,40.2763,40.1132,39.998, 39.8768,39.6835,39.5461,39.4006,39.2487 ,39.0873,38.9135,38.8221,38.655)
ORBIT_NUMBER = 24322
ORBITAL_ECCENTRICITY = 0.569
ORBITAL_INCLINATION = 87.07
ORBITAL_SEMIMAJOR_AXIS = 8772.02
PERIAPSIS_ALTITUDE = 402.47
PERIAPSIS_ARGUMENT_ANGLE = 113.86
PERIAPSIS_TIME = 2023-04-05T15:32:49.000Z
SPACECRAFT_ORIENTATION = (0.0,-1.0,0.0)
^MEX_ORIENTATION_DESC = "MEX_ORIENTATION_DESC.TXT"
SPACECRAFT_POINTING_MODE = NADIR
^MEX_POINTING_DESC = "MEX_POINTING_DESC.TXT"
RIGHT_ASCENSION = -1e+32
DECLINATION = -1e+32
OFFSET_ANGLE = -1e+32
SPACECRAFT_SOLAR_DISTANCE = 2.46978e+08
TARGET_NAME = MARS
/* CAMERA DATA ELEMENTS */
DETECTOR_TEMPERATURE = 18.7783
FOCAL_PLANE_TEMPERATURE = 8.9911
INST_CMPRS_NAME = "DISCRETE COSINE TRANSFORMATION (DCT)"
INST_CMPRS_RATIO = 7.10101
INST_CMPRS_QUALITY = 0
INST_CMPRS_QUANTZ_TBL_ID = 0
INSTRUMENT_TEMPERATURE = 11.8457
LENS_TEMPERATURE = 9.3989
MACROPIXEL_SIZE = 4
MISSING_FRAMES = 0
PIXEL_SUBSAMPLING_FLAG = N
SIGNAL_CHAIN_ID = 2
/* RADIOMETRIC DATA ELEMENTS */
BANDWIDTH = 76.0
CENTER_FILTER_WAVELENGTH = 444.0
RADIANCE_OFFSET = 0.516841
RADIANCE_SCALING_FACTOR = 0.0032075
REFLECTANCE_SCALING_FACTOR = 0.000201019
MEX:REFLECTANCE_OFFSET = 0.0323912
/* IMAGE OBJECT DEFINITIONS */
OBJECT = IMAGE
  INTERCHANGE_FORMAT = BINARY
  LINES = 27270
  LINE_SAMPLES = 3909
  SAMPLE_TYPE = UNSIGNED_INTEGER
  SAMPLE_BITS = 8
  BANDS = 1
  BAND_STORAGE_TYPE = BAND_SEQUENTIAL
  MAXIMUM = 255
  MEAN = 106.018
  MINIMUM = 1
  STANDARD_DEVIATION = 95.7886
END_OBJECT = IMAGE
/* MAP OBJECT DEFINITIONS */
OBJECT = IMAGE_MAP_PROJECTION
  ^DATA_SET_MAP_PROJECTION_CATALOG= "DSMAP.CAT"
  A_AXIS_RADIUS = 3396.0
  B_AXIS_RADIUS = 3396.0
  C_AXIS_RADIUS = 3396.0
  CENTER_LATITUDE = 0.0
  CENTER_LONGITUDE = 40.0
  COORDINATE_SYSTEM_NAME = PLANETOGRAPHIC
  COORDINATE_SYSTEM_TYPE = "BODY-FIXED ROTATING"
  EASTERNMOST_LONGITUDE = 42.3607
  FIRST_STANDARD_PARALLEL = "N/A"
  LINE_FIRST_PIXEL = 1
  LINE_LAST_PIXEL = 27270
  LINE_PROJECTION_OFFSET = 87328.875
  MAP_PROJECTION_ROTATION = 0.0
  MAP_PROJECTION_TYPE = SINUSOIDAL
  MAP_RESOLUTION = 1185.42760773333
  MAP_SCALE = 0.05
  MAXIMUM_LATITUDE = 73.6322
  MINIMUM_LATITUDE = 50.6646
  POSITIVE_LONGITUDE_DIRECTION = EAST
  REFERENCE_LATITUDE = "N/A"
  REFERENCE_LONGITUDE = "N/A"
  SAMPLE_FIRST_PIXEL = 1
  SAMPLE_LAST_PIXEL = 3909
  SAMPLE_PROJECTION_OFFSET = 2144.125
  SECOND_STANDARD_PARALLEL = "N/A"
  WESTERNMOST_LONGITUDE = 33.7007
END_OBJECT = IMAGE_MAP_PROJECTION
END
