PDS_VERSION_ID = PDS3
/* FILE DATA ELEMENTS */
RECORD_TYPE = UNDEFINED
/* POINTERS TO DATA OBJECTS */
^IMAGE = ("HO320_0009_RE4.TIF")
/* IDENTIFICATION DATA ELEMENTS */
DATA_SET_ID = "MEX-M-HRSC-4-REFDR-MAPPROJECT-EXT9-V4.0"
DATA_SET_NAME = "MARS EXPRESS HRSC MAP PROJECTED REFDR EXTENSION9 V4.0"
DETECTOR_ID = MEX_HRSC_RED
EVENT_TYPE = "MARS-REGIONAL-MAPPING-Vo-Gl-Pf"
INSTRUMENT_HOST_ID = MEX
INSTRUMENT_HOST_NAME = "MARS EXPRESS"
INSTRUMENT_ID = HRSC
INSTRUMENT_NAME = "HIGH RESOLUTION STEREO CAMERA"
MISSION_NAME = "MARS EXPRESS"
MISSION_PHASE_NAME = ME_Phase_47
PROCESSING_LEVEL_ID = 4
PRODUCT_CREATION_TIME = 2023-11-15T01:26:02.000Z
PRODUCT_ID = "HO320_0009_RE4.TIF"
RELEASE_ID = 0003
REVISION_ID = 0000
/* QUALITY DATA ELEMENTS */
DATA_QUALITY_ID = 1
DATA_QUALITY_DESC = "Data calculated based on original SPICE kernels"
/* TIME DATA ELEMENTS */
SPACECRAFT_CLOCK_START_COUNT = "1/0628738287.25671"
SPACECRAFT_CLOCK_STOP_COUNT = "1/0628738607.55805"
START_TIME = 2023-04-05T01:33:14.156Z
STOP_TIME = 2023-04-05T01:37:14.854Z
/* ORBITAL DATA ELEMENTS */
ASCENDING_NODE_LONGITUDE = 121.84
MAXIMUM_RESOLUTION = 0.0678
FOOTPRINT_POINT_LATITUDE = (73.1478,73.1043,73.0349,72.9426, 72.9402,73.046,72.4422,72.1399,71.6861, 71.2322,70.9292,70.6262,70.3235,70.0208 ,69.7177,69.415,69.1117,68.8093,68.5061 ,68.203,67.7484,67.4457,67.1432,66.6892 ,66.2355,65.9333,65.4801,65.0271, 64.7254,64.4239,63.9719,63.6708,63.3697 ,63.069,62.7685,62.4681,62.1681,61.8683 ,61.5687,61.2695,60.8211,60.3732, 60.0749,59.4791,59.0229,58.718,58.4134, 58.1092,57.9573,57.9513,57.9941,58.0111 ,58.0363,58.0369,58.038,58.3434,58.6493 ,58.9557,59.2623,59.5677,59.8668, 60.1665,60.4664,60.9171,61.2176,61.5185 ,61.9703,62.4265,62.876,63.1784,63.6327 ,63.9357,64.3909,64.6945,64.9985, 65.4548,65.9117,66.2163,66.5213,66.8263 ,67.1316,67.4371,67.7424,68.0481, 68.3544,68.6606,68.9673,69.2736,69.5801 ,70.0398,70.5002,70.9604,71.2672, 71.5743,72.0349,72.3418,72.6493,73.1102 ,73.2633,73.1478)
FOOTPRINT_POINT_LONGITUDE = (243.151,241.971,240.365,238.556, 238.513,238.286,238.696,238.89,239.168, 239.431,239.598,239.76,239.915,240.065, 240.21,240.349,240.485,240.615,240.741, 240.864,241.04,241.152,241.261,241.418, 241.568,241.663,241.801,241.933,242.018 ,242.1,242.218,242.294,242.368,242.439, 242.509,242.576,242.641,242.705,242.766 ,242.826,242.913,242.995,243.049, 243.151,243.225,243.273,243.319,243.364 ,243.386,243.387,244.581,245.153, 246.143,246.169,246.177,246.149,246.121 ,246.091,246.061,246.031,246.0,245.968, 245.936,245.886,245.851,245.816,245.761 ,245.706,245.644,245.603,245.54,245.496 ,245.428,245.381,245.333,245.257, 245.179,245.125,245.069,245.012,244.952 ,244.891,244.828,244.763,244.696, 244.627,244.556,244.483,244.406,244.287 ,244.162,244.03,243.938,243.843,243.694 ,243.589,243.481,243.311,243.251, 243.151)
ORBIT_NUMBER = 24320
ORBITAL_ECCENTRICITY = 0.569
ORBITAL_INCLINATION = 87.07
ORBITAL_SEMIMAJOR_AXIS = 8769.46
PERIAPSIS_ALTITUDE = 401.5
PERIAPSIS_ARGUMENT_ANGLE = 114.17
PERIAPSIS_TIME = 2023-04-05T01:34:41.000Z
SPACECRAFT_ORIENTATION = (0.0,-1.0,0.0)
^MEX_ORIENTATION_DESC = "MEX_ORIENTATION_DESC.TXT"
SPACECRAFT_POINTING_MODE = NADIR
^MEX_POINTING_DESC = "MEX_POINTING_DESC.TXT"
RIGHT_ASCENSION = -1e+32
DECLINATION = -1e+32
OFFSET_ANGLE = -1e+32
SPACECRAFT_SOLAR_DISTANCE = 2.46931e+08
TARGET_NAME = MARS
/* CAMERA DATA ELEMENTS */
DETECTOR_TEMPERATURE = 19.1861
FOCAL_PLANE_TEMPERATURE = 9.3989
INST_CMPRS_NAME = "DISCRETE COSINE TRANSFORMATION (DCT)"
INST_CMPRS_RATIO = 15.8451
INST_CMPRS_QUALITY = 0
INST_CMPRS_QUANTZ_TBL_ID = 0
INSTRUMENT_TEMPERATURE = 12.4574
LENS_TEMPERATURE = 9.3989
MACROPIXEL_SIZE = 4
MISSING_FRAMES = 0
PIXEL_SUBSAMPLING_FLAG = N
SIGNAL_CHAIN_ID = 2
/* RADIOMETRIC DATA ELEMENTS */
BANDWIDTH = 48.0
CENTER_FILTER_WAVELENGTH = 748.0
RADIANCE_OFFSET = 0.98547
RADIANCE_SCALING_FACTOR = 0.00772918
REFLECTANCE_SCALING_FACTOR = 0.0010755
MEX:REFLECTANCE_OFFSET = 0.137126
/* IMAGE OBJECT DEFINITIONS */
OBJECT = IMAGE
  INTERCHANGE_FORMAT = BINARY
  LINES = 18165
  LINE_SAMPLES = 3614
  SAMPLE_TYPE = UNSIGNED_INTEGER
  SAMPLE_BITS = 8
  BANDS = 1
  BAND_STORAGE_TYPE = BAND_SEQUENTIAL
  MAXIMUM = 255
  MEAN = 109.709
  MINIMUM = 1
  STANDARD_DEVIATION = 49.5797
END_OBJECT = IMAGE
/* MAP OBJECT DEFINITIONS */
OBJECT = IMAGE_MAP_PROJECTION
  ^DATA_SET_MAP_PROJECTION_CATALOG= "DSMAP.CAT"
  A_AXIS_RADIUS = 3396.0
  B_AXIS_RADIUS = 3396.0
  C_AXIS_RADIUS = 3396.0
  CENTER_LATITUDE = 0.0
  CENTER_LONGITUDE = 243.0
  COORDINATE_SYSTEM_NAME = PLANETOGRAPHIC
  COORDINATE_SYSTEM_TYPE = "BODY-FIXED ROTATING"
  EASTERNMOST_LONGITUDE = 246.177
  FIRST_STANDARD_PARALLEL = "N/A"
  LINE_FIRST_PIXEL = 1
  LINE_LAST_PIXEL = 18165
  LINE_PROJECTION_OFFSET = 86846.875
  MAP_PROJECTION_ROTATION = 0.0
  MAP_PROJECTION_TYPE = SINUSOIDAL
  MAP_RESOLUTION = 1185.42760773333
  MAP_SCALE = 0.05
  MAXIMUM_LATITUDE = 73.2633
  MINIMUM_LATITUDE = 57.9513
  POSITIVE_LONGITUDE_DIRECTION = EAST
  REFERENCE_LATITUDE = "N/A"
  REFERENCE_LONGITUDE = "N/A"
  SAMPLE_FIRST_PIXEL = 1
  SAMPLE_LAST_PIXEL = 3614
  SAMPLE_PROJECTION_OFFSET = 1641.625
  SECOND_STANDARD_PARALLEL = "N/A"
  WESTERNMOST_LONGITUDE = 238.286
END_OBJECT = IMAGE_MAP_PROJECTION
END
