PDS_VERSION_ID = PDS3
/* FILE DATA ELEMENTS */
RECORD_TYPE = UNDEFINED
/* POINTERS TO DATA OBJECTS */
^IMAGE = ("HO320_0009_BL4.TIF")
/* IDENTIFICATION DATA ELEMENTS */
DATA_SET_ID = "MEX-M-HRSC-4-REFDR-MAPPROJECT-EXT9-V4.0"
DATA_SET_NAME = "MARS EXPRESS HRSC MAP PROJECTED REFDR EXTENSION9 V4.0"
DETECTOR_ID = MEX_HRSC_BLUE
EVENT_TYPE = "MARS-REGIONAL-MAPPING-Vo-Gl-Pf"
INSTRUMENT_HOST_ID = MEX
INSTRUMENT_HOST_NAME = "MARS EXPRESS"
INSTRUMENT_ID = HRSC
INSTRUMENT_NAME = "HIGH RESOLUTION STEREO CAMERA"
MISSION_NAME = "MARS EXPRESS"
MISSION_PHASE_NAME = ME_Phase_47
PROCESSING_LEVEL_ID = 4
PRODUCT_CREATION_TIME = 2023-11-15T01:26:02.000Z
PRODUCT_ID = "HO320_0009_BL4.TIF"
RELEASE_ID = 0003
REVISION_ID = 0000
/* QUALITY DATA ELEMENTS */
DATA_QUALITY_ID = 1
DATA_QUALITY_DESC = "Data calculated based on original SPICE kernels"
/* TIME DATA ELEMENTS */
SPACECRAFT_CLOCK_START_COUNT = "1/0628738287.25671"
SPACECRAFT_CLOCK_STOP_COUNT = "1/0628738607.55805"
START_TIME = 2023-04-05T01:32:49.030Z
STOP_TIME = 2023-04-05T01:36:49.100Z
/* ORBITAL DATA ELEMENTS */
ASCENDING_NODE_LONGITUDE = 121.84
MAXIMUM_RESOLUTION = 0.0647
FOOTPRINT_POINT_LATITUDE = (73.2387,73.1858,73.1152,73.0278, 73.0253,73.0408,72.7351,72.4364,71.9877 ,71.6882,71.3883,71.0882,70.7878, 70.4872,70.1864,69.7346,69.4333,69.1316 ,68.83,68.377,68.0748,67.7725,67.4701, 67.1676,66.865,66.5623,66.1081,65.8053, 65.5024,65.1994,64.8964,64.5934,64.2904 ,63.9873,63.6843,63.3813,63.0783, 62.7754,62.4724,62.1696,61.8667,61.564, 61.2613,60.9588,60.6563,60.0516,59.4473 ,58.8436,58.2404,58.0897,57.941,57.9795 ,58.0003,58.0284,58.0289,58.0301, 58.6358,59.2424,59.5459,59.8495,60.1533 ,60.4573,60.7614,61.0656,61.3699, 61.6743,61.9789,62.2835,62.7407,63.1982 ,63.6558,63.9609,64.2661,64.5714, 64.8767,65.1821,65.4875,65.9456,66.2511 ,66.5565,67.0147,67.4728,67.7783, 68.2363,68.5417,68.8471,69.1523,69.4575 ,69.7626,70.0676,70.525,70.8298,71.1345 ,71.439,71.8956,72.1999,72.5039,72.9599 ,73.1153,73.2387)
FOOTPRINT_POINT_LONGITUDE = (243.122,241.714,240.141,238.495, 238.452,238.287,238.5,238.7,238.987, 239.17,239.346,239.517,239.681,239.839, 239.991,240.211,240.351,240.488,240.618 ,240.808,240.929,241.046,241.159, 241.269,241.375,241.478,241.627,241.722 ,241.815,241.904,241.991,242.076, 242.158,242.237,242.314,242.389,242.462 ,242.532,242.601,242.668,242.732, 242.795,242.856,242.915,242.973,243.083 ,243.187,243.286,243.379,243.401, 243.423,244.41,245.044,246.112,246.138, 246.146,246.091,246.034,246.004,245.973 ,245.942,245.91,245.877,245.843,245.808 ,245.772,245.735,245.697,245.639, 245.578,245.515,245.472,245.427,245.381 ,245.333,245.285,245.235,245.157, 245.103,245.048,244.961,244.871,244.809 ,244.711,244.644,244.575,244.504,244.43 ,244.353,244.274,244.151,244.065, 243.976,243.884,243.739,243.639,243.535 ,243.372,243.314,243.122)
ORBIT_NUMBER = 24320
ORBITAL_ECCENTRICITY = 0.569
ORBITAL_INCLINATION = 87.07
ORBITAL_SEMIMAJOR_AXIS = 8769.46
PERIAPSIS_ALTITUDE = 401.5
PERIAPSIS_ARGUMENT_ANGLE = 114.17
PERIAPSIS_TIME = 2023-04-05T01:34:41.000Z
SPACECRAFT_ORIENTATION = (0.0,-1.0,0.0)
^MEX_ORIENTATION_DESC = "MEX_ORIENTATION_DESC.TXT"
SPACECRAFT_POINTING_MODE = NADIR
^MEX_POINTING_DESC = "MEX_POINTING_DESC.TXT"
RIGHT_ASCENSION = -1e+32
DECLINATION = -1e+32
OFFSET_ANGLE = -1e+32
SPACECRAFT_SOLAR_DISTANCE = 2.46931e+08
TARGET_NAME = MARS
/* CAMERA DATA ELEMENTS */
DETECTOR_TEMPERATURE = 18.5744
FOCAL_PLANE_TEMPERATURE = 9.3989
INST_CMPRS_NAME = "DISCRETE COSINE TRANSFORMATION (DCT)"
INST_CMPRS_RATIO = 6.55413
INST_CMPRS_QUALITY = 0
INST_CMPRS_QUANTZ_TBL_ID = 0
INSTRUMENT_TEMPERATURE = 12.4574
LENS_TEMPERATURE = 9.3989
MACROPIXEL_SIZE = 4
MISSING_FRAMES = 0
PIXEL_SUBSAMPLING_FLAG = N
SIGNAL_CHAIN_ID = 2
/* RADIOMETRIC DATA ELEMENTS */
BANDWIDTH = 76.0
CENTER_FILTER_WAVELENGTH = 444.0
RADIANCE_OFFSET = 0.514327
RADIANCE_SCALING_FACTOR = 0.00320592
REFLECTANCE_SCALING_FACTOR = 0.000200844
MEX:REFLECTANCE_OFFSET = 0.0322215
/* IMAGE OBJECT DEFINITIONS */
OBJECT = IMAGE
  INTERCHANGE_FORMAT = BINARY
  LINES = 18165
  LINE_SAMPLES = 3614
  SAMPLE_TYPE = UNSIGNED_INTEGER
  SAMPLE_BITS = 8
  BANDS = 1
  BAND_STORAGE_TYPE = BAND_SEQUENTIAL
  MAXIMUM = 255
  MEAN = 111.576
  MINIMUM = 1
  STANDARD_DEVIATION = 94.8496
END_OBJECT = IMAGE
/* MAP OBJECT DEFINITIONS */
OBJECT = IMAGE_MAP_PROJECTION
  ^DATA_SET_MAP_PROJECTION_CATALOG= "DSMAP.CAT"
  A_AXIS_RADIUS = 3396.0
  B_AXIS_RADIUS = 3396.0
  C_AXIS_RADIUS = 3396.0
  CENTER_LATITUDE = 0.0
  CENTER_LONGITUDE = 243.0
  COORDINATE_SYSTEM_NAME = PLANETOGRAPHIC
  COORDINATE_SYSTEM_TYPE = "BODY-FIXED ROTATING"
  EASTERNMOST_LONGITUDE = 246.146
  FIRST_STANDARD_PARALLEL = "N/A"
  LINE_FIRST_PIXEL = 1
  LINE_LAST_PIXEL = 18165
  LINE_PROJECTION_OFFSET = 86846.875
  MAP_PROJECTION_ROTATION = 0.0
  MAP_PROJECTION_TYPE = SINUSOIDAL
  MAP_RESOLUTION = 1185.42760773333
  MAP_SCALE = 0.05
  MAXIMUM_LATITUDE = 73.23869999999999
  MINIMUM_LATITUDE = 57.941
  POSITIVE_LONGITUDE_DIRECTION = EAST
  REFERENCE_LATITUDE = "N/A"
  REFERENCE_LONGITUDE = "N/A"
  SAMPLE_FIRST_PIXEL = 1
  SAMPLE_LAST_PIXEL = 3614
  SAMPLE_PROJECTION_OFFSET = 1641.625
  SECOND_STANDARD_PARALLEL = "N/A"
  WESTERNMOST_LONGITUDE = 238.287
END_OBJECT = IMAGE_MAP_PROJECTION
END
