PDS_VERSION_ID = PDS3
/* FILE DATA ELEMENTS */
RECORD_TYPE = UNDEFINED
/* POINTERS TO DATA OBJECTS */
^IMAGE = ("HO318_0000_S14.TIF")
/* IDENTIFICATION DATA ELEMENTS */
DATA_SET_ID = "MEX-M-HRSC-4-REFDR-MAPPROJECT-EXT9-V4.0"
DATA_SET_NAME = "MARS EXPRESS HRSC MAP PROJECTED REFDR EXTENSION9 V4.0"
DETECTOR_ID = MEX_HRSC_S1
EVENT_TYPE = "MARS-LOCAL-CARTOGRAPHY-Te-Gl-Pf"
INSTRUMENT_HOST_ID = MEX
INSTRUMENT_HOST_NAME = "MARS EXPRESS"
INSTRUMENT_ID = HRSC
INSTRUMENT_NAME = "HIGH RESOLUTION STEREO CAMERA"
MISSION_NAME = "MARS EXPRESS"
MISSION_PHASE_NAME = ME_Phase_47
PROCESSING_LEVEL_ID = 4
PRODUCT_CREATION_TIME = 2023-11-15T01:26:02.000Z
PRODUCT_ID = "HO318_0000_S14.TIF"
RELEASE_ID = 0003
REVISION_ID = 0000
/* QUALITY DATA ELEMENTS */
DATA_QUALITY_ID = 1
DATA_QUALITY_DESC = "Data calculated based on original SPICE kernels"
/* TIME DATA ELEMENTS */
SPACECRAFT_CLOCK_START_COUNT = "1/0628688409.24901"
SPACECRAFT_CLOCK_STOP_COUNT = "1/0628688907.07780"
START_TIME = 2023-04-04T11:40:45.227Z
STOP_TIME = 2023-04-04T11:46:15.089Z
/* ORBITAL DATA ELEMENTS */
ASCENDING_NODE_LONGITUDE = 121.87
MAXIMUM_RESOLUTION = 0.0389
FOOTPRINT_POINT_LATITUDE = (47.0733,46.9981,46.9136,46.7996, 46.7964,46.6944,45.9895,45.4613,44.9289 ,44.5689,43.8489,43.3,42.9323,42.565, 42.193,41.8181,41.4436,40.8747,40.4923, 40.1101,39.7218,39.3317,38.9426,38.5458 ,37.9505,37.3459,36.9422,36.5314, 36.1204,35.4959,35.0782,34.6532,34.229, 33.7976,33.3661,32.9279,32.2662,31.821, 31.3711,30.6886,29.9978,29.2976,28.8259 ,28.3481,27.8669,27.3818,26.8935, 26.3974,26.1496,26.1446,26.2302,26.2843 ,26.317,26.3418,26.3433,26.3447,26.844, 27.339,27.8298,28.3163,28.7964,29.2731, 29.7461,30.2132,30.9066,31.5917,32.0441 ,32.4906,33.1552,33.5952,34.0279,34.461 ,34.8876,35.3141,35.7332,36.36,36.7725, 37.1848,37.5901,38.1982,38.5961,38.9944 ,39.3891,39.78,40.3656,40.749,41.1332, 41.5155,41.8923,42.4578,43.0157,43.5692 ,43.9387,44.3014,44.663,45.5636,46.2714 ,46.8019,46.9782,47.0733)
FOOTPRINT_POINT_LONGITUDE = (88.2574,87.5409,86.7979,85.8779, 85.8531,85.7185,85.7924,85.8458,85.8972 ,85.9307,85.9939,86.0391,86.0684, 86.0967,86.1236,86.1509,86.1772,86.2139 ,86.238,86.2609,86.2831,86.3043,86.3252 ,86.3451,86.3732,86.4005,86.4172, 86.4331,86.4482,86.4696,86.4827,86.4952 ,86.5071,86.5178,86.5278,86.5372, 86.5494,86.5564,86.5633,86.5708,86.5769 ,86.5814,86.5826,86.5832,86.5831, 86.5819,86.5819,86.5788,86.5775,86.5774 ,87.6009,88.3339,88.8465,89.2512, 89.2763,89.2853,89.2729,89.2602,89.2472 ,89.2337,89.2201,89.2061,89.1914, 89.1768,89.1538,89.1303,89.114,89.0975, 89.0721,89.0546,89.0367,89.0185,89.0002 ,88.9812,88.962,88.9323,88.9122,88.8916 ,88.8708,88.8387,88.8168,88.7944, 88.7718,88.7486,88.7132,88.689,88.6644, 88.6392,88.6141,88.5752,88.5354,88.4943 ,88.4661,88.438,88.4092,88.3344,88.2726 ,88.2241,88.2076,88.2574)
ORBIT_NUMBER = 24318
ORBITAL_ECCENTRICITY = 0.569
ORBITAL_INCLINATION = 87.08
ORBITAL_SEMIMAJOR_AXIS = 8773.16
PERIAPSIS_ALTITUDE = 401.09
PERIAPSIS_ARGUMENT_ANGLE = 114.52
PERIAPSIS_TIME = 2023-04-04T11:36:36.000Z
SPACECRAFT_ORIENTATION = (0.0,-1.0,0.0)
^MEX_ORIENTATION_DESC = "MEX_ORIENTATION_DESC.TXT"
SPACECRAFT_POINTING_MODE = ACROSSTRACK
^MEX_POINTING_DESC = "MEX_POINTING_DESC.TXT"
RIGHT_ASCENSION = -1e+32
DECLINATION = -1e+32
OFFSET_ANGLE = -1.886
SPACECRAFT_SOLAR_DISTANCE = 2.46883e+08
TARGET_NAME = MARS
/* CAMERA DATA ELEMENTS */
DETECTOR_TEMPERATURE = 17.9627
FOCAL_PLANE_TEMPERATURE = 9.3989
INST_CMPRS_NAME = "DISCRETE COSINE TRANSFORMATION (DCT)"
INST_CMPRS_RATIO = 11.6218
INST_CMPRS_QUALITY = 0
INST_CMPRS_QUANTZ_TBL_ID = 0
INSTRUMENT_TEMPERATURE = 11.8457
LENS_TEMPERATURE = 9.8067
MACROPIXEL_SIZE = 2
MISSING_FRAMES = 0
PIXEL_SUBSAMPLING_FLAG = N
SIGNAL_CHAIN_ID = 1
/* RADIOMETRIC DATA ELEMENTS */
BANDWIDTH = 180.0
CENTER_FILTER_WAVELENGTH = 677.0
RADIANCE_OFFSET = 3.57556
RADIANCE_SCALING_FACTOR = 0.0285034
REFLECTANCE_SCALING_FACTOR = 0.000906406
MEX:REFLECTANCE_OFFSET = 0.113703
/* IMAGE OBJECT DEFINITIONS */
OBJECT = IMAGE
  INTERCHANGE_FORMAT = BINARY
  LINES = 24494
  LINE_SAMPLES = 3381
  SAMPLE_TYPE = UNSIGNED_INTEGER
  SAMPLE_BITS = 8
  BANDS = 1
  BAND_STORAGE_TYPE = BAND_SEQUENTIAL
  MAXIMUM = 255
  MEAN = 125.989
  MINIMUM = 1
  STANDARD_DEVIATION = 46.8858
END_OBJECT = IMAGE
/* MAP OBJECT DEFINITIONS */
OBJECT = IMAGE_MAP_PROJECTION
  ^DATA_SET_MAP_PROJECTION_CATALOG= "DSMAP.CAT"
  A_AXIS_RADIUS = 3396.0
  B_AXIS_RADIUS = 3396.0
  C_AXIS_RADIUS = 3396.0
  CENTER_LATITUDE = 0.0
  CENTER_LONGITUDE = 88.0
  COORDINATE_SYSTEM_NAME = PLANETOGRAPHIC
  COORDINATE_SYSTEM_TYPE = "BODY-FIXED ROTATING"
  EASTERNMOST_LONGITUDE = 89.28530000000001
  FIRST_STANDARD_PARALLEL = "N/A"
  LINE_FIRST_PIXEL = 1
  LINE_LAST_PIXEL = 24494
  LINE_PROJECTION_OFFSET = 55623.75
  MAP_PROJECTION_ROTATION = 0.0
  MAP_PROJECTION_TYPE = SINUSOIDAL
  MAP_RESOLUTION = 1185.42760773333
  MAP_SCALE = 0.05
  MAXIMUM_LATITUDE = 47.0733
  MINIMUM_LATITUDE = 26.1446
  POSITIVE_LONGITUDE_DIRECTION = EAST
  REFERENCE_LATITUDE = "N/A"
  REFERENCE_LONGITUDE = "N/A"
  SAMPLE_FIRST_PIXEL = 1
  SAMPLE_LAST_PIXEL = 3381
  SAMPLE_PROJECTION_OFFSET = 1879.75
  SECOND_STANDARD_PARALLEL = "N/A"
  WESTERNMOST_LONGITUDE = 85.71850000000001
END_OBJECT = IMAGE_MAP_PROJECTION
END
