PDS_VERSION_ID = PDS3
/* FILE DATA ELEMENTS */
RECORD_TYPE = UNDEFINED
/* POINTERS TO DATA OBJECTS */
^IMAGE = ("HO317_0000_S14.TIF")
/* IDENTIFICATION DATA ELEMENTS */
DATA_SET_ID = "MEX-M-HRSC-4-REFDR-MAPPROJECT-EXT9-V4.0"
DATA_SET_NAME = "MARS EXPRESS HRSC MAP PROJECTED REFDR EXTENSION9 V4.0"
DETECTOR_ID = MEX_HRSC_S1
EVENT_TYPE = "MARS-REGIONAL-MAPPING-Im-Gl-Pf"
INSTRUMENT_HOST_ID = MEX
INSTRUMENT_HOST_NAME = "MARS EXPRESS"
INSTRUMENT_ID = HRSC
INSTRUMENT_NAME = "HIGH RESOLUTION STEREO CAMERA"
MISSION_NAME = "MARS EXPRESS"
MISSION_PHASE_NAME = ME_Phase_47
PROCESSING_LEVEL_ID = 4
PRODUCT_CREATION_TIME = 2023-11-15T01:26:02.000Z
PRODUCT_ID = "HO317_0000_S14.TIF"
RELEASE_ID = 0003
REVISION_ID = 0000
/* QUALITY DATA ELEMENTS */
DATA_QUALITY_ID = 1
DATA_QUALITY_DESC = "Data calculated based on original SPICE kernels"
/* TIME DATA ELEMENTS */
SPACECRAFT_CLOCK_START_COUNT = "1/0628662859.25678"
SPACECRAFT_CLOCK_STOP_COUNT = "1/0628663179.01115"
START_TIME = 2023-04-04T04:34:55.247Z
STOP_TIME = 2023-04-04T04:38:56.240Z
/* ORBITAL DATA ELEMENTS */
ASCENDING_NODE_LONGITUDE = 121.88
MAXIMUM_RESOLUTION = 0.0344
FOOTPRINT_POINT_LATITUDE = (72.7972,72.7336,72.6526,72.5781, 72.5753,72.4305,72.1278,71.8277,71.5314 ,71.2343,70.9369,70.6385,70.3396, 70.0404,69.7405,69.2903,68.9969,68.7028 ,68.4085,68.1136,67.6701,67.3742, 67.0783,66.7808,66.3346,66.0367,65.7385 ,65.2907,64.9908,64.6911,64.3912, 63.7869,63.3351,63.0337,62.7318,62.4301 ,62.1275,61.8252,61.522,61.2186,60.9154 ,60.6125,60.3082,59.852,59.5472,59.2427 ,58.7851,58.3273,58.0219,57.5639, 57.4109,57.3977,57.4314,57.4608,57.4901 ,57.4906,57.4913,57.952,58.2589,58.5659 ,59.0256,59.485,59.9437,60.25,60.5557, 61.0145,61.4716,61.7764,62.2335,62.6901 ,62.9941,63.2977,63.601,64.0601,64.5148 ,64.9677,65.2697,65.722,66.0232,66.3241 ,66.6246,66.9247,67.3747,67.6748, 67.9738,68.2722,68.5702,69.017,69.4629, 69.9186,70.2229,70.5266,70.9811,71.2841 ,71.5862,71.8877,72.1888,72.4974, 72.6514,72.7972)
FOOTPRINT_POINT_LONGITUDE = (189.821,188.156,186.46,185.142,185.096 ,185.034,185.234,185.424,185.605, 185.779,185.948,186.111,186.269,186.422 ,186.57,186.782,186.915,187.043,187.168 ,187.289,187.463,187.576,187.684,187.79 ,187.942,188.04,188.136,188.273,188.362 ,188.448,188.531,188.693,188.807,188.88 ,188.952,189.021,189.089,189.155, 189.218,189.28,189.341,189.4,189.457, 189.54,189.593,189.645,189.72,189.792, 189.839,189.906,189.928,189.93,190.705, 191.507,192.57,192.596,192.605,192.567, 192.541,192.514,192.473,192.43,192.386, 192.355,192.324,192.275,192.226,192.191 ,192.138,192.082,192.044,192.005, 191.965,191.902,191.837,191.77,191.724, 191.652,191.603,191.552,191.5,191.446, 191.362,191.304,191.244,191.184,191.121 ,191.023,190.921,190.811,190.734, 190.656,190.533,190.447,190.359,190.267 ,190.173,190.072,190.021,189.821)
ORBIT_NUMBER = 24317
ORBITAL_ECCENTRICITY = 0.569
ORBITAL_INCLINATION = 87.07
ORBITAL_SEMIMAJOR_AXIS = 8768.35
PERIAPSIS_ALTITUDE = 401.94
PERIAPSIS_ARGUMENT_ANGLE = 114.71
PERIAPSIS_TIME = 2023-04-04T04:37:32.000Z
SPACECRAFT_ORIENTATION = (0.0,-1.0,0.0)
^MEX_ORIENTATION_DESC = "MEX_ORIENTATION_DESC.TXT"
SPACECRAFT_POINTING_MODE = NADIR
^MEX_POINTING_DESC = "MEX_POINTING_DESC.TXT"
RIGHT_ASCENSION = -1e+32
DECLINATION = -1e+32
OFFSET_ANGLE = -1e+32
SPACECRAFT_SOLAR_DISTANCE = 2.46859e+08
TARGET_NAME = MARS
/* CAMERA DATA ELEMENTS */
DETECTOR_TEMPERATURE = 17.5549
FOCAL_PLANE_TEMPERATURE = 8.7872
INST_CMPRS_NAME = "DISCRETE COSINE TRANSFORMATION (DCT)"
INST_CMPRS_RATIO = 10.0382
INST_CMPRS_QUALITY = 0
INST_CMPRS_QUANTZ_TBL_ID = 0
INSTRUMENT_TEMPERATURE = 11.234
LENS_TEMPERATURE = 9.195
MACROPIXEL_SIZE = 2
MISSING_FRAMES = 1
PIXEL_SUBSAMPLING_FLAG = N
SIGNAL_CHAIN_ID = 1
/* RADIOMETRIC DATA ELEMENTS */
BANDWIDTH = 180.0
CENTER_FILTER_WAVELENGTH = 677.0
RADIANCE_OFFSET = 3.52108
RADIANCE_SCALING_FACTOR = 0.0254129
REFLECTANCE_SCALING_FACTOR = 0.000807971
MEX:REFLECTANCE_OFFSET = 0.111948
/* IMAGE OBJECT DEFINITIONS */
OBJECT = IMAGE
  INTERCHANGE_FORMAT = BINARY
  LINES = 36173
  LINE_SAMPLES = 6851
  SAMPLE_TYPE = UNSIGNED_INTEGER
  SAMPLE_BITS = 8
  BANDS = 1
  BAND_STORAGE_TYPE = BAND_SEQUENTIAL
  MAXIMUM = 255
  MEAN = 87.4132
  MINIMUM = 1
  STANDARD_DEVIATION = 72.9787
END_OBJECT = IMAGE
/* MAP OBJECT DEFINITIONS */
OBJECT = IMAGE_MAP_PROJECTION
  ^DATA_SET_MAP_PROJECTION_CATALOG= "DSMAP.CAT"
  A_AXIS_RADIUS = 3396.0
  B_AXIS_RADIUS = 3396.0
  C_AXIS_RADIUS = 3396.0
  CENTER_LATITUDE = 0.0
  CENTER_LONGITUDE = 190.0
  COORDINATE_SYSTEM_NAME = PLANETOGRAPHIC
  COORDINATE_SYSTEM_TYPE = "BODY-FIXED ROTATING"
  EASTERNMOST_LONGITUDE = 192.605
  FIRST_STANDARD_PARALLEL = "N/A"
  LINE_FIRST_PIXEL = 1
  LINE_LAST_PIXEL = 36173
  LINE_PROJECTION_OFFSET = 172297.25
  MAP_PROJECTION_ROTATION = 0.0
  MAP_PROJECTION_TYPE = SINUSOIDAL
  MAP_RESOLUTION = 2370.85521546667
  MAP_SCALE = 0.025
  MAXIMUM_LATITUDE = 72.7972
  MINIMUM_LATITUDE = 57.3977
  POSITIVE_LONGITUDE_DIRECTION = EAST
  REFERENCE_LATITUDE = "N/A"
  REFERENCE_LONGITUDE = "N/A"
  SAMPLE_FIRST_PIXEL = 1
  SAMPLE_LAST_PIXEL = 6851
  SAMPLE_PROJECTION_OFFSET = 3528.75
  SECOND_STANDARD_PARALLEL = "N/A"
  WESTERNMOST_LONGITUDE = 185.034
END_OBJECT = IMAGE_MAP_PROJECTION
END
