PDS_VERSION_ID = PDS3
/* FILE DATA ELEMENTS */
RECORD_TYPE = UNDEFINED
/* POINTERS TO DATA OBJECTS */
^IMAGE = ("HO315_0000_ND4.TIF")
/* IDENTIFICATION DATA ELEMENTS */
DATA_SET_ID = "MEX-M-HRSC-4-REFDR-MAPPROJECT-EXT9-V4.0"
DATA_SET_NAME = "MARS EXPRESS HRSC MAP PROJECTED REFDR EXTENSION9 V4.0"
DETECTOR_ID = MEX_HRSC_NADIR
EVENT_TYPE = "MARS-REGIONAL-MAPPING-Te-Gl-Pf"
INSTRUMENT_HOST_ID = MEX
INSTRUMENT_HOST_NAME = "MARS EXPRESS"
INSTRUMENT_ID = HRSC
INSTRUMENT_NAME = "HIGH RESOLUTION STEREO CAMERA"
MISSION_NAME = "MARS EXPRESS"
MISSION_PHASE_NAME = ME_Phase_47
PROCESSING_LEVEL_ID = 4
PRODUCT_CREATION_TIME = 2023-11-15T01:26:02.000Z
PRODUCT_ID = "HO315_0000_ND4.TIF"
RELEASE_ID = 0003
REVISION_ID = 0000
/* QUALITY DATA ELEMENTS */
DATA_QUALITY_ID = 1
DATA_QUALITY_DESC = "Data calculated based on original SPICE kernels"
/* TIME DATA ELEMENTS */
SPACECRAFT_CLOCK_START_COUNT = "1/0628612571.25677"
SPACECRAFT_CLOCK_STOP_COUNT = "1/0628613143.33398"
START_TIME = 2023-04-03T14:37:26.739Z
STOP_TIME = 2023-04-03T14:45:24.735Z
/* ORBITAL DATA ELEMENTS */
ASCENDING_NODE_LONGITUDE = 121.92
MAXIMUM_RESOLUTION = 0.0162
FOOTPRINT_POINT_LATITUDE = (72.3748,72.1727,72.1702,72.1633, 71.2958,70.163,69.0261,68.4564,67.8858, 67.3146,66.7427,66.1704,65.5975,65.0243 ,64.4507,63.5899,63.0158,62.4415, 61.8672,61.293,60.7187,59.5707,58.4235, 57.2777,56.4116,55.8246,55.2381,54.6523 ,54.0672,53.17,52.5715,51.9739,51.3645, 50.7536,50.1438,49.5217,48.5884,47.9545 ,47.3203,46.678,46.032,45.3759,44.7184, 44.0509,43.3805,42.6994,42.3597,42.3544 ,42.3798,42.3882,42.3883,42.3887, 43.0707,44.0853,44.755,45.4144,46.0729, 46.721,47.3654,48.0016,48.6377,49.5742, 50.1985,50.8104,51.4234,52.0351,52.6348 ,53.2356,54.1364,54.7238,55.312,55.9008 ,56.4904,57.3605,58.5118,59.0881, 59.6649,60.2419,60.8192,61.3968,61.9746 ,62.5526,63.1307,63.7088,64.2869, 64.8651,65.7321,66.31,66.8876,67.465, 68.0421,68.6188,69.1952,69.7711,70.3464 ,70.9212,71.4954,72.0825,72.3767, 72.3748)
FOOTPRINT_POINT_LONGITUDE = (34.1513,29.7008,29.6567,29.5052, 30.0328,30.6433,31.1798,31.4239,31.6537 ,31.8697,32.0734,32.2655,32.4464, 32.6181,32.7789,33.0048,33.1453,33.278, 33.4038,33.523,33.6357,33.8438,34.0301, 34.1977,34.3129,34.3856,34.4545,34.519, 34.5805,34.6681,34.7227,34.7745,34.8227 ,34.8695,34.9118,34.953,35.0096,35.0449 ,35.0775,35.1089,35.1361,35.162,35.1861 ,35.2079,35.2277,35.2455,35.2537, 35.2539,36.6238,37.6141,37.6375,37.6491 ,37.6267,37.5985,37.5768,37.5508, 37.5303,37.5048,37.4798,37.4535,37.4254 ,37.3826,37.3526,37.3211,37.2886, 37.2549,37.2203,37.184,37.1266,37.0873, 37.046,37.0029,36.9578,36.8875,36.7866, 36.7327,36.6765,36.6174,36.5555,36.4904 ,36.4222,36.3506,36.2754,36.1964, 36.1129,36.0255,35.885,35.7848,35.679, 35.5671,35.4489,35.3237,35.1908,35.0498 ,34.8998,34.7399,34.5696,34.3832, 34.2847,34.1513)
ORBIT_NUMBER = 24315
ORBITAL_ECCENTRICITY = 0.569
ORBITAL_INCLINATION = 87.06
ORBITAL_SEMIMAJOR_AXIS = 8773.31
PERIAPSIS_ALTITUDE = 401.99
PERIAPSIS_ARGUMENT_ANGLE = 115.05
PERIAPSIS_TIME = 2023-04-03T14:39:25.000Z
SPACECRAFT_ORIENTATION = (0.0,-1.0,0.0)
^MEX_ORIENTATION_DESC = "MEX_ORIENTATION_DESC.TXT"
SPACECRAFT_POINTING_MODE = NADIR
^MEX_POINTING_DESC = "MEX_POINTING_DESC.TXT"
RIGHT_ASCENSION = -1e+32
DECLINATION = -1e+32
OFFSET_ANGLE = -1e+32
SPACECRAFT_SOLAR_DISTANCE = 2.46811e+08
TARGET_NAME = MARS
/* CAMERA DATA ELEMENTS */
DETECTOR_TEMPERATURE = 17.7588
FOCAL_PLANE_TEMPERATURE = 8.3794
INST_CMPRS_NAME = "DISCRETE COSINE TRANSFORMATION (DCT)"
INST_CMPRS_RATIO = 6.69166
INST_CMPRS_QUALITY = 0
INST_CMPRS_QUANTZ_TBL_ID = 0
INSTRUMENT_TEMPERATURE = 11.234
LENS_TEMPERATURE = 8.5833
MACROPIXEL_SIZE = 1
MISSING_FRAMES = 1
PIXEL_SUBSAMPLING_FLAG = N
SIGNAL_CHAIN_ID = 0
/* RADIOMETRIC DATA ELEMENTS */
BANDWIDTH = 177.0
CENTER_FILTER_WAVELENGTH = 677.5
RADIANCE_OFFSET = 3.20891
RADIANCE_SCALING_FACTOR = 0.0279438
REFLECTANCE_SCALING_FACTOR = 0.000904271
MEX:REFLECTANCE_OFFSET = 0.103841
/* IMAGE OBJECT DEFINITIONS */
OBJECT = IMAGE
  INTERCHANGE_FORMAT = BINARY
  LINES = 142379
  LINE_SAMPLES = 17259
  SAMPLE_TYPE = UNSIGNED_INTEGER
  SAMPLE_BITS = 8
  BANDS = 1
  BAND_STORAGE_TYPE = BAND_SEQUENTIAL
  MAXIMUM = 255
  MEAN = 89.7123
  MINIMUM = 1
  STANDARD_DEVIATION = 49.6697
END_OBJECT = IMAGE
/* MAP OBJECT DEFINITIONS */
OBJECT = IMAGE_MAP_PROJECTION
  ^DATA_SET_MAP_PROJECTION_CATALOG= "DSMAP.CAT"
  A_AXIS_RADIUS = 3396.0
  B_AXIS_RADIUS = 3396.0
  C_AXIS_RADIUS = 3396.0
  CENTER_LATITUDE = 0.0
  CENTER_LONGITUDE = 35.0
  COORDINATE_SYSTEM_NAME = PLANETOGRAPHIC
  COORDINATE_SYSTEM_TYPE = "BODY-FIXED ROTATING"
  EASTERNMOST_LONGITUDE = 37.6491
  FIRST_STANDARD_PARALLEL = "N/A"
  LINE_FIRST_PIXEL = 1
  LINE_LAST_PIXEL = 142379
  LINE_PROJECTION_OFFSET = 343211.0
  MAP_PROJECTION_ROTATION = 0.0
  MAP_PROJECTION_TYPE = SINUSOIDAL
  MAP_RESOLUTION = 4741.71043093333
  MAP_SCALE = 0.0125
  MAXIMUM_LATITUDE = 72.3767
  MINIMUM_LATITUDE = 42.3544
  POSITIVE_LONGITUDE_DIRECTION = EAST
  REFERENCE_LATITUDE = "N/A"
  REFERENCE_LONGITUDE = "N/A"
  SAMPLE_FIRST_PIXEL = 1
  SAMPLE_LAST_PIXEL = 17259
  SAMPLE_PROJECTION_OFFSET = 7980.0
  SECOND_STANDARD_PARALLEL = "N/A"
  WESTERNMOST_LONGITUDE = 29.5052
END_OBJECT = IMAGE_MAP_PROJECTION
END
