PDS_VERSION_ID = PDS3
/* FILE DATA ELEMENTS */
RECORD_TYPE = UNDEFINED
/* POINTERS TO DATA OBJECTS */
^IMAGE = ("HO313_0000_P14.TIF")
/* IDENTIFICATION DATA ELEMENTS */
DATA_SET_ID = "MEX-M-HRSC-4-REFDR-MAPPROJECT-EXT9-V4.0"
DATA_SET_NAME = "MARS EXPRESS HRSC MAP PROJECTED REFDR EXTENSION9 V4.0"
DETECTOR_ID = MEX_HRSC_P1
EVENT_TYPE = "MARS-REGIONAL-MAPPING-Vo-Gl-Pf"
INSTRUMENT_HOST_ID = MEX
INSTRUMENT_HOST_NAME = "MARS EXPRESS"
INSTRUMENT_ID = HRSC
INSTRUMENT_NAME = "HIGH RESOLUTION STEREO CAMERA"
MISSION_NAME = "MARS EXPRESS"
MISSION_PHASE_NAME = ME_Phase_47
PROCESSING_LEVEL_ID = 4
PRODUCT_CREATION_TIME = 2023-11-15T01:26:02.000Z
PRODUCT_ID = "HO313_0000_P14.TIF"
RELEASE_ID = 0003
REVISION_ID = 0000
/* QUALITY DATA ELEMENTS */
DATA_QUALITY_ID = 1
DATA_QUALITY_DESC = "Data calculated based on original SPICE kernels"
/* TIME DATA ELEMENTS */
SPACECRAFT_CLOCK_START_COUNT = "1/0628562283.25667"
SPACECRAFT_CLOCK_STOP_COUNT = "1/0628562602.31134"
START_TIME = 2023-04-03T00:38:52.996Z
STOP_TIME = 2023-04-03T00:42:52.893Z
/* ORBITAL DATA ELEMENTS */
ASCENDING_NODE_LONGITUDE = 121.96
MAXIMUM_RESOLUTION = 0.0331
FOOTPRINT_POINT_LATITUDE = (72.1566,72.0852,72.0207,71.9512, 71.9486,71.8532,71.5554,71.2572,70.9576 ,70.6574,70.3574,70.0561,69.4618, 69.0201,68.7253,68.4299,67.9866,67.6902 ,67.3938,67.0965,66.7992,66.3525, 66.0544,65.6065,65.158,64.8587,64.4091, 64.1093,63.809,63.5085,63.2077,62.907, 62.606,62.1547,61.7017,61.3996,61.0976, 60.7952,60.3416,60.0388,59.7362,59.4333 ,59.1304,58.8275,58.5243,58.2211, 57.9177,57.4627,57.0073,56.8555,56.8163 ,56.8461,56.8775,56.9027,56.9032,56.904 ,57.3614,57.8186,58.1235,58.5807, 58.8855,59.1901,59.4947,59.9512,60.2556 ,60.5599,60.864,61.1681,61.6239,61.9278 ,62.2314,62.5348,62.9897,63.2926, 63.5957,64.0499,64.5033,64.8057,65.1075 ,65.5601,65.8615,66.3134,66.6141, 67.0651,67.5152,67.8152,68.1146,68.4139 ,68.7127,69.0122,69.31,69.6087,69.9061, 70.2095,70.5143,70.9717,71.4279,71.8832 ,72.0346,72.1566)
FOOTPRINT_POINT_LONGITUDE = (238.592,236.742,235.387,234.128, 234.085,233.994,234.177,234.353,234.523 ,234.687,234.846,235.0,235.288,235.489, 235.619,235.744,235.925,236.041,236.154 ,236.263,236.369,236.522,236.62,236.762 ,236.898,236.985,237.112,237.193, 237.272,237.349,237.424,237.496,237.567 ,237.67,237.767,237.83,237.891,237.951, 238.037,238.093,238.147,238.2,238.251, 238.301,238.349,238.396,238.442,238.508 ,238.572,238.593,238.598,239.305, 240.216,241.18,241.205,241.214,241.178, 241.141,241.115,241.076,241.048,241.02, 240.992,240.947,240.917,240.886,240.854 ,240.821,240.77,240.735,240.699,240.663 ,240.606,240.567,240.526,240.464, 240.399,240.354,240.308,240.237,240.188 ,240.111,240.059,239.977,239.892, 239.832,239.772,239.709,239.645,239.577 ,239.51,239.438,239.366,239.29,239.211, 239.085,238.954,238.817,238.77,238.592)
ORBIT_NUMBER = 24313
ORBITAL_ECCENTRICITY = 0.569
ORBITAL_INCLINATION = 87.07
ORBITAL_SEMIMAJOR_AXIS = 8770.78
PERIAPSIS_ALTITUDE = 400.87
PERIAPSIS_ARGUMENT_ANGLE = 115.37
PERIAPSIS_TIME = 2023-04-03T00:41:17.000Z
SPACECRAFT_ORIENTATION = (0.0,-1.0,0.0)
^MEX_ORIENTATION_DESC = "MEX_ORIENTATION_DESC.TXT"
SPACECRAFT_POINTING_MODE = NADIR
^MEX_POINTING_DESC = "MEX_POINTING_DESC.TXT"
RIGHT_ASCENSION = -1e+32
DECLINATION = -1e+32
OFFSET_ANGLE = -1e+32
SPACECRAFT_SOLAR_DISTANCE = 2.46763e+08
TARGET_NAME = MARS
/* CAMERA DATA ELEMENTS */
DETECTOR_TEMPERATURE = 17.1471
FOCAL_PLANE_TEMPERATURE = 8.5833
INST_CMPRS_NAME = "DISCRETE COSINE TRANSFORMATION (DCT)"
INST_CMPRS_RATIO = 8.22371
INST_CMPRS_QUALITY = 0
INST_CMPRS_QUANTZ_TBL_ID = 0
INSTRUMENT_TEMPERATURE = 11.6418
LENS_TEMPERATURE = 9.195
MACROPIXEL_SIZE = 2
MISSING_FRAMES = 0
PIXEL_SUBSAMPLING_FLAG = N
SIGNAL_CHAIN_ID = 3
/* RADIOMETRIC DATA ELEMENTS */
BANDWIDTH = 174.0
CENTER_FILTER_WAVELENGTH = 675.0
RADIANCE_OFFSET = 2.55016
RADIANCE_SCALING_FACTOR = 0.0355577
REFLECTANCE_SCALING_FACTOR = 0.0011646
MEX:REFLECTANCE_OFFSET = 0.083524
/* IMAGE OBJECT DEFINITIONS */
OBJECT = IMAGE
  INTERCHANGE_FORMAT = BINARY
  LINES = 36188
  LINE_SAMPLES = 6559
  SAMPLE_TYPE = UNSIGNED_INTEGER
  SAMPLE_BITS = 8
  BANDS = 1
  BAND_STORAGE_TYPE = BAND_SEQUENTIAL
  MAXIMUM = 255
  MEAN = 101.035
  MINIMUM = 1
  STANDARD_DEVIATION = 41.7302
END_OBJECT = IMAGE
/* MAP OBJECT DEFINITIONS */
OBJECT = IMAGE_MAP_PROJECTION
  ^DATA_SET_MAP_PROJECTION_CATALOG= "DSMAP.CAT"
  A_AXIS_RADIUS = 3396.0
  B_AXIS_RADIUS = 3396.0
  C_AXIS_RADIUS = 3396.0
  CENTER_LATITUDE = 0.0
  CENTER_LONGITUDE = 239.0
  COORDINATE_SYSTEM_NAME = PLANETOGRAPHIC
  COORDINATE_SYSTEM_TYPE = "BODY-FIXED ROTATING"
  EASTERNMOST_LONGITUDE = 241.214
  FIRST_STANDARD_PARALLEL = "N/A"
  LINE_FIRST_PIXEL = 1
  LINE_LAST_PIXEL = 36188
  LINE_PROJECTION_OFFSET = 170913.25
  MAP_PROJECTION_ROTATION = 0.0
  MAP_PROJECTION_TYPE = SINUSOIDAL
  MAP_RESOLUTION = 2370.85521546667
  MAP_SCALE = 0.025
  MAXIMUM_LATITUDE = 72.1566
  MINIMUM_LATITUDE = 56.8163
  POSITIVE_LONGITUDE_DIRECTION = EAST
  REFERENCE_LATITUDE = "N/A"
  REFERENCE_LONGITUDE = "N/A"
  SAMPLE_FIRST_PIXEL = 1
  SAMPLE_LAST_PIXEL = 6559
  SAMPLE_PROJECTION_OFFSET = 3684.25
  SECOND_STANDARD_PARALLEL = "N/A"
  WESTERNMOST_LONGITUDE = 233.994
END_OBJECT = IMAGE_MAP_PROJECTION
END
