PDS_VERSION_ID = PDS3
/* FILE DATA ELEMENTS */
RECORD_TYPE = UNDEFINED
/* POINTERS TO DATA OBJECTS */
^IMAGE = ("HO312_0000_RE4.TIF")
/* IDENTIFICATION DATA ELEMENTS */
DATA_SET_ID = "MEX-M-HRSC-4-REFDR-MAPPROJECT-EXT9-V4.0"
DATA_SET_NAME = "MARS EXPRESS HRSC MAP PROJECTED REFDR EXTENSION9 V4.0"
DETECTOR_ID = MEX_HRSC_RED
EVENT_TYPE = "MARS-REGIONAL-MAPPING-Im-Gl-Pf"
INSTRUMENT_HOST_ID = MEX
INSTRUMENT_HOST_NAME = "MARS EXPRESS"
INSTRUMENT_ID = HRSC
INSTRUMENT_NAME = "HIGH RESOLUTION STEREO CAMERA"
MISSION_NAME = "MARS EXPRESS"
MISSION_PHASE_NAME = ME_Phase_47
PROCESSING_LEVEL_ID = 4
PRODUCT_CREATION_TIME = 2023-11-15T01:26:02.000Z
PRODUCT_ID = "HO312_0000_RE4.TIF"
RELEASE_ID = 0003
REVISION_ID = 0000
/* QUALITY DATA ELEMENTS */
DATA_QUALITY_ID = 1
DATA_QUALITY_DESC = "Data calculated based on original SPICE kernels"
/* TIME DATA ELEMENTS */
SPACECRAFT_CLOCK_START_COUNT = "1/0628537143.25665"
SPACECRAFT_CLOCK_STOP_COUNT = "1/0628537461.58113"
START_TIME = 2023-04-02T17:40:49.916Z
STOP_TIME = 2023-04-02T17:44:48.753Z
/* ORBITAL DATA ELEMENTS */
ASCENDING_NODE_LONGITUDE = 121.98
MAXIMUM_RESOLUTION = 0.068
FOOTPRINT_POINT_LATITUDE = (71.6752,71.6362,71.5739,71.4907, 71.4886,71.5964,71.2978,70.9988,70.6997 ,70.4005,70.1012,69.8021,69.5028, 69.2034,68.9042,68.6048,68.1557,67.8564 ,67.5571,67.2579,66.809,66.5101,66.211, 65.7624,65.3137,65.0152,64.5679,64.2695 ,63.9712,63.6732,63.3752,63.0773, 62.7801,62.3342,62.0373,61.7405,61.4439 ,61.1477,60.8516,60.5561,60.113,59.8176 ,59.5225,58.786,58.1983,57.8985,57.5975 ,57.297,56.8468,56.6971,56.6109,56.6533 ,56.6894,56.6902,56.6913,56.9923, 57.2935,57.5953,57.8975,58.3487,59.0873 ,59.6794,59.976,60.273,60.5702,60.8676, 61.1653,61.4632,61.7616,62.06,62.3589, 62.658,62.9574,63.4067,63.7061,64.0066, 64.457,64.7576,65.0583,65.5099,65.8111, 66.2634,66.5649,67.0178,67.3196,67.6218 ,67.9239,68.3776,68.68,68.9828,69.2855, 69.5884,70.0426,70.3454,70.649,70.9521, 71.2553,71.5584,71.71,71.6752)
FOOTPRINT_POINT_LONGITUDE = (340.849,339.759,338.272,336.596, 336.556,336.351,336.524,336.691,336.852 ,337.008,337.159,337.303,337.444, 337.579,337.71,337.837,338.019,338.136, 338.249,338.358,338.516,338.617,338.715 ,338.856,338.992,339.078,339.202, 339.283,339.361,339.436,339.51,339.581, 339.65,339.75,339.814,339.876,339.937, 339.996,340.053,340.108,340.188,340.24, 340.29,340.41,340.499,340.543,340.586, 340.627,340.687,340.706,340.717,341.977 ,343.393,343.418,343.427,343.402, 343.377,343.351,343.325,343.284,343.215 ,343.156,343.126,343.095,343.063,343.03 ,342.997,342.963,342.927,342.891, 342.854,342.816,342.777,342.716,342.674 ,342.632,342.565,342.519,342.472, 342.398,342.348,342.269,342.214,342.129 ,342.071,342.01,341.948,341.85,341.783, 341.714,341.642,341.568,341.452,341.371 ,341.288,341.202,341.112,341.02,340.972 ,340.849)
ORBIT_NUMBER = 24312
ORBITAL_ECCENTRICITY = 0.569
ORBITAL_INCLINATION = 87.08
ORBITAL_SEMIMAJOR_AXIS = 8770.27
PERIAPSIS_ALTITUDE = 401.59
PERIAPSIS_ARGUMENT_ANGLE = 115.55
PERIAPSIS_TIME = 2023-04-02T17:42:15.000Z
SPACECRAFT_ORIENTATION = (0.0,-1.0,0.0)
^MEX_ORIENTATION_DESC = "MEX_ORIENTATION_DESC.TXT"
SPACECRAFT_POINTING_MODE = NADIR
^MEX_POINTING_DESC = "MEX_POINTING_DESC.TXT"
RIGHT_ASCENSION = -1e+32
DECLINATION = -1e+32
OFFSET_ANGLE = -1e+32
SPACECRAFT_SOLAR_DISTANCE = 2.46738e+08
TARGET_NAME = MARS
/* CAMERA DATA ELEMENTS */
DETECTOR_TEMPERATURE = 18.9822
FOCAL_PLANE_TEMPERATURE = 8.7872
INST_CMPRS_NAME = "DISCRETE COSINE TRANSFORMATION (DCT)"
INST_CMPRS_RATIO = 23.3339
INST_CMPRS_QUALITY = 0
INST_CMPRS_QUANTZ_TBL_ID = 0
INSTRUMENT_TEMPERATURE = 11.6418
LENS_TEMPERATURE = 8.5833
MACROPIXEL_SIZE = 4
MISSING_FRAMES = 0
PIXEL_SUBSAMPLING_FLAG = N
SIGNAL_CHAIN_ID = 2
/* RADIOMETRIC DATA ELEMENTS */
BANDWIDTH = 48.0
CENTER_FILTER_WAVELENGTH = 748.0
RADIANCE_OFFSET = 0.899768
RADIANCE_SCALING_FACTOR = 0.00779984
REFLECTANCE_SCALING_FACTOR = 0.00108364
MEX:REFLECTANCE_OFFSET = 0.125006
/* IMAGE OBJECT DEFINITIONS */
OBJECT = IMAGE
  INTERCHANGE_FORMAT = BINARY
  LINES = 18013
  LINE_SAMPLES = 3310
  SAMPLE_TYPE = UNSIGNED_INTEGER
  SAMPLE_BITS = 8
  BANDS = 1
  BAND_STORAGE_TYPE = BAND_SEQUENTIAL
  MAXIMUM = 255
  MEAN = 101.639
  MINIMUM = 1
  STANDARD_DEVIATION = 79.5796
END_OBJECT = IMAGE
/* MAP OBJECT DEFINITIONS */
OBJECT = IMAGE_MAP_PROJECTION
  ^DATA_SET_MAP_PROJECTION_CATALOG= "DSMAP.CAT"
  A_AXIS_RADIUS = 3396.0
  B_AXIS_RADIUS = 3396.0
  C_AXIS_RADIUS = 3396.0
  CENTER_LATITUDE = 0.0
  CENTER_LONGITUDE = 341.0
  COORDINATE_SYSTEM_NAME = PLANETOGRAPHIC
  COORDINATE_SYSTEM_TYPE = "BODY-FIXED ROTATING"
  EASTERNMOST_LONGITUDE = 343.427
  FIRST_STANDARD_PARALLEL = "N/A"
  LINE_FIRST_PIXEL = 1
  LINE_LAST_PIXEL = 18013
  LINE_PROJECTION_OFFSET = 85091.625
  MAP_PROJECTION_ROTATION = 0.0
  MAP_PROJECTION_TYPE = SINUSOIDAL
  MAP_RESOLUTION = 1185.42760773333
  MAP_SCALE = 0.05
  MAXIMUM_LATITUDE = 71.70999999999999
  MINIMUM_LATITUDE = 56.6109
  POSITIVE_LONGITUDE_DIRECTION = EAST
  REFERENCE_LATITUDE = "N/A"
  REFERENCE_LONGITUDE = "N/A"
  SAMPLE_FIRST_PIXEL = 1
  SAMPLE_LAST_PIXEL = 3310
  SAMPLE_PROJECTION_OFFSET = 1750.875
  SECOND_STANDARD_PARALLEL = "N/A"
  WESTERNMOST_LONGITUDE = 336.351
END_OBJECT = IMAGE_MAP_PROJECTION
END
