PDS_VERSION_ID = PDS3
/* FILE DATA ELEMENTS */
RECORD_TYPE = UNDEFINED
/* POINTERS TO DATA OBJECTS */
^IMAGE = ("HO311_0000_S24.TIF")
/* IDENTIFICATION DATA ELEMENTS */
DATA_SET_ID = "MEX-M-HRSC-4-REFDR-MAPPROJECT-EXT9-V4.0"
DATA_SET_NAME = "MARS EXPRESS HRSC MAP PROJECTED REFDR EXTENSION9 V4.0"
DETECTOR_ID = MEX_HRSC_S2
EVENT_TYPE = "MARS-LOCAL-CARTOGRAPHY-Te-Gl-Pf"
INSTRUMENT_HOST_ID = MEX
INSTRUMENT_HOST_NAME = "MARS EXPRESS"
INSTRUMENT_ID = HRSC
INSTRUMENT_NAME = "HIGH RESOLUTION STEREO CAMERA"
MISSION_NAME = "MARS EXPRESS"
MISSION_PHASE_NAME = ME_Phase_47
PROCESSING_LEVEL_ID = 4
PRODUCT_CREATION_TIME = 2023-11-15T01:26:02.000Z
PRODUCT_ID = "HO311_0000_S24.TIF"
RELEASE_ID = 0003
REVISION_ID = 0000
/* QUALITY DATA ELEMENTS */
DATA_QUALITY_ID = 1
DATA_QUALITY_DESC = "Data calculated based on original SPICE kernels"
/* TIME DATA ELEMENTS */
SPACECRAFT_CLOCK_START_COUNT = "1/0628512393.24921"
SPACECRAFT_CLOCK_STOP_COUNT = "1/0628512875.49042"
START_TIME = 2023-04-02T10:48:37.344Z
STOP_TIME = 2023-04-02T10:55:09.668Z
/* ORBITAL DATA ELEMENTS */
ASCENDING_NODE_LONGITUDE = 121.99
MAXIMUM_RESOLUTION = 0.0415
FOOTPRINT_POINT_LATITUDE = (46.7279,46.7068,46.6859,46.6622, 46.6614,46.7494,46.0262,45.4823,44.7496 ,43.8229,43.26,42.8841,42.3136,41.9328, 41.5465,41.1616,40.7706,40.183,39.788, 39.39,38.9909,38.5874,37.9786,37.3636, 36.9507,36.5333,36.1144,35.4796,34.8371 ,34.4059,33.7509,33.3114,32.8688, 32.4213,31.9706,31.5217,31.0752,30.6312 ,30.1886,29.7513,29.0965,28.6639, 28.2335,27.8066,27.3832,26.9627,26.5428 ,26.3311,26.3248,26.3266,26.3252, 26.3223,26.3202,26.3198,26.3203,26.7404 ,27.1651,27.588,28.0156,28.4456,28.8783 ,29.3146,29.9709,30.4135,30.858,31.3049 ,31.9809,32.4333,32.8828,33.3277, 33.7692,34.2077,34.6436,35.0763,35.5041 ,36.1417,36.5625,36.9817,37.3963, 38.0137,38.6247,39.0303,39.4309,40.0273 ,40.4248,40.816,41.2085,41.5945,41.9826 ,42.3641,42.9368,43.3136,43.8785, 44.2502,44.8081,45.5431,46.0888,46.6328 ,46.8139,46.7279)
FOOTPRINT_POINT_LONGITUDE = (86.8572,85.9496,85.1949,84.4471, 84.4238,84.3974,84.4161,84.4284,84.4427 ,84.4572,84.464,84.4679,84.4725,84.4749 ,84.4766,84.4778,84.4783,84.4781, 84.4771,84.4756,84.4734,84.4706,84.4653 ,84.4587,84.4534,84.4475,84.441,84.4299 ,84.4175,84.4083,84.3934,84.3825, 84.3708,84.3585,84.3454,84.3317,84.3175 ,84.3028,84.2879,84.2719,84.2478,84.231 ,84.2139,84.1961,84.1777,84.1589, 84.1401,84.1311,84.1308,84.826,85.4029, 86.166,87.2447,87.2755,87.2867,87.2806, 87.2756,87.2683,87.2621,87.2557,87.2493 ,87.2434,87.2329,87.2267,87.2202, 87.2134,87.2035,87.1966,87.19,87.1832, 87.1765,87.1696,87.163,87.1562,87.1493, 87.1392,87.1324,87.1255,87.1187,87.1082 ,87.0976,87.0906,87.0833,87.0717, 87.0645,87.0572,87.0496,87.0417,87.0342 ,87.026,87.0138,87.0058,86.9932,86.9846 ,86.9716,86.954,86.9403,86.926,86.9211, 86.8572)
ORBIT_NUMBER = 24311
ORBITAL_ECCENTRICITY = 0.569
ORBITAL_INCLINATION = 87.08
ORBITAL_SEMIMAJOR_AXIS = 8774.73
PERIAPSIS_ALTITUDE = 400.53
PERIAPSIS_ARGUMENT_ANGLE = 115.73
PERIAPSIS_TIME = 2023-04-02T10:43:14.000Z
SPACECRAFT_ORIENTATION = (0.0,-1.0,0.0)
^MEX_ORIENTATION_DESC = "MEX_ORIENTATION_DESC.TXT"
SPACECRAFT_POINTING_MODE = ACROSSTRACK
^MEX_POINTING_DESC = "MEX_POINTING_DESC.TXT"
RIGHT_ASCENSION = -1e+32
DECLINATION = -1e+32
OFFSET_ANGLE = 0.5
SPACECRAFT_SOLAR_DISTANCE = 2.46714e+08
TARGET_NAME = MARS
/* CAMERA DATA ELEMENTS */
DETECTOR_TEMPERATURE = 18.5744
FOCAL_PLANE_TEMPERATURE = 9.3989
INST_CMPRS_NAME = "DISCRETE COSINE TRANSFORMATION (DCT)"
INST_CMPRS_RATIO = 12.6626
INST_CMPRS_QUALITY = 0
INST_CMPRS_QUANTZ_TBL_ID = 0
INSTRUMENT_TEMPERATURE = 11.6418
LENS_TEMPERATURE = 9.6028
MACROPIXEL_SIZE = 2
MISSING_FRAMES = 0
PIXEL_SUBSAMPLING_FLAG = N
SIGNAL_CHAIN_ID = 1
/* RADIOMETRIC DATA ELEMENTS */
BANDWIDTH = 178.0
CENTER_FILTER_WAVELENGTH = 679.0
RADIANCE_OFFSET = 4.12906
RADIANCE_SCALING_FACTOR = 0.0232011
REFLECTANCE_SCALING_FACTOR = 0.000747866
MEX:REFLECTANCE_OFFSET = 0.133097
/* IMAGE OBJECT DEFINITIONS */
OBJECT = IMAGE
  INTERCHANGE_FORMAT = BINARY
  LINES = 48597
  LINE_SAMPLES = 5879
  SAMPLE_TYPE = UNSIGNED_INTEGER
  SAMPLE_BITS = 8
  BANDS = 1
  BAND_STORAGE_TYPE = BAND_SEQUENTIAL
  MAXIMUM = 255
  MEAN = 145.917
  MINIMUM = 1
  STANDARD_DEVIATION = 54.6486
END_OBJECT = IMAGE
/* MAP OBJECT DEFINITIONS */
OBJECT = IMAGE_MAP_PROJECTION
  ^DATA_SET_MAP_PROJECTION_CATALOG= "DSMAP.CAT"
  A_AXIS_RADIUS = 3396.0
  B_AXIS_RADIUS = 3396.0
  C_AXIS_RADIUS = 3396.0
  CENTER_LATITUDE = 0.0
  CENTER_LONGITUDE = 86.0
  COORDINATE_SYSTEM_NAME = PLANETOGRAPHIC
  COORDINATE_SYSTEM_TYPE = "BODY-FIXED ROTATING"
  EASTERNMOST_LONGITUDE = 87.2867
  FIRST_STANDARD_PARALLEL = "N/A"
  LINE_FIRST_PIXEL = 1
  LINE_LAST_PIXEL = 48597
  LINE_PROJECTION_OFFSET = 110893.75
  MAP_PROJECTION_ROTATION = 0.0
  MAP_PROJECTION_TYPE = SINUSOIDAL
  MAP_RESOLUTION = 2370.85521546667
  MAP_SCALE = 0.025
  MAXIMUM_LATITUDE = 46.8139
  MINIMUM_LATITUDE = 26.3198
  POSITIVE_LONGITUDE_DIRECTION = EAST
  REFERENCE_LATITUDE = "N/A"
  REFERENCE_LONGITUDE = "N/A"
  SAMPLE_FIRST_PIXEL = 1
  SAMPLE_LAST_PIXEL = 5879
  SAMPLE_PROJECTION_OFFSET = 3616.25
  SECOND_STANDARD_PARALLEL = "N/A"
  WESTERNMOST_LONGITUDE = 84.13079999999999
END_OBJECT = IMAGE_MAP_PROJECTION
END
