PDS_VERSION_ID = PDS3
/* FILE DATA ELEMENTS */
RECORD_TYPE = UNDEFINED
/* POINTERS TO DATA OBJECTS */
^IMAGE = ("HO310_0000_BL4.TIF")
/* IDENTIFICATION DATA ELEMENTS */
DATA_SET_ID = "MEX-M-HRSC-4-REFDR-MAPPROJECT-EXT9-V4.0"
DATA_SET_NAME = "MARS EXPRESS HRSC MAP PROJECTED REFDR EXTENSION9 V4.0"
DETECTOR_ID = MEX_HRSC_BLUE
EVENT_TYPE = "MARS-REGIONAL-MAPPING-Im-Gl-Pf"
INSTRUMENT_HOST_ID = MEX
INSTRUMENT_HOST_NAME = "MARS EXPRESS"
INSTRUMENT_ID = HRSC
INSTRUMENT_NAME = "HIGH RESOLUTION STEREO CAMERA"
MISSION_NAME = "MARS EXPRESS"
MISSION_PHASE_NAME = ME_Phase_47
PROCESSING_LEVEL_ID = 4
PRODUCT_CREATION_TIME = 2023-11-15T01:26:02.000Z
PRODUCT_ID = "HO310_0000_BL4.TIF"
RELEASE_ID = 0003
REVISION_ID = 0000
/* QUALITY DATA ELEMENTS */
DATA_QUALITY_ID = 1
DATA_QUALITY_DESC = "Data calculated based on original SPICE kernels"
/* TIME DATA ELEMENTS */
SPACECRAFT_CLOCK_START_COUNT = "1/0628486857.24882"
SPACECRAFT_CLOCK_STOP_COUNT = "1/0628487178.54920"
START_TIME = 2023-04-02T03:42:19.268Z
STOP_TIME = 2023-04-02T03:46:20.120Z
/* ORBITAL DATA ELEMENTS */
ASCENDING_NODE_LONGITUDE = 122.0
MAXIMUM_RESOLUTION = 0.0648
FOOTPRINT_POINT_LATITUDE = (71.4955,71.4488,71.3862,71.3085, 71.3063,71.3226,70.8642,70.5642,70.264, 69.9635,69.5122,69.2111,68.9098,68.4574 ,68.1556,67.8536,67.5515,67.2492, 66.9467,66.6442,66.1901,65.8873,65.5844 ,65.2814,64.8268,64.5236,64.2203, 63.9171,63.6138,63.3105,63.007,62.7038, 62.4005,62.0972,61.6423,61.3391,61.036, 60.7329,60.2783,59.9753,59.6725,59.3697 ,59.0671,58.7645,58.1597,57.5554, 56.9517,56.3486,56.1979,56.1523,56.1856 ,56.206,56.2311,56.2316,56.2327,56.8382 ,57.4445,57.7479,58.0514,58.3551, 58.6591,59.1151,59.4193,59.7236,60.0281 ,60.4851,60.7898,61.0947,61.5521, 61.8572,62.1622,62.4673,62.775,63.0783, 63.3834,63.689,64.1473,64.4528,64.7584, 65.0639,65.5222,65.8278,66.1333,66.5915 ,66.897,67.2024,67.6605,67.9658,68.4235 ,68.7287,69.0337,69.3386,69.6434, 69.9482,70.2527,70.5573,70.8616,71.3216 ,71.4777,71.4955)
FOOTPRINT_POINT_LONGITUDE = (185.172,183.888,182.452,180.947, 180.907,180.76,181.017,181.178,181.333, 181.483,181.699,181.837,181.97,182.162, 182.285,182.404,182.519,182.63,182.739, 182.843,182.995,183.091,183.186,183.277 ,183.408,183.493,183.575,183.655, 183.732,183.807,183.881,183.951,184.02, 184.087,184.183,184.246,184.306,184.364 ,184.449,184.504,184.557,184.609, 184.658,184.707,184.8,184.888,184.971, 185.05,185.069,185.075,185.972,186.629, 187.653,187.677,187.686,187.638,187.589 ,187.563,187.537,187.51,187.483,187.44, 187.411,187.381,187.351,187.303,187.27, 187.237,187.185,187.149,187.112,187.074 ,187.043,186.997,186.956,186.914,186.85 ,186.805,186.759,186.712,186.638, 186.588,186.536,186.454,186.398,186.341 ,186.251,186.188,186.091,186.024, 185.955,185.883,185.809,185.733,185.654 ,185.572,185.488,185.355,185.308, 185.172)
ORBIT_NUMBER = 24310
ORBITAL_ECCENTRICITY = 0.569
ORBITAL_INCLINATION = 87.07
ORBITAL_SEMIMAJOR_AXIS = 8769.84
PERIAPSIS_ALTITUDE = 401.55
PERIAPSIS_ARGUMENT_ANGLE = 115.92
PERIAPSIS_TIME = 2023-04-02T03:44:11.000Z
SPACECRAFT_ORIENTATION = (0.0,-1.0,0.0)
^MEX_ORIENTATION_DESC = "MEX_ORIENTATION_DESC.TXT"
SPACECRAFT_POINTING_MODE = NADIR
^MEX_POINTING_DESC = "MEX_POINTING_DESC.TXT"
RIGHT_ASCENSION = -1e+32
DECLINATION = -1e+32
OFFSET_ANGLE = -1e+32
SPACECRAFT_SOLAR_DISTANCE = 2.46689e+08
TARGET_NAME = MARS
/* CAMERA DATA ELEMENTS */
DETECTOR_TEMPERATURE = 18.9822
FOCAL_PLANE_TEMPERATURE = 9.195
INST_CMPRS_NAME = "DISCRETE COSINE TRANSFORMATION (DCT)"
INST_CMPRS_RATIO = 6.65852
INST_CMPRS_QUALITY = 0
INST_CMPRS_QUANTZ_TBL_ID = 0
INSTRUMENT_TEMPERATURE = 11.4379
LENS_TEMPERATURE = 9.6028
MACROPIXEL_SIZE = 4
MISSING_FRAMES = 0
PIXEL_SUBSAMPLING_FLAG = N
SIGNAL_CHAIN_ID = 2
/* RADIOMETRIC DATA ELEMENTS */
BANDWIDTH = 76.0
CENTER_FILTER_WAVELENGTH = 444.0
RADIANCE_OFFSET = 0.514327
RADIANCE_SCALING_FACTOR = 0.00322715
REFLECTANCE_SCALING_FACTOR = 0.000201778
MEX:REFLECTANCE_OFFSET = 0.0321584
/* IMAGE OBJECT DEFINITIONS */
OBJECT = IMAGE
  INTERCHANGE_FORMAT = BINARY
  LINES = 18237
  LINE_SAMPLES = 3391
  SAMPLE_TYPE = UNSIGNED_INTEGER
  SAMPLE_BITS = 8
  BANDS = 1
  BAND_STORAGE_TYPE = BAND_SEQUENTIAL
  MAXIMUM = 255
  MEAN = 94.5522
  MINIMUM = 1
  STANDARD_DEVIATION = 88.6255
END_OBJECT = IMAGE
/* MAP OBJECT DEFINITIONS */
OBJECT = IMAGE_MAP_PROJECTION
  ^DATA_SET_MAP_PROJECTION_CATALOG= "DSMAP.CAT"
  A_AXIS_RADIUS = 3396.0
  B_AXIS_RADIUS = 3396.0
  C_AXIS_RADIUS = 3396.0
  CENTER_LATITUDE = 0.0
  CENTER_LONGITUDE = 185.0
  COORDINATE_SYSTEM_NAME = PLANETOGRAPHIC
  COORDINATE_SYSTEM_TYPE = "BODY-FIXED ROTATING"
  EASTERNMOST_LONGITUDE = 187.686
  FIRST_STANDARD_PARALLEL = "N/A"
  LINE_FIRST_PIXEL = 1
  LINE_LAST_PIXEL = 18237
  LINE_PROJECTION_OFFSET = 84798.375
  MAP_PROJECTION_ROTATION = 0.0
  MAP_PROJECTION_TYPE = SINUSOIDAL
  MAP_RESOLUTION = 1185.42760773333
  MAP_SCALE = 0.05
  MAXIMUM_LATITUDE = 71.49550000000001
  MINIMUM_LATITUDE = 56.1523
  POSITIVE_LONGITUDE_DIRECTION = EAST
  REFERENCE_LATITUDE = "N/A"
  REFERENCE_LONGITUDE = "N/A"
  SAMPLE_FIRST_PIXEL = 1
  SAMPLE_LAST_PIXEL = 3391
  SAMPLE_PROJECTION_OFFSET = 1623.875
  SECOND_STANDARD_PARALLEL = "N/A"
  WESTERNMOST_LONGITUDE = 180.76
END_OBJECT = IMAGE_MAP_PROJECTION
END
