PDS_VERSION_ID = PDS3
/* FILE DATA ELEMENTS */
RECORD_TYPE = UNDEFINED
/* POINTERS TO DATA OBJECTS */
^IMAGE = ("HO303_0000_ND4.TIF")
/* IDENTIFICATION DATA ELEMENTS */
DATA_SET_ID = "MEX-M-HRSC-4-REFDR-MAPPROJECT-EXT9-V4.0"
DATA_SET_NAME = "MARS EXPRESS HRSC MAP PROJECTED REFDR EXTENSION9 V4.0"
DETECTOR_ID = MEX_HRSC_NADIR
EVENT_TYPE = "MARS-REGIONAL-MAPPING-Im-Gl-Pf"
INSTRUMENT_HOST_ID = MEX
INSTRUMENT_HOST_NAME = "MARS EXPRESS"
INSTRUMENT_ID = HRSC
INSTRUMENT_NAME = "HIGH RESOLUTION STEREO CAMERA"
MISSION_NAME = "MARS EXPRESS"
MISSION_PHASE_NAME = ME_Phase_47
PROCESSING_LEVEL_ID = 4
PRODUCT_CREATION_TIME = 2023-11-15T01:26:02.000Z
PRODUCT_ID = "HO303_0000_ND4.TIF"
RELEASE_ID = 0003
REVISION_ID = 0000
/* QUALITY DATA ELEMENTS */
DATA_QUALITY_ID = 1
DATA_QUALITY_DESC = "Data calculated based on original SPICE kernels"
/* TIME DATA ELEMENTS */
SPACECRAFT_CLOCK_START_COUNT = "1/0628310857.24883"
SPACECRAFT_CLOCK_STOP_COUNT = "1/0628311178.58196"
START_TIME = 2023-03-31T02:48:52.598Z
STOP_TIME = 2023-03-31T02:52:53.605Z
/* ORBITAL DATA ELEMENTS */
ASCENDING_NODE_LONGITUDE = 122.13
MAXIMUM_RESOLUTION = 0.0162
FOOTPRINT_POINT_LATITUDE = (70.3104,70.2623,70.2026,70.1347, 70.1325,70.1264,69.8183,69.5101,68.9086 ,68.3059,67.7022,67.0976,66.795,66.4921 ,66.1891,65.8859,65.5826,65.1271, 64.8234,64.3677,64.0637,63.7595,63.4553 ,63.151,62.8466,62.5421,62.2375,61.9329 ,61.6283,61.3236,61.0189,60.7142, 60.4094,60.1047,59.8,59.4952,59.1905, 58.8859,58.5812,58.2766,57.6676,57.0588 ,56.4504,55.8424,55.2348,55.0829, 54.9316,54.9578,54.9881,55.0065,55.007, 55.0075,55.6174,56.2279,56.5333,56.8388 ,57.1445,57.4502,57.7561,58.0621, 58.3681,58.6743,58.9805,59.2867,59.5931 ,59.8995,60.2059,60.5124,60.8189, 61.1255,61.432,61.7386,62.0452,62.3518, 62.6584,62.965,63.2715,63.578,63.8845, 64.191,64.4974,64.8037,65.11,65.4162, 65.7224,66.0285,66.3344,66.6403,66.9461 ,67.2517,67.5572,67.8626,68.1679,68.473 ,68.778,69.0828,69.692,70.0042,70.1604, 70.3104)
FOOTPRINT_POINT_LONGITUDE = (180.516,179.185,177.821,176.504, 176.464,176.328,176.481,176.629,176.903 ,177.161,177.402,177.628,177.736, 177.841,177.942,178.041,178.136,178.268 ,178.358,178.49,178.572,178.652,178.73, 178.805,178.878,178.949,179.018,179.085 ,179.15,179.214,179.275,179.335,179.393 ,179.45,179.504,179.558,179.609,179.66, 179.709,179.756,179.847,179.934,180.015 ,180.092,180.164,180.182,180.199, 180.898,181.897,182.698,182.723,182.735 ,182.692,182.648,182.625,182.601, 182.577,182.553,182.527,182.501,182.475 ,182.448,182.42,182.391,182.362,182.332 ,182.302,182.27,182.238,182.204,182.17, 182.135,182.1,182.063,182.025,181.987, 181.947,181.906,181.864,181.822,181.777 ,181.732,181.685,181.637,181.587, 181.536,181.484,181.431,181.375,181.318 ,181.259,181.198,181.136,181.071, 181.005,180.936,180.793,180.715,180.676 ,180.516)
ORBIT_NUMBER = 24303
ORBITAL_ECCENTRICITY = 0.569
ORBITAL_INCLINATION = 87.07
ORBITAL_SEMIMAJOR_AXIS = 8771.46
PERIAPSIS_ALTITUDE = 401.16
PERIAPSIS_ARGUMENT_ANGLE = 117.12
PERIAPSIS_TIME = 2023-03-31T02:50:51.000Z
SPACECRAFT_ORIENTATION = (0.0,-1.0,0.0)
^MEX_ORIENTATION_DESC = "MEX_ORIENTATION_DESC.TXT"
SPACECRAFT_POINTING_MODE = NADIR
^MEX_POINTING_DESC = "MEX_POINTING_DESC.TXT"
RIGHT_ASCENSION = -1e+32
DECLINATION = -1e+32
OFFSET_ANGLE = -1e+32
SPACECRAFT_SOLAR_DISTANCE = 2.46513e+08
TARGET_NAME = MARS
/* CAMERA DATA ELEMENTS */
DETECTOR_TEMPERATURE = 18.5744
FOCAL_PLANE_TEMPERATURE = 8.7872
INST_CMPRS_NAME = "DISCRETE COSINE TRANSFORMATION (DCT)"
INST_CMPRS_RATIO = 6.3005
INST_CMPRS_QUALITY = 0
INST_CMPRS_QUANTZ_TBL_ID = 0
INSTRUMENT_TEMPERATURE = 11.234
LENS_TEMPERATURE = 9.195
MACROPIXEL_SIZE = 1
MISSING_FRAMES = 0
PIXEL_SUBSAMPLING_FLAG = N
SIGNAL_CHAIN_ID = 0
/* RADIOMETRIC DATA ELEMENTS */
BANDWIDTH = 177.0
CENTER_FILTER_WAVELENGTH = 677.5
RADIANCE_OFFSET = 2.64284
RADIANCE_SCALING_FACTOR = 0.0307829
REFLECTANCE_SCALING_FACTOR = 0.000993736
MEX:REFLECTANCE_OFFSET = 0.0853165
/* IMAGE OBJECT DEFINITIONS */
OBJECT = IMAGE
  INTERCHANGE_FORMAT = BINARY
  LINES = 72948
  LINE_SAMPLES = 13357
  SAMPLE_TYPE = UNSIGNED_INTEGER
  SAMPLE_BITS = 8
  BANDS = 1
  BAND_STORAGE_TYPE = BAND_SEQUENTIAL
  MAXIMUM = 255
  MEAN = 63.9567
  MINIMUM = 1
  STANDARD_DEVIATION = 46.5482
END_OBJECT = IMAGE
/* MAP OBJECT DEFINITIONS */
OBJECT = IMAGE_MAP_PROJECTION
  ^DATA_SET_MAP_PROJECTION_CATALOG= "DSMAP.CAT"
  A_AXIS_RADIUS = 3396.0
  B_AXIS_RADIUS = 3396.0
  C_AXIS_RADIUS = 3396.0
  CENTER_LATITUDE = 0.0
  CENTER_LONGITUDE = 180.0
  COORDINATE_SYSTEM_NAME = PLANETOGRAPHIC
  COORDINATE_SYSTEM_TYPE = "BODY-FIXED ROTATING"
  EASTERNMOST_LONGITUDE = 182.735
  FIRST_STANDARD_PARALLEL = "N/A"
  LINE_FIRST_PIXEL = 1
  LINE_LAST_PIXEL = 72948
  LINE_PROJECTION_OFFSET = 333418.0
  MAP_PROJECTION_ROTATION = 0.0
  MAP_PROJECTION_TYPE = SINUSOIDAL
  MAP_RESOLUTION = 4741.71043093333
  MAP_SCALE = 0.0125
  MAXIMUM_LATITUDE = 70.3104
  MINIMUM_LATITUDE = 54.9316
  POSITIVE_LONGITUDE_DIRECTION = EAST
  REFERENCE_LATITUDE = "N/A"
  REFERENCE_LONGITUDE = "N/A"
  SAMPLE_FIRST_PIXEL = 1
  SAMPLE_LAST_PIXEL = 13357
  SAMPLE_PROJECTION_OFFSET = 5919.0
  SECOND_STANDARD_PARALLEL = "N/A"
  WESTERNMOST_LONGITUDE = 176.328
END_OBJECT = IMAGE_MAP_PROJECTION
END
