PDS_VERSION_ID = PDS3
/* FILE DATA ELEMENTS */
RECORD_TYPE = UNDEFINED
/* POINTERS TO DATA OBJECTS */
^IMAGE = ("HO299_0000_RE4.TIF")
/* IDENTIFICATION DATA ELEMENTS */
DATA_SET_ID = "MEX-M-HRSC-4-REFDR-MAPPROJECT-EXT9-V4.0"
DATA_SET_NAME = "MARS EXPRESS HRSC MAP PROJECTED REFDR EXTENSION9 V4.0"
DETECTOR_ID = MEX_HRSC_RED
EVENT_TYPE = "MARS-REGIONAL-MAPPING-Vo-Gl-Pf"
INSTRUMENT_HOST_ID = MEX
INSTRUMENT_HOST_NAME = "MARS EXPRESS"
INSTRUMENT_ID = HRSC
INSTRUMENT_NAME = "HIGH RESOLUTION STEREO CAMERA"
MISSION_NAME = "MARS EXPRESS"
MISSION_PHASE_NAME = ME_Phase_47
PROCESSING_LEVEL_ID = 4
PRODUCT_CREATION_TIME = 2023-11-15T01:26:02.000Z
PRODUCT_ID = "HO299_0000_RE4.TIF"
RELEASE_ID = 0003
REVISION_ID = 0000
/* QUALITY DATA ELEMENTS */
DATA_QUALITY_ID = 1
DATA_QUALITY_DESC = "Data calculated based on original SPICE kernels"
/* TIME DATA ELEMENTS */
SPACECRAFT_CLOCK_START_COUNT = "1/0628210279.25672"
SPACECRAFT_CLOCK_STOP_COUNT = "1/0628210601.47118"
START_TIME = 2023-03-29T22:53:05.994Z
STOP_TIME = 2023-03-29T22:57:08.640Z
/* ORBITAL DATA ELEMENTS */
ASCENDING_NODE_LONGITUDE = 122.21
MAXIMUM_RESOLUTION = 0.0674
FOOTPRINT_POINT_LATITUDE = (69.5985,69.5647,69.5106,69.4382, 69.4363,69.5403,69.0799,68.6207,68.3141 ,68.0076,67.7012,67.3942,67.0874, 66.6271,66.1674,65.8608,65.5543,65.248, 64.9417,64.4821,64.023,63.5641,63.2584, 62.9527,62.6473,62.1893,61.8843,61.5794 ,61.2747,60.9701,60.6658,60.3617, 60.0578,59.602,59.2989,58.8445,58.5417, 58.2394,57.9371,57.6354,57.3338,56.7317 ,55.9802,55.3808,55.077,54.77,54.4635, 54.3104,54.2682,54.2926,54.3197,54.3344 ,54.3349,54.336,54.6436,54.9515,55.4118 ,56.014,56.3156,56.6173,56.9193,57.2217 ,57.5247,57.8278,58.2833,58.5871, 58.8914,59.1958,59.5006,59.8057,60.1109 ,60.4165,60.7223,61.1816,61.4878, 61.7947,62.1019,62.4088,62.8699,63.1774 ,63.6392,63.9471,64.2557,64.5644, 64.8727,65.1809,65.4905,65.7993,66.1089 ,66.4181,66.8821,67.1915,67.5016, 67.9664,68.4307,68.7403,69.0509,69.5164 ,69.6713,69.5985)
FOOTPRINT_POINT_LONGITUDE = (229.296,228.313,226.972,225.457, 225.421,225.25,225.461,225.66,225.787, 225.91,226.029,226.145,226.257,226.418, 226.571,226.669,226.764,226.856,226.946 ,227.075,227.198,227.316,227.392, 227.465,227.536,227.639,227.705,227.769 ,227.832,227.892,227.951,228.008, 228.063,228.144,228.195,228.269,228.317 ,228.364,228.409,228.453,228.496, 228.577,228.673,228.744,228.779,228.813 ,228.846,228.862,228.867,229.618, 230.654,231.361,231.385,231.393,231.372 ,231.351,231.319,231.275,231.253, 231.229,231.205,231.181,231.156,231.131 ,231.091,231.064,231.036,231.008, 230.979,230.949,230.918,230.887,230.854 ,230.804,230.77,230.735,230.698,230.661 ,230.603,230.563,230.501,230.459, 230.415,230.37,230.323,230.275,230.226, 230.176,230.124,230.07,229.986,229.928, 229.869,229.776,229.678,229.61,229.54, 229.431,229.393,229.296)
ORBIT_NUMBER = 24299
ORBITAL_ECCENTRICITY = 0.569
ORBITAL_INCLINATION = 87.08
ORBITAL_SEMIMAJOR_AXIS = 8773.6
PERIAPSIS_ALTITUDE = 399.75
PERIAPSIS_ARGUMENT_ANGLE = 117.78
PERIAPSIS_TIME = 2023-03-29T22:54:33.000Z
SPACECRAFT_ORIENTATION = (0.0,-1.0,0.0)
^MEX_ORIENTATION_DESC = "MEX_ORIENTATION_DESC.TXT"
SPACECRAFT_POINTING_MODE = NADIR
^MEX_POINTING_DESC = "MEX_POINTING_DESC.TXT"
RIGHT_ASCENSION = -1e+32
DECLINATION = -1e+32
OFFSET_ANGLE = -1e+32
SPACECRAFT_SOLAR_DISTANCE = 2.46409e+08
TARGET_NAME = MARS
/* CAMERA DATA ELEMENTS */
DETECTOR_TEMPERATURE = 19.1861
FOCAL_PLANE_TEMPERATURE = 9.6028
INST_CMPRS_NAME = "DISCRETE COSINE TRANSFORMATION (DCT)"
INST_CMPRS_RATIO = 25.3669
INST_CMPRS_QUALITY = 0
INST_CMPRS_QUANTZ_TBL_ID = 0
INSTRUMENT_TEMPERATURE = 12.0496
LENS_TEMPERATURE = 10.6223
MACROPIXEL_SIZE = 4
MISSING_FRAMES = 0
PIXEL_SUBSAMPLING_FLAG = N
SIGNAL_CHAIN_ID = 2
/* RADIOMETRIC DATA ELEMENTS */
BANDWIDTH = 48.0
CENTER_FILTER_WAVELENGTH = 748.0
RADIANCE_OFFSET = 0.915553
RADIANCE_SCALING_FACTOR = 0.00538561
REFLECTANCE_SCALING_FACTOR = 0.000746235
MEX:REFLECTANCE_OFFSET = 0.12686
/* IMAGE OBJECT DEFINITIONS */
OBJECT = IMAGE
  INTERCHANGE_FORMAT = BINARY
  LINES = 18320
  LINE_SAMPLES = 3199
  SAMPLE_TYPE = UNSIGNED_INTEGER
  SAMPLE_BITS = 8
  BANDS = 1
  BAND_STORAGE_TYPE = BAND_SEQUENTIAL
  MAXIMUM = 255
  MEAN = 141.325
  MINIMUM = 1
  STANDARD_DEVIATION = 34.3522
END_OBJECT = IMAGE
/* MAP OBJECT DEFINITIONS */
OBJECT = IMAGE_MAP_PROJECTION
  ^DATA_SET_MAP_PROJECTION_CATALOG= "DSMAP.CAT"
  A_AXIS_RADIUS = 3396.0
  B_AXIS_RADIUS = 3396.0
  C_AXIS_RADIUS = 3396.0
  CENTER_LATITUDE = 0.0
  CENTER_LONGITUDE = 229.0
  COORDINATE_SYSTEM_NAME = PLANETOGRAPHIC
  COORDINATE_SYSTEM_TYPE = "BODY-FIXED ROTATING"
  EASTERNMOST_LONGITUDE = 231.393
  FIRST_STANDARD_PARALLEL = "N/A"
  LINE_FIRST_PIXEL = 1
  LINE_LAST_PIXEL = 18320
  LINE_PROJECTION_OFFSET = 82631.125
  MAP_PROJECTION_ROTATION = 0.0
  MAP_PROJECTION_TYPE = SINUSOIDAL
  MAP_RESOLUTION = 1185.42760773333
  MAP_SCALE = 0.05
  MAXIMUM_LATITUDE = 69.6713
  MINIMUM_LATITUDE = 54.2682
  POSITIVE_LONGITUDE_DIRECTION = EAST
  REFERENCE_LATITUDE = "N/A"
  REFERENCE_LONGITUDE = "N/A"
  SAMPLE_FIRST_PIXEL = 1
  SAMPLE_LAST_PIXEL = 3199
  SAMPLE_PROJECTION_OFFSET = 1566.125
  SECOND_STANDARD_PARALLEL = "N/A"
  WESTERNMOST_LONGITUDE = 225.25
END_OBJECT = IMAGE_MAP_PROJECTION
END
