PDS_VERSION_ID = PDS3
/* FILE DATA ELEMENTS */
RECORD_TYPE = UNDEFINED
/* POINTERS TO DATA OBJECTS */
^IMAGE = ("HO299_0000_P24.TIF")
/* IDENTIFICATION DATA ELEMENTS */
DATA_SET_ID = "MEX-M-HRSC-4-REFDR-MAPPROJECT-EXT9-V4.0"
DATA_SET_NAME = "MARS EXPRESS HRSC MAP PROJECTED REFDR EXTENSION9 V4.0"
DETECTOR_ID = MEX_HRSC_P2
EVENT_TYPE = "MARS-REGIONAL-MAPPING-Vo-Gl-Pf"
INSTRUMENT_HOST_ID = MEX
INSTRUMENT_HOST_NAME = "MARS EXPRESS"
INSTRUMENT_ID = HRSC
INSTRUMENT_NAME = "HIGH RESOLUTION STEREO CAMERA"
MISSION_NAME = "MARS EXPRESS"
MISSION_PHASE_NAME = ME_Phase_47
PROCESSING_LEVEL_ID = 4
PRODUCT_CREATION_TIME = 2023-11-15T01:26:02.000Z
PRODUCT_ID = "HO299_0000_P24.TIF"
RELEASE_ID = 0003
REVISION_ID = 0000
/* QUALITY DATA ELEMENTS */
DATA_QUALITY_ID = 1
DATA_QUALITY_DESC = "Data calculated based on original SPICE kernels"
/* TIME DATA ELEMENTS */
SPACECRAFT_CLOCK_START_COUNT = "1/0628210279.25672"
SPACECRAFT_CLOCK_STOP_COUNT = "1/0628210601.47118"
START_TIME = 2023-03-29T22:52:59.493Z
STOP_TIME = 2023-03-29T22:57:01.972Z
/* ORBITAL DATA ELEMENTS */
ASCENDING_NODE_LONGITUDE = 122.21
MAXIMUM_RESOLUTION = 0.0332 <m/pixel>
FOOTPRINT_POINT_LATITUDE = (69.6245,69.5846,69.5159,69.4619, 69.4599,69.5413,69.2356,68.7771,68.4711 ,68.1651,67.7062,67.3999,67.0936,66.634 ,66.1749,65.8685,65.5623,65.1028, 64.7966,64.4906,64.0313,63.5723,63.2663 ,62.9606,62.6548,62.3491,62.0437, 61.7382,61.433,61.1278,60.6704,60.3657, 60.0611,59.6044,59.3005,58.8447,58.541, 58.2376,57.9345,57.6315,57.3289,57.0266 ,56.5735,56.1206,55.5181,54.9169, 54.4566,54.3026,54.2592,54.2775,54.3009 ,54.3271,54.3275,54.3282,54.6374, 54.9462,55.5499,56.155,56.458,56.7611, 57.0646,57.3684,57.6726,57.977,58.2817, 58.5866,58.8917,59.1971,59.5027,59.9615 ,60.2675,60.574,60.8806,61.1872,61.4941 ,61.9551,62.2625,62.57,62.8777,63.1856, 63.4935,63.8016,64.2644,64.5729,64.8814 ,65.3444,65.6533,65.9622,66.2716, 66.5805,66.8895,67.1985,67.508,67.9722, 68.2813,68.7448,69.2093,69.519,69.6736, 69.6245)
FOOTPRINT_POINT_LONGITUDE = (229.291,228.151,226.527,225.436, 225.398,225.234,225.375,225.578,225.708 ,225.834,226.014,226.13,226.242,226.404 ,226.557,226.656,226.752,226.89,226.978 ,227.064,227.188,227.306,227.382, 227.456,227.527,227.597,227.664,227.73, 227.793,227.855,227.945,228.002,228.058 ,228.139,228.19,228.265,228.314,228.361 ,228.406,228.45,228.493,228.535,228.595 ,228.653,228.727,228.796,228.846, 228.862,228.867,229.402,230.206,231.352 ,231.377,231.385,231.365,231.344, 231.302,231.258,231.235,231.211,231.187 ,231.163,231.138,231.112,231.086, 231.059,231.031,231.002,230.973,230.928 ,230.897,230.865,230.833,230.799, 230.765,230.712,230.675,230.637,230.598 ,230.559,230.518,230.476,230.411, 230.366,230.319,230.247,230.198,230.147 ,230.094,230.04,229.984,229.926,229.867 ,229.774,229.71,229.609,229.504,229.431 ,229.394,229.291)
ORBIT_NUMBER = 24299
ORBITAL_ECCENTRICITY = 0.569
ORBITAL_INCLINATION = 87.08
ORBITAL_SEMIMAJOR_AXIS = 8773.6
PERIAPSIS_ALTITUDE = 399.75
PERIAPSIS_ARGUMENT_ANGLE = 117.78
PERIAPSIS_TIME = 2023-03-29T22:54:33.000Z
SPACECRAFT_ORIENTATION = (0.0,-1.0,0.0)
^MEX_ORIENTATION_DESC = "MEX_ORIENTATION_DESC.TXT"
SPACECRAFT_POINTING_MODE = NADIR
^MEX_POINTING_DESC = "MEX_POINTING_DESC.TXT"
RIGHT_ASCENSION = -1e+32
DECLINATION = -1e+32
OFFSET_ANGLE = -1e+32
SPACECRAFT_SOLAR_DISTANCE = 2.46409e+08
TARGET_NAME = MARS
/* CAMERA DATA ELEMENTS */
DETECTOR_TEMPERATURE = 19.1861 <degC>
FOCAL_PLANE_TEMPERATURE = 9.6028 <degC>
INST_CMPRS_NAME = "DISCRETE COSINE TRANSFORMATION (DCT)"
INST_CMPRS_RATIO = 8.22184
INST_CMPRS_QUALITY = 0
INST_CMPRS_QUANTZ_TBL_ID = 0
INSTRUMENT_TEMPERATURE = 12.0496 <degC>
LENS_TEMPERATURE = 10.6223 <degC>
MACROPIXEL_SIZE = 2
MISSING_FRAMES = 0
PIXEL_SUBSAMPLING_FLAG = N
SIGNAL_CHAIN_ID = 3
/* RADIOMETRIC DATA ELEMENTS */
BANDWIDTH = 177.0 <nm>
CENTER_FILTER_WAVELENGTH = 676.5 <nm>
RADIANCE_OFFSET = 3.05781 <W*m**-2*sr**-1>
RADIANCE_SCALING_FACTOR = 0.0214392 <W*m**-2*sr**-1>
REFLECTANCE_SCALING_FACTOR = 0.000690207
MEX:REFLECTANCE_OFFSET = 0.0984423
/* IMAGE OBJECT DEFINITIONS */
OBJECT = IMAGE
  INTERCHANGE_FORMAT = BINARY
  LINES = 36639
  LINE_SAMPLES = 6397
  SAMPLE_TYPE = UNSIGNED_INTEGER
  SAMPLE_BITS = 8
  BANDS = 1
  BAND_STORAGE_TYPE = BAND_SEQUENTIAL
  MAXIMUM = 255
  MEAN = 124.686
  MINIMUM = 1
  STANDARD_DEVIATION = 33.5843
END_OBJECT = IMAGE
/* MAP OBJECT DEFINITIONS */
OBJECT = IMAGE_MAP_PROJECTION
  ^DATA_SET_MAP_PROJECTION_CATALOG= "DSMAP.CAT"
  A_AXIS_RADIUS = 3396.0 <km>
  B_AXIS_RADIUS = 3396.0 <km>
  C_AXIS_RADIUS = 3396.0 <km>
  CENTER_LATITUDE = 0.0
  CENTER_LONGITUDE = 229.0
  COORDINATE_SYSTEM_NAME = PLANETOGRAPHIC
  COORDINATE_SYSTEM_TYPE = "BODY-FIXED ROTATING"
  EASTERNMOST_LONGITUDE = 231.385
  FIRST_STANDARD_PARALLEL = "N/A"
  LINE_FIRST_PIXEL = 1
  LINE_LAST_PIXEL = 36639
  LINE_PROJECTION_OFFSET = 165262.75
  MAP_PROJECTION_ROTATION = 0.0
  MAP_PROJECTION_TYPE = SINUSOIDAL
  MAP_RESOLUTION = 2370.85521546667 <pixel/degree>
  MAP_SCALE = 0.025 <km/pixel>
  MAXIMUM_LATITUDE = 69.67359999999999
  MINIMUM_LATITUDE = 54.2592
  POSITIVE_LONGITUDE_DIRECTION = EAST
  REFERENCE_LATITUDE = "N/A"
  REFERENCE_LONGITUDE = "N/A"
  SAMPLE_FIRST_PIXEL = 1
  SAMPLE_LAST_PIXEL = 6397
  SAMPLE_PROJECTION_OFFSET = 3132.75
  SECOND_STANDARD_PARALLEL = "N/A"
  WESTERNMOST_LONGITUDE = 225.234
END_OBJECT = IMAGE_MAP_PROJECTION
END
